BEGIN:VCALENDAR
VERSION:2.0
PRODID:EVENTFROG//EVENTGROUP//ICAL
BEGIN:VEVENT
UID:20260424T124813Z-7453366552135511904@eventfrog.at
DTSTAMP:20260424T124813Z
DTSTART:20260505T120000Z
DTEND:20260505T153000Z
SUMMARY:Dalbe Dyych
DESCRIPTION:Jeweils am Dienstag entdecken wir mit den Kindern ab 5 Jahren den Naturraum am Dalbe Dyych im Lehenmattquartier, Treffpunkt ist am Spielplatz St. Albanteich.\n\nhttps://eventfrog.at/de/p/kinderveranstaltungen/familienveranstaltungen/dalbe-dyych-7453366552135511904.html
LOCATION:St. Albanteich Spielplatz
GEO:47.546778;7.619958
URL:https://eventfrog.at/de/p/kinderveranstaltungen/familienveranstaltungen/dalbe-dyych-7453366552135511904.html
END:VEVENT
BEGIN:VEVENT
UID:20260424T124813Z-7453366622037785012@eventfrog.at
DTSTAMP:20260424T124813Z
DTSTART:20260505T120000Z
DTEND:20260505T153000Z
SUMMARY:Dalbe Dyych
DESCRIPTION:Jeweils am Dienstag entdecken wir mit den Kindern ab 5 Jahren den Naturraum am Dalbe Dyych im Lehenmattquartier, Treffpunkt ist am Spielplatz St. Albanteich.\n\nhttps://eventfrog.at/de/p/kinderveranstaltungen/familienveranstaltungen/dalbe-dyych-7453366622037785012.html
LOCATION:St. Albanteich Spielplatz
GEO:47.546778;7.619958
URL:https://eventfrog.at/de/p/kinderveranstaltungen/familienveranstaltungen/dalbe-dyych-7453366622037785012.html
END:VEVENT
BEGIN:VEVENT
UID:20260424T124813Z-7453366622268472358@eventfrog.at
DTSTAMP:20260424T124813Z
DTSTART:20260512T120000Z
DTEND:20260512T153000Z
SUMMARY:Dalbe Dyych
DESCRIPTION:Jeweils am Dienstag entdecken wir mit den Kindern ab 5 Jahren den Naturraum am Dalbe Dyych im Lehenmattquartier, Treffpunkt ist am Spielplatz St. Albanteich.\n\nhttps://eventfrog.at/de/p/kinderveranstaltungen/familienveranstaltungen/dalbe-dyych-7453366622268472358.html
LOCATION:St. Albanteich Spielplatz
GEO:47.546778;7.619958
URL:https://eventfrog.at/de/p/kinderveranstaltungen/familienveranstaltungen/dalbe-dyych-7453366622268472358.html
END:VEVENT
BEGIN:VEVENT
UID:20260424T124813Z-7453366622398495849@eventfrog.at
DTSTAMP:20260424T124813Z
DTSTART:20260519T120000Z
DTEND:20260519T153000Z
SUMMARY:Dalbe Dyych
DESCRIPTION:Jeweils am Dienstag entdecken wir mit den Kindern ab 5 Jahren den Naturraum am Dalbe Dyych im Lehenmattquartier, Treffpunkt ist am Spielplatz St. Albanteich.\n\nhttps://eventfrog.at/de/p/kinderveranstaltungen/familienveranstaltungen/dalbe-dyych-7453366622398495849.html
LOCATION:St. Albanteich Spielplatz
GEO:47.546778;7.619958
URL:https://eventfrog.at/de/p/kinderveranstaltungen/familienveranstaltungen/dalbe-dyych-7453366622398495849.html
END:VEVENT
BEGIN:VEVENT
UID:20260424T124813Z-7453366622562073731@eventfrog.at
DTSTAMP:20260424T124813Z
DTSTART:20260526T120000Z
DTEND:20260526T153000Z
SUMMARY:Dalbe Dyych
DESCRIPTION:Jeweils am Dienstag entdecken wir mit den Kindern ab 5 Jahren den Naturraum am Dalbe Dyych im Lehenmattquartier, Treffpunkt ist am Spielplatz St. Albanteich.\n\nhttps://eventfrog.at/de/p/kinderveranstaltungen/familienveranstaltungen/dalbe-dyych-7453366622562073731.html
LOCATION:St. Albanteich Spielplatz
GEO:47.546778;7.619958
URL:https://eventfrog.at/de/p/kinderveranstaltungen/familienveranstaltungen/dalbe-dyych-7453366622562073731.html
END:VEVENT
BEGIN:VEVENT
UID:20260424T124813Z-7453366622687902853@eventfrog.at
DTSTAMP:20260424T124813Z
DTSTART:20260602T120000Z
DTEND:20260602T153000Z
SUMMARY:Dalbe Dyych
DESCRIPTION:Jeweils am Dienstag entdecken wir mit den Kindern ab 5 Jahren den Naturraum am Dalbe Dyych im Lehenmattquartier, Treffpunkt ist am Spielplatz St. Albanteich.\n\nhttps://eventfrog.at/de/p/kinderveranstaltungen/familienveranstaltungen/dalbe-dyych-7453366622687902853.html
LOCATION:St. Albanteich Spielplatz
GEO:47.546778;7.619958
URL:https://eventfrog.at/de/p/kinderveranstaltungen/familienveranstaltungen/dalbe-dyych-7453366622687902853.html
END:VEVENT
BEGIN:VEVENT
UID:20260424T124813Z-7453366622847286407@eventfrog.at
DTSTAMP:20260424T124813Z
DTSTART:20260609T120000Z
DTEND:20260609T153000Z
SUMMARY:Dalbe Dyych
DESCRIPTION:Jeweils am Dienstag entdecken wir mit den Kindern ab 5 Jahren den Naturraum am Dalbe Dyych im Lehenmattquartier, Treffpunkt ist am Spielplatz St. Albanteich.\n\nhttps://eventfrog.at/de/p/kinderveranstaltungen/familienveranstaltungen/dalbe-dyych-7453366622847286407.html
LOCATION:St. Albanteich Spielplatz
GEO:47.546778;7.619958
URL:https://eventfrog.at/de/p/kinderveranstaltungen/familienveranstaltungen/dalbe-dyych-7453366622847286407.html
END:VEVENT
BEGIN:VEVENT
UID:20260424T124813Z-7453366622985698541@eventfrog.at
DTSTAMP:20260424T124813Z
DTSTART:20260616T120000Z
DTEND:20260616T153000Z
SUMMARY:Dalbe Dyych
DESCRIPTION:Jeweils am Dienstag entdecken wir mit den Kindern ab 5 Jahren den Naturraum am Dalbe Dyych im Lehenmattquartier, Treffpunkt ist am Spielplatz St. Albanteich.\n\nhttps://eventfrog.at/de/p/kinderveranstaltungen/familienveranstaltungen/dalbe-dyych-7453366622985698541.html
LOCATION:St. Albanteich Spielplatz
GEO:47.546778;7.619958
URL:https://eventfrog.at/de/p/kinderveranstaltungen/familienveranstaltungen/dalbe-dyych-7453366622985698541.html
END:VEVENT
BEGIN:VEVENT
UID:20260424T124813Z-7453366623103139056@eventfrog.at
DTSTAMP:20260424T124813Z
DTSTART:20260623T120000Z
DTEND:20260623T153000Z
SUMMARY:Dalbe Dyych
DESCRIPTION:Jeweils am Dienstag entdecken wir mit den Kindern ab 5 Jahren den Naturraum am Dalbe Dyych im Lehenmattquartier, Treffpunkt ist am Spielplatz St. Albanteich.\n\nhttps://eventfrog.at/de/p/kinderveranstaltungen/familienveranstaltungen/dalbe-dyych-7453366623103139056.html
LOCATION:St. Albanteich Spielplatz
GEO:47.546778;7.619958
URL:https://eventfrog.at/de/p/kinderveranstaltungen/familienveranstaltungen/dalbe-dyych-7453366623103139056.html
END:VEVENT
END:VCALENDAR