BEGIN:VCALENDAR
VERSION:2.0
PRODID:EVENTFROG//EVENTGROUP//ICAL
BEGIN:VEVENT
UID:20260423T104452Z-7452709014515769607@eventfrog.at
DTSTAMP:20260423T104452Z
DTSTART:20260812T143000Z
SUMMARY:Zirkus Chnopf - UFE
DESCRIPTION:UFE ist die neuste Produktion vom Zirkus Chnopf mit 5 Profis und 5 Jugendlichen und jungen Artist:innen zwischen 14 und 23 - unter freiem Himmel.\n\nhttps://eventfrog.at/de/p/musicals-shows/zirkus/zirkus-chnopf-ufe-7452709014515769607.html
LOCATION:Rosentalanlage
GEO:47.563880;7.602863
URL:https://eventfrog.at/de/p/musicals-shows/zirkus/zirkus-chnopf-ufe-7452709014515769607.html
END:VEVENT
BEGIN:VEVENT
UID:20260423T104452Z-7452710182532983662@eventfrog.at
DTSTAMP:20260423T104452Z
DTSTART:20260814T173000Z
SUMMARY:Zirkus Chnopf - UFE
DESCRIPTION:UFE ist die neuste Produktion vom Zirkus Chnopf mit 5 Profis und 5 Jugendlichen und jungen Artist:innen zwischen 14 und 23 - unter freiem Himmel.\n\nhttps://eventfrog.at/de/p/musicals-shows/zirkus/zirkus-chnopf-ufe-7452710182532983662.html
LOCATION:Rosentalanlage
GEO:47.563880;7.602863
URL:https://eventfrog.at/de/p/musicals-shows/zirkus/zirkus-chnopf-ufe-7452710182532983662.html
END:VEVENT
BEGIN:VEVENT
UID:20260423T104452Z-7452710337634156357@eventfrog.at
DTSTAMP:20260423T104452Z
DTSTART:20260815T160000Z
SUMMARY:Zirkus Chnopf - UFE
DESCRIPTION:UFE ist die neuste Produktion vom Zirkus Chnopf mit 5 Profis und 5 Jugendlichen und jungen Artist:innen zwischen 14 und 23 - unter freiem Himmel.\n\nhttps://eventfrog.at/de/p/musicals-shows/zirkus/zirkus-chnopf-ufe-7452710337634156357.html
LOCATION:Rosentalanlage
GEO:47.563880;7.602863
URL:https://eventfrog.at/de/p/musicals-shows/zirkus/zirkus-chnopf-ufe-7452710337634156357.html
END:VEVENT
BEGIN:VEVENT
UID:20260423T104452Z-7452710447147441048@eventfrog.at
DTSTAMP:20260423T104452Z
DTSTART:20260816T143000Z
SUMMARY:Zirkus Chnopf - UFE
DESCRIPTION:UFE ist die neuste Produktion vom Zirkus Chnopf mit 5 Profis und 5 Jugendlichen und jungen Artist:innen zwischen 14 und 23 - unter freiem Himmel.\n\nhttps://eventfrog.at/de/p/musicals-shows/zirkus/zirkus-chnopf-ufe-7452710447147441048.html
LOCATION:Rosentalanlage
GEO:47.563880;7.602863
URL:https://eventfrog.at/de/p/musicals-shows/zirkus/zirkus-chnopf-ufe-7452710447147441048.html
END:VEVENT
END:VCALENDAR