BEGIN:VCALENDAR
VERSION:2.0
PRODID:EVENTFROG//EVENTGROUP//ICAL
BEGIN:VEVENT
UID:20260422T055820Z-7439081783897886951@eventfrog.at
DTSTAMP:20260422T055820Z
DTSTART:20260422T170000Z
SUMMARY:Küfa/Vokü
DESCRIPTION:Vegetarisches Essen für alle.\n\nhttps://eventfrog.at/de/p/diverses/kuefa-vokue-7439081783897886951.html
LOCATION:Rümpeltum
GEO:47.435662;9.394402
URL:https://eventfrog.at/de/p/diverses/kuefa-vokue-7439081783897886951.html
END:VEVENT
BEGIN:VEVENT
UID:20260422T055820Z-7439081784099213544@eventfrog.at
DTSTAMP:20260422T055820Z
DTSTART:20260429T170000Z
SUMMARY:Küfa/Vokü
DESCRIPTION:Vegetarisches Essen für alle.\n\nhttps://eventfrog.at/de/p/diverses/kuefa-vokue-7439081784099213544.html
LOCATION:Rümpeltum
GEO:47.435662;9.394402
URL:https://eventfrog.at/de/p/diverses/kuefa-vokue-7439081784099213544.html
END:VEVENT
BEGIN:VEVENT
UID:20260422T055820Z-7451751612253477507@eventfrog.at
DTSTAMP:20260422T055820Z
DTSTART:20260506T170000Z
SUMMARY:Küfa/Vokü
DESCRIPTION:Vegetarisches Essen für alle.\n\nhttps://eventfrog.at/de/p/diverses/kuefa-vokue-7451751612253477507.html
LOCATION:Rümpeltum
GEO:47.435662;9.394402
URL:https://eventfrog.at/de/p/diverses/kuefa-vokue-7451751612253477507.html
END:VEVENT
BEGIN:VEVENT
UID:20260422T055820Z-7451751612425443972@eventfrog.at
DTSTAMP:20260422T055820Z
DTSTART:20260513T170000Z
SUMMARY:Küfa/Vokü
DESCRIPTION:Vegetarisches Essen für alle.\n\nhttps://eventfrog.at/de/p/diverses/kuefa-vokue-7451751612425443972.html
LOCATION:Rümpeltum
GEO:47.435662;9.394402
URL:https://eventfrog.at/de/p/diverses/kuefa-vokue-7451751612425443972.html
END:VEVENT
BEGIN:VEVENT
UID:20260422T055820Z-7451751612597410438@eventfrog.at
DTSTAMP:20260422T055820Z
DTSTART:20260520T170000Z
SUMMARY:Küfa/Vokü
DESCRIPTION:Vegetarisches Essen für alle.\n\nhttps://eventfrog.at/de/p/diverses/kuefa-vokue-7451751612597410438.html
LOCATION:Rümpeltum
GEO:47.435662;9.394402
URL:https://eventfrog.at/de/p/diverses/kuefa-vokue-7451751612597410438.html
END:VEVENT
BEGIN:VEVENT
UID:20260422T055820Z-7451751612773571207@eventfrog.at
DTSTAMP:20260422T055820Z
DTSTART:20260527T170000Z
SUMMARY:Küfa/Vokü
DESCRIPTION:Vegetarisches Essen für alle.\n\nhttps://eventfrog.at/de/p/diverses/kuefa-vokue-7451751612773571207.html
LOCATION:Rümpeltum
GEO:47.435662;9.394402
URL:https://eventfrog.at/de/p/diverses/kuefa-vokue-7451751612773571207.html
END:VEVENT
END:VCALENDAR