BEGIN:VCALENDAR
VERSION:2.0
PRODID:EVENTFROG//EVENTGROUP//ICAL
BEGIN:VEVENT
UID:20260422T113302Z-7452262793531677551@eventfrog.at
DTSTAMP:20260422T113302Z
DTSTART:20260430T120000Z
DTEND:20260430T160000Z
SUMMARY:Franziska Zumbach - Kerala Sari & Co.
DESCRIPTION:Franziska Zumbach zeigt ihre neuen Arbeiten.\n\nhttps://eventfrog.at/de/p/kunst-ausstellungen/ausstellung/franziska-zumbach-kerala-sari-co-7452262793531677551.html
LOCATION:Galerie Carla Renggli
GEO:47.165660;8.514703
URL:https://eventfrog.at/de/p/kunst-ausstellungen/ausstellung/franziska-zumbach-kerala-sari-co-7452262793531677551.html
END:VEVENT
BEGIN:VEVENT
UID:20260422T113302Z-7452262883713415167@eventfrog.at
DTSTAMP:20260422T113302Z
DTSTART:20260501T120000Z
DTEND:20260501T160000Z
SUMMARY:Franziska Zumbach - Kerala Sari & Co.
DESCRIPTION:Franziska Zumbach zeigt ihre neuen Arbeiten.\n\nhttps://eventfrog.at/de/p/kunst-ausstellungen/ausstellung/franziska-zumbach-kerala-sari-co-7452262883713415167.html
LOCATION:Galerie Carla Renggli
GEO:47.165660;8.514703
URL:https://eventfrog.at/de/p/kunst-ausstellungen/ausstellung/franziska-zumbach-kerala-sari-co-7452262883713415167.html
END:VEVENT
BEGIN:VEVENT
UID:20260422T113302Z-7452262884074125836@eventfrog.at
DTSTAMP:20260422T113302Z
DTSTART:20260502T080000Z
DTEND:20260502T140000Z
SUMMARY:Franziska Zumbach - Kerala Sari & Co.
DESCRIPTION:Franziska Zumbach zeigt ihre neuen Arbeiten.\n\nhttps://eventfrog.at/de/p/kunst-ausstellungen/ausstellung/franziska-zumbach-kerala-sari-co-7452262884074125836.html
LOCATION:Galerie Carla Renggli
GEO:47.165660;8.514703
URL:https://eventfrog.at/de/p/kunst-ausstellungen/ausstellung/franziska-zumbach-kerala-sari-co-7452262884074125836.html
END:VEVENT
BEGIN:VEVENT
UID:20260422T113302Z-7452262884225120878@eventfrog.at
DTSTAMP:20260422T113302Z
DTSTART:20260507T120000Z
DTEND:20260507T160000Z
SUMMARY:Franziska Zumbach - Kerala Sari & Co.
DESCRIPTION:Franziska Zumbach zeigt ihre neuen Arbeiten.\n\nhttps://eventfrog.at/de/p/kunst-ausstellungen/ausstellung/franziska-zumbach-kerala-sari-co-7452262884225120878.html
LOCATION:Galerie Carla Renggli
GEO:47.165660;8.514703
URL:https://eventfrog.at/de/p/kunst-ausstellungen/ausstellung/franziska-zumbach-kerala-sari-co-7452262884225120878.html
END:VEVENT
BEGIN:VEVENT
UID:20260422T113302Z-7452262884413864602@eventfrog.at
DTSTAMP:20260422T113302Z
DTSTART:20260508T120000Z
DTEND:20260508T160000Z
SUMMARY:Franziska Zumbach - Kerala Sari & Co.
DESCRIPTION:Franziska Zumbach zeigt ihre neuen Arbeiten.\n\nhttps://eventfrog.at/de/p/kunst-ausstellungen/ausstellung/franziska-zumbach-kerala-sari-co-7452262884413864602.html
LOCATION:Galerie Carla Renggli
GEO:47.165660;8.514703
URL:https://eventfrog.at/de/p/kunst-ausstellungen/ausstellung/franziska-zumbach-kerala-sari-co-7452262884413864602.html
END:VEVENT
BEGIN:VEVENT
UID:20260422T113302Z-7452262884590025615@eventfrog.at
DTSTAMP:20260422T113302Z
DTSTART:20260509T080000Z
DTEND:20260509T140000Z
SUMMARY:Franziska Zumbach - Kerala Sari & Co.
DESCRIPTION:Franziska Zumbach zeigt ihre neuen Arbeiten.\n\nhttps://eventfrog.at/de/p/kunst-ausstellungen/ausstellung/franziska-zumbach-kerala-sari-co-7452262884590025615.html
LOCATION:Galerie Carla Renggli
GEO:47.165660;8.514703
URL:https://eventfrog.at/de/p/kunst-ausstellungen/ausstellung/franziska-zumbach-kerala-sari-co-7452262884590025615.html
END:VEVENT
BEGIN:VEVENT
UID:20260422T113302Z-7452262884757797779@eventfrog.at
DTSTAMP:20260422T113302Z
DTSTART:20260514T120000Z
DTEND:20260514T160000Z
SUMMARY:Franziska Zumbach - Kerala Sari & Co.
DESCRIPTION:Franziska Zumbach zeigt ihre neuen Arbeiten.\n\nhttps://eventfrog.at/de/p/kunst-ausstellungen/ausstellung/franziska-zumbach-kerala-sari-co-7452262884757797779.html
LOCATION:Galerie Carla Renggli
GEO:47.165660;8.514703
URL:https://eventfrog.at/de/p/kunst-ausstellungen/ausstellung/franziska-zumbach-kerala-sari-co-7452262884757797779.html
END:VEVENT
BEGIN:VEVENT
UID:20260422T113302Z-7452262884980095893@eventfrog.at
DTSTAMP:20260422T113302Z
DTSTART:20260515T120000Z
DTEND:20260515T160000Z
SUMMARY:Franziska Zumbach - Kerala Sari & Co.
DESCRIPTION:Franziska Zumbach zeigt ihre neuen Arbeiten.\n\nhttps://eventfrog.at/de/p/kunst-ausstellungen/ausstellung/franziska-zumbach-kerala-sari-co-7452262884980095893.html
LOCATION:Galerie Carla Renggli
GEO:47.165660;8.514703
URL:https://eventfrog.at/de/p/kunst-ausstellungen/ausstellung/franziska-zumbach-kerala-sari-co-7452262884980095893.html
END:VEVENT
BEGIN:VEVENT
UID:20260422T113302Z-7452262885152062439@eventfrog.at
DTSTAMP:20260422T113302Z
DTSTART:20260516T080000Z
DTEND:20260516T140000Z
SUMMARY:Franziska Zumbach - Kerala Sari & Co.
DESCRIPTION:Franziska Zumbach zeigt ihre neuen Arbeiten.\n\nhttps://eventfrog.at/de/p/kunst-ausstellungen/ausstellung/franziska-zumbach-kerala-sari-co-7452262885152062439.html
LOCATION:Galerie Carla Renggli
GEO:47.165660;8.514703
URL:https://eventfrog.at/de/p/kunst-ausstellungen/ausstellung/franziska-zumbach-kerala-sari-co-7452262885152062439.html
END:VEVENT
BEGIN:VEVENT
UID:20260422T113302Z-7452262885307251689@eventfrog.at
DTSTAMP:20260422T113302Z
DTSTART:20260521T120000Z
DTEND:20260521T160000Z
SUMMARY:Franziska Zumbach - Kerala Sari & Co.
DESCRIPTION:Franziska Zumbach zeigt ihre neuen Arbeiten.\n\nhttps://eventfrog.at/de/p/kunst-ausstellungen/ausstellung/franziska-zumbach-kerala-sari-co-7452262885307251689.html
LOCATION:Galerie Carla Renggli
GEO:47.165660;8.514703
URL:https://eventfrog.at/de/p/kunst-ausstellungen/ausstellung/franziska-zumbach-kerala-sari-co-7452262885307251689.html
END:VEVENT
END:VCALENDAR