BEGIN:VCALENDAR
VERSION:2.0
PRODID:EVENTFROG//EVENTGROUP//ICAL
BEGIN:VEVENT
UID:20260422T113304Z-7452253080119196130@eventfrog.at
DTSTAMP:20260422T113304Z
DTSTART:20261016T160000Z
DTEND:20261016T200000Z
SUMMARY:Metzgete Hütten Zug
DESCRIPTION:Die legendären Metzgete-Wochen des ehemaligen Bären. Das war nichts für halbherzige Esser.\n\n\nhttps://eventfrog.at/de/p/essen-trinken/metzgete-huetten-zug-7452253080119196130.html
LOCATION:aigu Restaurant & Bar
GEO:47.172359;8.518966
URL:https://eventfrog.at/de/p/essen-trinken/metzgete-huetten-zug-7452253080119196130.html
END:VEVENT
BEGIN:VEVENT
UID:20260422T113304Z-7452253106765612099@eventfrog.at
DTSTAMP:20260422T113304Z
DTSTART:20261017T160000Z
DTEND:20261017T200000Z
SUMMARY:Metzgete Hütten Zug
DESCRIPTION:Die legendären Metzgete-Wochen des ehemaligen Bären. Das war nichts für halbherzige Esser.\n\n\nhttps://eventfrog.at/de/p/essen-trinken/metzgete-huetten-zug-7452253106765612099.html
LOCATION:aigu Restaurant & Bar
GEO:47.172359;8.518966
URL:https://eventfrog.at/de/p/essen-trinken/metzgete-huetten-zug-7452253106765612099.html
END:VEVENT
BEGIN:VEVENT
UID:20260422T113304Z-7452253106920801373@eventfrog.at
DTSTAMP:20260422T113304Z
DTSTART:20261020T160000Z
DTEND:20261020T200000Z
SUMMARY:Metzgete Hütten Zug
DESCRIPTION:Die legendären Metzgete-Wochen des ehemaligen Bären. Das war nichts für halbherzige Esser.\n\n\nhttps://eventfrog.at/de/p/essen-trinken/metzgete-huetten-zug-7452253106920801373.html
LOCATION:aigu Restaurant & Bar
GEO:47.172359;8.518966
URL:https://eventfrog.at/de/p/essen-trinken/metzgete-huetten-zug-7452253106920801373.html
END:VEVENT
BEGIN:VEVENT
UID:20260422T113304Z-7452253107050824799@eventfrog.at
DTSTAMP:20260422T113304Z
DTSTART:20261021T160000Z
DTEND:20261021T200000Z
SUMMARY:Metzgete Hütten Zug
DESCRIPTION:Die legendären Metzgete-Wochen des ehemaligen Bären. Das war nichts für halbherzige Esser.\n\n\nhttps://eventfrog.at/de/p/essen-trinken/metzgete-huetten-zug-7452253107050824799.html
LOCATION:aigu Restaurant & Bar
GEO:47.172359;8.518966
URL:https://eventfrog.at/de/p/essen-trinken/metzgete-huetten-zug-7452253107050824799.html
END:VEVENT
BEGIN:VEVENT
UID:20260422T113304Z-7452253107231179873@eventfrog.at
DTSTAMP:20260422T113304Z
DTSTART:20261022T160000Z
DTEND:20261022T200000Z
SUMMARY:Metzgete Hütten Zug
DESCRIPTION:Die legendären Metzgete-Wochen des ehemaligen Bären. Das war nichts für halbherzige Esser.\n\n\nhttps://eventfrog.at/de/p/essen-trinken/metzgete-huetten-zug-7452253107231179873.html
LOCATION:aigu Restaurant & Bar
GEO:47.172359;8.518966
URL:https://eventfrog.at/de/p/essen-trinken/metzgete-huetten-zug-7452253107231179873.html
END:VEVENT
BEGIN:VEVENT
UID:20260422T113304Z-7452253107377980596@eventfrog.at
DTSTAMP:20260422T113304Z
DTSTART:20261023T160000Z
DTEND:20261023T200000Z
SUMMARY:Metzgete Hütten Zug
DESCRIPTION:Die legendären Metzgete-Wochen des ehemaligen Bären. Das war nichts für halbherzige Esser.\n\n\nhttps://eventfrog.at/de/p/essen-trinken/metzgete-huetten-zug-7452253107377980596.html
LOCATION:aigu Restaurant & Bar
GEO:47.172359;8.518966
URL:https://eventfrog.at/de/p/essen-trinken/metzgete-huetten-zug-7452253107377980596.html
END:VEVENT
BEGIN:VEVENT
UID:20260422T113304Z-7452253107512198331@eventfrog.at
DTSTAMP:20260422T113304Z
DTSTART:20261024T160000Z
DTEND:20261024T200000Z
SUMMARY:Metzgete Hütten Zug
DESCRIPTION:Die legendären Metzgete-Wochen des ehemaligen Bären. Das war nichts für halbherzige Esser.\n\n\nhttps://eventfrog.at/de/p/essen-trinken/metzgete-huetten-zug-7452253107512198331.html
LOCATION:aigu Restaurant & Bar
GEO:47.172359;8.518966
URL:https://eventfrog.at/de/p/essen-trinken/metzgete-huetten-zug-7452253107512198331.html
END:VEVENT
BEGIN:VEVENT
UID:20260422T113304Z-7452253107654804669@eventfrog.at
DTSTAMP:20260422T113304Z
DTSTART:20261027T170000Z
DTEND:20261027T210000Z
SUMMARY:Metzgete Hütten Zug
DESCRIPTION:Die legendären Metzgete-Wochen des ehemaligen Bären. Das war nichts für halbherzige Esser.\n\n\nhttps://eventfrog.at/de/p/essen-trinken/metzgete-huetten-zug-7452253107654804669.html
LOCATION:aigu Restaurant & Bar
GEO:47.172359;8.518966
URL:https://eventfrog.at/de/p/essen-trinken/metzgete-huetten-zug-7452253107654804669.html
END:VEVENT
BEGIN:VEVENT
UID:20260422T113304Z-7452253107801605311@eventfrog.at
DTSTAMP:20260422T113304Z
DTSTART:20261028T170000Z
DTEND:20261028T210000Z
SUMMARY:Metzgete Hütten Zug
DESCRIPTION:Die legendären Metzgete-Wochen des ehemaligen Bären. Das war nichts für halbherzige Esser.\n\n\nhttps://eventfrog.at/de/p/essen-trinken/metzgete-huetten-zug-7452253107801605311.html
LOCATION:aigu Restaurant & Bar
GEO:47.172359;8.518966
URL:https://eventfrog.at/de/p/essen-trinken/metzgete-huetten-zug-7452253107801605311.html
END:VEVENT
BEGIN:VEVENT
UID:20260422T113304Z-7452253107965183169@eventfrog.at
DTSTAMP:20260422T113304Z
DTSTART:20261029T170000Z
DTEND:20261029T210000Z
SUMMARY:Metzgete Hütten Zug
DESCRIPTION:Die legendären Metzgete-Wochen des ehemaligen Bären. Das war nichts für halbherzige Esser.\n\n\nhttps://eventfrog.at/de/p/essen-trinken/metzgete-huetten-zug-7452253107965183169.html
LOCATION:aigu Restaurant & Bar
GEO:47.172359;8.518966
URL:https://eventfrog.at/de/p/essen-trinken/metzgete-huetten-zug-7452253107965183169.html
END:VEVENT
END:VCALENDAR