BEGIN:VCALENDAR
VERSION:2.0
PRODID:EVENTFROG//EVENTGROUP//ICAL
BEGIN:VEVENT
UID:20260422T113305Z-7452010471530460323@eventfrog.at
DTSTAMP:20260422T113305Z
DTSTART:20260427T163000Z
DTEND:20260427T183000Z
SUMMARY:ERFA Gruppe Zug, für Hörprobleme und Tinnitus
DESCRIPTION:ERFA Gruppe Zug für Hörprobleme und Tinnitus\nMontag 27. April 18.30 bis 20.30 Uhr\nreformiertes Kirchengemeindehaus Baar,\nLeitung: Silvio Zgraggen\n\nhttps://eventfrog.at/de/p/gesundheit-spiritualitaet/selbsthilfegruppe/erfa-gruppe-zug-fuer-hoerprobleme-und-tinnitus-7452010471530460323.html
LOCATION:Reformiertes Kirchgemeindehaus
GEO:47.195235;8.535162
URL:https://eventfrog.at/de/p/gesundheit-spiritualitaet/selbsthilfegruppe/erfa-gruppe-zug-fuer-hoerprobleme-und-tinnitus-7452010471530460323.html
END:VEVENT
BEGIN:VEVENT
UID:20260422T113305Z-7452010600438209777@eventfrog.at
DTSTAMP:20260422T113305Z
DTSTART:20260629T163000Z
DTEND:20260629T183000Z
SUMMARY:ERFA Gruppe Zug, für Hörprobleme und Tinnitus
DESCRIPTION:ERFA Gruppe Zug für Hörprobleme und Tinnitus\nMontag 27. April 18.30 bis 20.30 Uhr\nreformiertes Kirchengemeindehaus Baar,\nLeitung: Silvio Zgraggen\n\nhttps://eventfrog.at/de/p/gesundheit-spiritualitaet/selbsthilfegruppe/erfa-gruppe-zug-fuer-hoerprobleme-und-tinnitus-7452010600438209777.html
LOCATION:Reformiertes Kirchgemeindehaus
GEO:47.195235;8.535162
URL:https://eventfrog.at/de/p/gesundheit-spiritualitaet/selbsthilfegruppe/erfa-gruppe-zug-fuer-hoerprobleme-und-tinnitus-7452010600438209777.html
END:VEVENT
END:VCALENDAR