BEGIN:VCALENDAR
VERSION:2.0
PRODID:EVENTFROG//EVENTGROUP//ICAL
BEGIN:VEVENT
UID:20260424T095805Z-7452002417808262960@eventfrog.at
DTSTAMP:20260424T095805Z
DTSTART:20260604T173000Z
DTEND:20260604T184000Z
SUMMARY:still still
DESCRIPTION:Eine Bühne, 16 Performer*innen, Stille. Zwischen Verstummen und leisem Widerstand, zwischen Isolation und Beziehung – still still ist eine spielerische Einladung, dem Leisen Raum zu geben.\n\nhttps://eventfrog.at/de/p/theater-buehne/tanz/still-still-7452002417808262960.html
LOCATION:Theater BAU3
GEO:47.541733;7.593251
URL:https://eventfrog.at/de/p/theater-buehne/tanz/still-still-7452002417808262960.html
END:VEVENT
BEGIN:VEVENT
UID:20260424T095805Z-7452002466390892393@eventfrog.at
DTSTAMP:20260424T095805Z
DTSTART:20260605T173000Z
DTEND:20260605T184000Z
SUMMARY:still still
DESCRIPTION:Eine Bühne, 16 Performer*innen, Stille. Zwischen Verstummen und leisem Widerstand, zwischen Isolation und Beziehung – still still ist eine spielerische Einladung, dem Leisen Raum zu geben.\n\nhttps://eventfrog.at/de/p/theater-buehne/tanz/still-still-7452002466390892393.html
LOCATION:Theater BAU3
GEO:47.541733;7.593251
URL:https://eventfrog.at/de/p/theater-buehne/tanz/still-still-7452002466390892393.html
END:VEVENT
BEGIN:VEVENT
UID:20260424T095805Z-7452002525367006909@eventfrog.at
DTSTAMP:20260424T095805Z
DTSTART:20260606T173000Z
DTEND:20260606T184000Z
SUMMARY:still still
DESCRIPTION:Eine Bühne, 16 Performer*innen, Stille. Zwischen Verstummen und leisem Widerstand, zwischen Isolation und Beziehung – still still ist eine spielerische Einladung, dem Leisen Raum zu geben.\n\nhttps://eventfrog.at/de/p/theater-buehne/tanz/still-still-7452002525367006909.html
LOCATION:Theater BAU3
GEO:47.541733;7.593251
URL:https://eventfrog.at/de/p/theater-buehne/tanz/still-still-7452002525367006909.html
END:VEVENT
BEGIN:VEVENT
UID:20260424T095805Z-7452002606455489818@eventfrog.at
DTSTAMP:20260424T095805Z
DTSTART:20260607T170000Z
DTEND:20260607T181000Z
SUMMARY:still still
DESCRIPTION:Eine Bühne, 16 Performer*innen, Stille. Zwischen Verstummen und leisem Widerstand, zwischen Isolation und Beziehung – still still ist eine spielerische Einladung, dem Leisen Raum zu geben.\n\nhttps://eventfrog.at/de/p/theater-buehne/tanz/still-still-7452002606455489818.html
LOCATION:Theater BAU3
GEO:47.541733;7.593251
URL:https://eventfrog.at/de/p/theater-buehne/tanz/still-still-7452002606455489818.html
END:VEVENT
BEGIN:VEVENT
UID:20260424T095805Z-7452002333372722055@eventfrog.at
DTSTAMP:20260424T095805Z
DTSTART:20260918T173000Z
DTEND:20260918T184000Z
SUMMARY:still still
DESCRIPTION:Eine Bühne, 16 Performer*innen, Stille. Zwischen Verstummen und leisem Widerstand, zwischen Isolation und Beziehung – still still ist eine spielerische Einladung, dem Leisen Raum zu geben.\n\nhttps://eventfrog.at/de/p/theater-buehne/tanz/still-still-7452002333372722055.html
LOCATION:Theater BAU3
GEO:47.541733;7.593251
URL:https://eventfrog.at/de/p/theater-buehne/tanz/still-still-7452002333372722055.html
END:VEVENT
BEGIN:VEVENT
UID:20260424T095805Z-7452001956678126474@eventfrog.at
DTSTAMP:20260424T095805Z
DTSTART:20260919T173000Z
DTEND:20260919T184000Z
SUMMARY:still still
DESCRIPTION:Eine Bühne, 16 Performer*innen, Stille. Zwischen Verstummen und leisem Widerstand, zwischen Isolation und Beziehung – still still ist eine spielerische Einladung, dem Leisen Raum zu geben.\n\nhttps://eventfrog.at/de/p/theater-buehne/tanz/still-still-7452001956678126474.html
LOCATION:Theater BAU3
GEO:47.541733;7.593251
URL:https://eventfrog.at/de/p/theater-buehne/tanz/still-still-7452001956678126474.html
END:VEVENT
BEGIN:VEVENT
UID:20260424T095805Z-7451994934377192484@eventfrog.at
DTSTAMP:20260424T095805Z
DTSTART:20260920T170000Z
DTEND:20260920T181000Z
SUMMARY:still still
DESCRIPTION:Eine Bühne, 16 Performer*innen, Stille. Zwischen Verstummen und leisem Widerstand, zwischen Isolation und Beziehung – still still ist eine spielerische Einladung, dem Leisen Raum zu geben.\n\nhttps://eventfrog.at/de/p/theater-buehne/tanz/still-still-7451994934377192484.html
LOCATION:Theater BAU3
GEO:47.541733;7.593251
URL:https://eventfrog.at/de/p/theater-buehne/tanz/still-still-7451994934377192484.html
END:VEVENT
END:VCALENDAR