BEGIN:VCALENDAR
VERSION:2.0
PRODID:EVENTFROG//EVENTGROUP//ICAL
BEGIN:VEVENT
UID:20260422T172040Z-7440863773521359136@eventfrog.at
DTSTAMP:20260422T172040Z
DTSTART:20260521T173000Z
DTEND:20260521T200000Z
SUMMARY:Low Office Brass & Pine Time Jazz Band live
DESCRIPTION:Atelier 72 Live Sessions 2026 bieten intime Konzerte mit regionalen Bands wie Pine Time Jazz Band und LowOfficeBrass.\n\nhttps://eventfrog.at/de/p/konzerte/blasmusik/low-office-brass-pine-time-jazz-band-live-7440863773521359136.html
LOCATION:Atelier 72
GEO:47.362341;7.920981
URL:https://eventfrog.at/de/p/konzerte/blasmusik/low-office-brass-pine-time-jazz-band-live-7440863773521359136.html
END:VEVENT
BEGIN:VEVENT
UID:20260422T172040Z-7440877900293744129@eventfrog.at
DTSTAMP:20260422T172040Z
DTSTART:20261022T173000Z
DTEND:20261022T200000Z
SUMMARY:Atelier 72 Live-Sessions: Iandara & Ella Julie
DESCRIPTION:Atelier 72 Live Sessions 2026 präsentieren intime Konzerte mit iandara und Ella Julie in Singer-Songwriter und Deutsch-Pop.\n\nhttps://eventfrog.at/de/p/konzerte/singer-songwriter/atelier-72-live-sessions-iandara-ella-julie-7440877900293744129.html
LOCATION:Atelier 72
GEO:47.362341;7.920981
URL:https://eventfrog.at/de/p/konzerte/singer-songwriter/atelier-72-live-sessions-iandara-ella-julie-7440877900293744129.html
END:VEVENT
BEGIN:VEVENT
UID:20260422T172040Z-7440879006390431551@eventfrog.at
DTSTAMP:20260422T172040Z
DTSTART:20261119T183000Z
DTEND:20261119T210000Z
SUMMARY:Atelier 72 Live-Sessions: Au Revoir Legs
DESCRIPTION:Atelier 72 Live Sessions 2026 präsentieren intime Konzerte mit iandara und Ella Julie in Singer-Songwriter und Deutsch-Pop.\n\nhttps://eventfrog.at/de/p/konzerte/pop-rock/atelier-72-live-sessions-au-revoir-legs-7440879006390431551.html
LOCATION:Atelier 72
GEO:47.362341;7.920981
URL:https://eventfrog.at/de/p/konzerte/pop-rock/atelier-72-live-sessions-au-revoir-legs-7440879006390431551.html
END:VEVENT
END:VCALENDAR