BEGIN:VCALENDAR
VERSION:2.0
PRODID:EVENTFROG//EVENTGROUP//ICAL
BEGIN:VEVENT
UID:20260422T013156Z-7450461263916709968@eventfrog.at
DTSTAMP:20260422T013156Z
DTSTART:20260530T173000Z
SUMMARY:Pax Hominibus
DESCRIPTION:Die Ensembles ardent und suppléments musicaux führen Friedensmusik von Schütz bis Pärt unter Leitung von Secchiari und Achermann auf.\n\nhttps://eventfrog.at/de/p/konzerte/chor/pax-hominibus-7450461263916709968.html
LOCATION:Französische Kirche Bern
GEO:46.948989;7.446510
URL:https://eventfrog.at/de/p/konzerte/chor/pax-hominibus-7450461263916709968.html
END:VEVENT
BEGIN:VEVENT
UID:20260422T013156Z-7450493423331623310@eventfrog.at
DTSTAMP:20260422T013156Z
DTSTART:20260531T150000Z
SUMMARY:Pax Hominibus
DESCRIPTION:Die Ensembles ardent und suppléments musicaux führen Friedensmusik von Schütz bis Pärt unter Leitung von Secchiari und Achermann auf.\n\nhttps://eventfrog.at/de/p/konzerte/chor/pax-hominibus-7450493423331623310.html
LOCATION:Französische Kirche Bern
GEO:46.948989;7.446510
URL:https://eventfrog.at/de/p/konzerte/chor/pax-hominibus-7450493423331623310.html
END:VEVENT
END:VCALENDAR