BEGIN:VCALENDAR
VERSION:2.0
PRODID:EVENTFROG//EVENTGROUP//ICAL
BEGIN:VEVENT
UID:20260422T113305Z-7445751398329777094@eventfrog.at
DTSTAMP:20260422T113305Z
DTSTART:20260510T070000Z
DTEND:20260510T075000Z
SUMMARY:Pilates am Zugersee / Pilates by the Lake Zug
DESCRIPTION:Pilates am Zugersee: Outdoor Pilates direkt am See. Limitierte Plätze. / Pilates by Lake Zug: energising outdoor session by the lake. Limited spots.\n\nhttps://eventfrog.at/en/p/sport-fitness/fitness/pilates-am-zugersee-pilates-by-the-lake-zug-7445751398329777094.html
LOCATION:Seebad Walchwil
GEO:47.100721;8.512439
URL:https://eventfrog.at/en/p/sport-fitness/fitness/pilates-am-zugersee-pilates-by-the-lake-zug-7445751398329777094.html
END:VEVENT
BEGIN:VEVENT
UID:20260422T113305Z-7445754319343744065@eventfrog.at
DTSTAMP:20260422T113305Z
DTSTART:20260607T070000Z
DTEND:20260607T075000Z
SUMMARY:Pilates am Zugersee / Pilates by the Lake Zug
DESCRIPTION:Pilates am Zugersee: Outdoor Pilates direkt am See. Limitierte Plätze. / Pilates by Lake Zug: energising outdoor session by the lake. Limited spots.\n\nhttps://eventfrog.at/en/p/sport-fitness/fitness/pilates-am-zugersee-pilates-by-the-lake-zug-7445754319343744065.html
LOCATION:Seebad Walchwil
GEO:47.100721;8.512439
URL:https://eventfrog.at/en/p/sport-fitness/fitness/pilates-am-zugersee-pilates-by-the-lake-zug-7445754319343744065.html
END:VEVENT
BEGIN:VEVENT
UID:20260422T113305Z-7445754319519905519@eventfrog.at
DTSTAMP:20260422T113305Z
DTSTART:20260705T070000Z
DTEND:20260705T075000Z
SUMMARY:Pilates am Zugersee / Pilates by the Lake Zug
DESCRIPTION:Pilates am Zugersee: Outdoor Pilates direkt am See. Limitierte Plätze. / Pilates by Lake Zug: energising outdoor session by the lake. Limited spots.\n\nhttps://eventfrog.at/en/p/sport-fitness/fitness/pilates-am-zugersee-pilates-by-the-lake-zug-7445754319519905519.html
LOCATION:Seebad Walchwil
GEO:47.100721;8.512439
URL:https://eventfrog.at/en/p/sport-fitness/fitness/pilates-am-zugersee-pilates-by-the-lake-zug-7445754319519905519.html
END:VEVENT
BEGIN:VEVENT
UID:20260422T113305Z-7445754319645734668@eventfrog.at
DTSTAMP:20260422T113305Z
DTSTART:20260802T070000Z
DTEND:20260802T075000Z
SUMMARY:Pilates am Zugersee / Pilates by the Lake Zug
DESCRIPTION:Pilates am Zugersee: Outdoor Pilates direkt am See. Limitierte Plätze. / Pilates by Lake Zug: energising outdoor session by the lake. Limited spots.\n\nhttps://eventfrog.at/en/p/sport-fitness/fitness/pilates-am-zugersee-pilates-by-the-lake-zug-7445754319645734668.html
LOCATION:Seebad Walchwil
GEO:47.100721;8.512439
URL:https://eventfrog.at/en/p/sport-fitness/fitness/pilates-am-zugersee-pilates-by-the-lake-zug-7445754319645734668.html
END:VEVENT
BEGIN:VEVENT
UID:20260422T113305Z-7445754319792535366@eventfrog.at
DTSTAMP:20260422T113305Z
DTSTART:20260906T070000Z
DTEND:20260906T075000Z
SUMMARY:Pilates am Zugersee / Pilates by the Lake Zug
DESCRIPTION:Pilates am Zugersee: Outdoor Pilates direkt am See. Limitierte Plätze. / Pilates by Lake Zug: energising outdoor session by the lake. Limited spots.\n\nhttps://eventfrog.at/en/p/sport-fitness/fitness/pilates-am-zugersee-pilates-by-the-lake-zug-7445754319792535366.html
LOCATION:Seebad Walchwil
GEO:47.100721;8.512439
URL:https://eventfrog.at/en/p/sport-fitness/fitness/pilates-am-zugersee-pilates-by-the-lake-zug-7445754319792535366.html
END:VEVENT
END:VCALENDAR