BEGIN:VCALENDAR
VERSION:2.0
PRODID:EVENTFROG//EVENTGROUP//ICAL
BEGIN:VEVENT
UID:20260422T013200Z-7445468851154755397@eventfrog.at
DTSTAMP:20260422T013200Z
DTSTART:20260612T180000Z
DTEND:20260612T210000Z
SUMMARY:DISCO TIMES
DESCRIPTION:Die Westside Singers begeistern mit einer energiegeladenen Chor-Disco-Show und Live-Band voller Hits der 70er und 80er.\n\nhttps://eventfrog.at/de/p/musicals-shows/show/disco-times-7445468851154755397.html
LOCATION:Eventlokal Sternensaal Bern-Bümpliz
GEO:46.941009;7.390760
URL:https://eventfrog.at/de/p/musicals-shows/show/disco-times-7445468851154755397.html
END:VEVENT
BEGIN:VEVENT
UID:20260422T013200Z-7445469440764817402@eventfrog.at
DTSTAMP:20260422T013200Z
DTSTART:20260613T180000Z
DTEND:20260613T210000Z
SUMMARY:DISCO TIMES
DESCRIPTION:Die Westside Singers begeistern mit einer energiegeladenen Chor-Disco-Show und Live-Band voller Hits der 70er und 80er.\n\nhttps://eventfrog.at/de/p/musicals-shows/show/disco-times-7445469440764817402.html
LOCATION:Eventlokal Sternensaal Bern-Bümpliz
GEO:46.941009;7.390760
URL:https://eventfrog.at/de/p/musicals-shows/show/disco-times-7445469440764817402.html
END:VEVENT
BEGIN:VEVENT
UID:20260422T013200Z-7445469440949367389@eventfrog.at
DTSTAMP:20260422T013200Z
DTSTART:20260618T180000Z
DTEND:20260618T210000Z
SUMMARY:DISCO TIMES
DESCRIPTION:Die Westside Singers begeistern mit einer energiegeladenen Chor-Disco-Show und Live-Band voller Hits der 70er und 80er.\n\nhttps://eventfrog.at/de/p/musicals-shows/show/disco-times-7445469440949367389.html
LOCATION:Eventlokal Sternensaal Bern-Bümpliz
GEO:46.941009;7.390760
URL:https://eventfrog.at/de/p/musicals-shows/show/disco-times-7445469440949367389.html
END:VEVENT
BEGIN:VEVENT
UID:20260422T013200Z-7445469441083585132@eventfrog.at
DTSTAMP:20260422T013200Z
DTSTART:20260620T180000Z
DTEND:20260620T210000Z
SUMMARY:DISCO TIMES
DESCRIPTION:Die Westside Singers begeistern mit einer energiegeladenen Chor-Disco-Show und Live-Band voller Hits der 70er und 80er.\n\nhttps://eventfrog.at/de/p/musicals-shows/show/disco-times-7445469441083585132.html
LOCATION:Eventlokal Sternensaal Bern-Bümpliz
GEO:46.941009;7.390760
URL:https://eventfrog.at/de/p/musicals-shows/show/disco-times-7445469441083585132.html
END:VEVENT
END:VCALENDAR