BEGIN:VCALENDAR
VERSION:2.0
PRODID:EVENTFROG//EVENTGROUP//ICAL
BEGIN:VEVENT
UID:20260422T022819Z-7444822853646574443@eventfrog.at
DTSTAMP:20260422T022819Z
DTSTART:20260417T160000Z
DTEND:20260417T200000Z
SUMMARY:BARty BARty
DESCRIPTION:Zu früh für Party, aber zu wild für Bar? Dann komm an die BARty in der neueröffneten bar 99 im Breitsch.\n\nhttps://eventfrog.at/de/p/partys/afterwork/barty-barty-7444822853646574443.html
LOCATION:bar 99
GEO:46.956800;7.452566
URL:https://eventfrog.at/de/p/partys/afterwork/barty-barty-7444822853646574443.html
END:VEVENT
BEGIN:VEVENT
UID:20260422T022819Z-7444822853776597870@eventfrog.at
DTSTAMP:20260422T022819Z
DTSTART:20260424T160000Z
DTEND:20260424T200000Z
SUMMARY:BARty BARty
DESCRIPTION:Zu früh für Party, aber zu wild für Bar? Dann komm an die BARty in der neueröffneten bar 99 im Breitsch.\n\nhttps://eventfrog.at/de/p/partys/afterwork/barty-barty-7444822853776597870.html
LOCATION:bar 99
GEO:46.956800;7.452566
URL:https://eventfrog.at/de/p/partys/afterwork/barty-barty-7444822853776597870.html
END:VEVENT
END:VCALENDAR