BEGIN:VCALENDAR
VERSION:2.0
PRODID:EVENTFROG//EVENTGROUP//ICAL
BEGIN:VEVENT
UID:20260422T111233Z-7444624537445004871@eventfrog.at
DTSTAMP:20260422T111233Z
DTSTART:20260509T133000Z
DTEND:20260509T141500Z
SUMMARY:Javanisches Schattenspiel „Die Verwandlung“ von F. Kafka
DESCRIPTION:«Die Verwandlung» von Kafka wurde von Sigit Susanto für das javanische Schattenspiel Wayang Kulit adaptiert.\n\nhttps://eventfrog.at/de/p/theater-buehne/theater/javanisches-schattenspiel-die-verwandlung-von-f-kafka-7444624537445004871.html
LOCATION:Zündhölzli
GEO:47.172864;8.514698
URL:https://eventfrog.at/de/p/theater-buehne/theater/javanisches-schattenspiel-die-verwandlung-von-f-kafka-7444624537445004871.html
END:VEVENT
BEGIN:VEVENT
UID:20260422T111233Z-7444624573067230622@eventfrog.at
DTSTAMP:20260422T111233Z
DTSTART:20260509T150000Z
DTEND:20260509T154500Z
SUMMARY:Javanisches Schattenspiel „Die Verwandlung“ von F. Kafka
DESCRIPTION:«Die Verwandlung» von Kafka wurde von Sigit Susanto für das javanische Schattenspiel Wayang Kulit adaptiert.\n\nhttps://eventfrog.at/de/p/theater-buehne/theater/javanisches-schattenspiel-die-verwandlung-von-f-kafka-7444624573067230622.html
LOCATION:Zündhölzli
GEO:47.172864;8.514698
URL:https://eventfrog.at/de/p/theater-buehne/theater/javanisches-schattenspiel-die-verwandlung-von-f-kafka-7444624573067230622.html
END:VEVENT
END:VCALENDAR