BEGIN:VCALENDAR
VERSION:2.0
PRODID:EVENTFROG//EVENTGROUP//ICAL
BEGIN:VEVENT
UID:20260422T045231Z-7444468935070618614@eventfrog.at
DTSTAMP:20260422T045231Z
DTSTART:20260422T154500Z
DTEND:20260422T190000Z
SUMMARY:YOGA Einsteiger*innen-Kurs
DESCRIPTION:Ein neuer Yoga-Kurs  für fast alle im niegelnagel neuen Studio von YOGAWERK, quasi eine Stadtlichtung im 2. OG der Grabenstrasse 4 in Thun. \n\nhttps://eventfrog.at/de/p/sport-fitness/yoga/yoga-einsteiger-innen-kurs-7444468935070618614.html
LOCATION:YOGAWERK
GEO:46.761711;7.627932
URL:https://eventfrog.at/de/p/sport-fitness/yoga/yoga-einsteiger-innen-kurs-7444468935070618614.html
END:VEVENT
BEGIN:VEVENT
UID:20260422T045231Z-7444468935137727480@eventfrog.at
DTSTAMP:20260422T045231Z
DTSTART:20260428T154500Z
DTEND:20260428T190000Z
SUMMARY:YOGA Einsteiger*innen-Kurs
DESCRIPTION:Ein neuer Yoga-Kurs  für fast alle im niegelnagel neuen Studio von YOGAWERK, quasi eine Stadtlichtung im 2. OG der Grabenstrasse 4 in Thun. \n\nhttps://eventfrog.at/de/p/sport-fitness/yoga/yoga-einsteiger-innen-kurs-7444468935137727480.html
LOCATION:YOGAWERK
GEO:46.761711;7.627932
URL:https://eventfrog.at/de/p/sport-fitness/yoga/yoga-einsteiger-innen-kurs-7444468935137727480.html
END:VEVENT
BEGIN:VEVENT
UID:20260422T045231Z-7444468935213224954@eventfrog.at
DTSTAMP:20260422T045231Z
DTSTART:20260429T154500Z
DTEND:20260429T190000Z
SUMMARY:YOGA Einsteiger*innen-Kurs
DESCRIPTION:Ein neuer Yoga-Kurs  für fast alle im niegelnagel neuen Studio von YOGAWERK, quasi eine Stadtlichtung im 2. OG der Grabenstrasse 4 in Thun. \n\nhttps://eventfrog.at/de/p/sport-fitness/yoga/yoga-einsteiger-innen-kurs-7444468935213224954.html
LOCATION:YOGAWERK
GEO:46.761711;7.627932
URL:https://eventfrog.at/de/p/sport-fitness/yoga/yoga-einsteiger-innen-kurs-7444468935213224954.html
END:VEVENT
BEGIN:VEVENT
UID:20260422T045231Z-7444468935280333820@eventfrog.at
DTSTAMP:20260422T045231Z
DTSTART:20260505T154500Z
DTEND:20260505T190000Z
SUMMARY:YOGA Einsteiger*innen-Kurs
DESCRIPTION:Ein neuer Yoga-Kurs  für fast alle im niegelnagel neuen Studio von YOGAWERK, quasi eine Stadtlichtung im 2. OG der Grabenstrasse 4 in Thun. \n\nhttps://eventfrog.at/de/p/sport-fitness/yoga/yoga-einsteiger-innen-kurs-7444468935280333820.html
LOCATION:YOGAWERK
GEO:46.761711;7.627932
URL:https://eventfrog.at/de/p/sport-fitness/yoga/yoga-einsteiger-innen-kurs-7444468935280333820.html
END:VEVENT
BEGIN:VEVENT
UID:20260422T045231Z-7444468935355831294@eventfrog.at
DTSTAMP:20260422T045231Z
DTSTART:20260506T154500Z
DTEND:20260506T190000Z
SUMMARY:YOGA Einsteiger*innen-Kurs
DESCRIPTION:Ein neuer Yoga-Kurs  für fast alle im niegelnagel neuen Studio von YOGAWERK, quasi eine Stadtlichtung im 2. OG der Grabenstrasse 4 in Thun. \n\nhttps://eventfrog.at/de/p/sport-fitness/yoga/yoga-einsteiger-innen-kurs-7444468935355831294.html
LOCATION:YOGAWERK
GEO:46.761711;7.627932
URL:https://eventfrog.at/de/p/sport-fitness/yoga/yoga-einsteiger-innen-kurs-7444468935355831294.html
END:VEVENT
BEGIN:VEVENT
UID:20260422T045231Z-7444468935418745856@eventfrog.at
DTSTAMP:20260422T045231Z
DTSTART:20260512T154500Z
DTEND:20260512T190000Z
SUMMARY:YOGA Einsteiger*innen-Kurs
DESCRIPTION:Ein neuer Yoga-Kurs  für fast alle im niegelnagel neuen Studio von YOGAWERK, quasi eine Stadtlichtung im 2. OG der Grabenstrasse 4 in Thun. \n\nhttps://eventfrog.at/de/p/sport-fitness/yoga/yoga-einsteiger-innen-kurs-7444468935418745856.html
LOCATION:YOGAWERK
GEO:46.761711;7.627932
URL:https://eventfrog.at/de/p/sport-fitness/yoga/yoga-einsteiger-innen-kurs-7444468935418745856.html
END:VEVENT
BEGIN:VEVENT
UID:20260422T045231Z-7444468935477466114@eventfrog.at
DTSTAMP:20260422T045231Z
DTSTART:20260513T154500Z
DTEND:20260513T190000Z
SUMMARY:YOGA Einsteiger*innen-Kurs
DESCRIPTION:Ein neuer Yoga-Kurs  für fast alle im niegelnagel neuen Studio von YOGAWERK, quasi eine Stadtlichtung im 2. OG der Grabenstrasse 4 in Thun. \n\nhttps://eventfrog.at/de/p/sport-fitness/yoga/yoga-einsteiger-innen-kurs-7444468935477466114.html
LOCATION:YOGAWERK
GEO:46.761711;7.627932
URL:https://eventfrog.at/de/p/sport-fitness/yoga/yoga-einsteiger-innen-kurs-7444468935477466114.html
END:VEVENT
BEGIN:VEVENT
UID:20260422T045231Z-7444468935548769284@eventfrog.at
DTSTAMP:20260422T045231Z
DTSTART:20260519T154500Z
DTEND:20260519T190000Z
SUMMARY:YOGA Einsteiger*innen-Kurs
DESCRIPTION:Ein neuer Yoga-Kurs  für fast alle im niegelnagel neuen Studio von YOGAWERK, quasi eine Stadtlichtung im 2. OG der Grabenstrasse 4 in Thun. \n\nhttps://eventfrog.at/de/p/sport-fitness/yoga/yoga-einsteiger-innen-kurs-7444468935548769284.html
LOCATION:YOGAWERK
GEO:46.761711;7.627932
URL:https://eventfrog.at/de/p/sport-fitness/yoga/yoga-einsteiger-innen-kurs-7444468935548769284.html
END:VEVENT
BEGIN:VEVENT
UID:20260422T045231Z-7444468935636849671@eventfrog.at
DTSTAMP:20260422T045231Z
DTSTART:20260520T154500Z
DTEND:20260520T190000Z
SUMMARY:YOGA Einsteiger*innen-Kurs
DESCRIPTION:Ein neuer Yoga-Kurs  für fast alle im niegelnagel neuen Studio von YOGAWERK, quasi eine Stadtlichtung im 2. OG der Grabenstrasse 4 in Thun. \n\nhttps://eventfrog.at/de/p/sport-fitness/yoga/yoga-einsteiger-innen-kurs-7444468935636849671.html
LOCATION:YOGAWERK
GEO:46.761711;7.627932
URL:https://eventfrog.at/de/p/sport-fitness/yoga/yoga-einsteiger-innen-kurs-7444468935636849671.html
END:VEVENT
BEGIN:VEVENT
UID:20260422T045231Z-7444468935712347145@eventfrog.at
DTSTAMP:20260422T045231Z
DTSTART:20260526T154500Z
DTEND:20260526T190000Z
SUMMARY:YOGA Einsteiger*innen-Kurs
DESCRIPTION:Ein neuer Yoga-Kurs  für fast alle im niegelnagel neuen Studio von YOGAWERK, quasi eine Stadtlichtung im 2. OG der Grabenstrasse 4 in Thun. \n\nhttps://eventfrog.at/de/p/sport-fitness/yoga/yoga-einsteiger-innen-kurs-7444468935712347145.html
LOCATION:YOGAWERK
GEO:46.761711;7.627932
URL:https://eventfrog.at/de/p/sport-fitness/yoga/yoga-einsteiger-innen-kurs-7444468935712347145.html
END:VEVENT
BEGIN:VEVENT
UID:20260422T045231Z-7444468935792038923@eventfrog.at
DTSTAMP:20260422T045231Z
DTSTART:20260527T154500Z
DTEND:20260527T190000Z
SUMMARY:YOGA Einsteiger*innen-Kurs
DESCRIPTION:Ein neuer Yoga-Kurs  für fast alle im niegelnagel neuen Studio von YOGAWERK, quasi eine Stadtlichtung im 2. OG der Grabenstrasse 4 in Thun. \n\nhttps://eventfrog.at/de/p/sport-fitness/yoga/yoga-einsteiger-innen-kurs-7444468935792038923.html
LOCATION:YOGAWERK
GEO:46.761711;7.627932
URL:https://eventfrog.at/de/p/sport-fitness/yoga/yoga-einsteiger-innen-kurs-7444468935792038923.html
END:VEVENT
BEGIN:VEVENT
UID:20260422T045231Z-7444468935871730701@eventfrog.at
DTSTAMP:20260422T045231Z
DTSTART:20260602T154500Z
DTEND:20260602T190000Z
SUMMARY:YOGA Einsteiger*innen-Kurs
DESCRIPTION:Ein neuer Yoga-Kurs  für fast alle im niegelnagel neuen Studio von YOGAWERK, quasi eine Stadtlichtung im 2. OG der Grabenstrasse 4 in Thun. \n\nhttps://eventfrog.at/de/p/sport-fitness/yoga/yoga-einsteiger-innen-kurs-7444468935871730701.html
LOCATION:YOGAWERK
GEO:46.761711;7.627932
URL:https://eventfrog.at/de/p/sport-fitness/yoga/yoga-einsteiger-innen-kurs-7444468935871730701.html
END:VEVENT
BEGIN:VEVENT
UID:20260422T045231Z-7444468935934645263@eventfrog.at
DTSTAMP:20260422T045231Z
DTSTART:20260603T154500Z
DTEND:20260603T190000Z
SUMMARY:YOGA Einsteiger*innen-Kurs
DESCRIPTION:Ein neuer Yoga-Kurs  für fast alle im niegelnagel neuen Studio von YOGAWERK, quasi eine Stadtlichtung im 2. OG der Grabenstrasse 4 in Thun. \n\nhttps://eventfrog.at/de/p/sport-fitness/yoga/yoga-einsteiger-innen-kurs-7444468935934645263.html
LOCATION:YOGAWERK
GEO:46.761711;7.627932
URL:https://eventfrog.at/de/p/sport-fitness/yoga/yoga-einsteiger-innen-kurs-7444468935934645263.html
END:VEVENT
BEGIN:VEVENT
UID:20260422T045231Z-7444468935993365521@eventfrog.at
DTSTAMP:20260422T045231Z
DTSTART:20260609T154500Z
DTEND:20260609T190000Z
SUMMARY:YOGA Einsteiger*innen-Kurs
DESCRIPTION:Ein neuer Yoga-Kurs  für fast alle im niegelnagel neuen Studio von YOGAWERK, quasi eine Stadtlichtung im 2. OG der Grabenstrasse 4 in Thun. \n\nhttps://eventfrog.at/de/p/sport-fitness/yoga/yoga-einsteiger-innen-kurs-7444468935993365521.html
LOCATION:YOGAWERK
GEO:46.761711;7.627932
URL:https://eventfrog.at/de/p/sport-fitness/yoga/yoga-einsteiger-innen-kurs-7444468935993365521.html
END:VEVENT
BEGIN:VEVENT
UID:20260422T045231Z-7444468936073057300@eventfrog.at
DTSTAMP:20260422T045231Z
DTSTART:20260610T154500Z
DTEND:20260610T190000Z
SUMMARY:YOGA Einsteiger*innen-Kurs
DESCRIPTION:Ein neuer Yoga-Kurs  für fast alle im niegelnagel neuen Studio von YOGAWERK, quasi eine Stadtlichtung im 2. OG der Grabenstrasse 4 in Thun. \n\nhttps://eventfrog.at/de/p/sport-fitness/yoga/yoga-einsteiger-innen-kurs-7444468936073057300.html
LOCATION:YOGAWERK
GEO:46.761711;7.627932
URL:https://eventfrog.at/de/p/sport-fitness/yoga/yoga-einsteiger-innen-kurs-7444468936073057300.html
END:VEVENT
BEGIN:VEVENT
UID:20260422T045231Z-7444468936131777558@eventfrog.at
DTSTAMP:20260422T045231Z
DTSTART:20260616T154500Z
DTEND:20260616T190000Z
SUMMARY:YOGA Einsteiger*innen-Kurs
DESCRIPTION:Ein neuer Yoga-Kurs  für fast alle im niegelnagel neuen Studio von YOGAWERK, quasi eine Stadtlichtung im 2. OG der Grabenstrasse 4 in Thun. \n\nhttps://eventfrog.at/de/p/sport-fitness/yoga/yoga-einsteiger-innen-kurs-7444468936131777558.html
LOCATION:YOGAWERK
GEO:46.761711;7.627932
URL:https://eventfrog.at/de/p/sport-fitness/yoga/yoga-einsteiger-innen-kurs-7444468936131777558.html
END:VEVENT
BEGIN:VEVENT
UID:20260422T045231Z-7444468936190497816@eventfrog.at
DTSTAMP:20260422T045231Z
DTSTART:20260617T154500Z
DTEND:20260617T190000Z
SUMMARY:YOGA Einsteiger*innen-Kurs
DESCRIPTION:Ein neuer Yoga-Kurs  für fast alle im niegelnagel neuen Studio von YOGAWERK, quasi eine Stadtlichtung im 2. OG der Grabenstrasse 4 in Thun. \n\nhttps://eventfrog.at/de/p/sport-fitness/yoga/yoga-einsteiger-innen-kurs-7444468936190497816.html
LOCATION:YOGAWERK
GEO:46.761711;7.627932
URL:https://eventfrog.at/de/p/sport-fitness/yoga/yoga-einsteiger-innen-kurs-7444468936190497816.html
END:VEVENT
BEGIN:VEVENT
UID:20260422T045231Z-7444468936249218074@eventfrog.at
DTSTAMP:20260422T045231Z
DTSTART:20260623T154500Z
DTEND:20260623T190000Z
SUMMARY:YOGA Einsteiger*innen-Kurs
DESCRIPTION:Ein neuer Yoga-Kurs  für fast alle im niegelnagel neuen Studio von YOGAWERK, quasi eine Stadtlichtung im 2. OG der Grabenstrasse 4 in Thun. \n\nhttps://eventfrog.at/de/p/sport-fitness/yoga/yoga-einsteiger-innen-kurs-7444468936249218074.html
LOCATION:YOGAWERK
GEO:46.761711;7.627932
URL:https://eventfrog.at/de/p/sport-fitness/yoga/yoga-einsteiger-innen-kurs-7444468936249218074.html
END:VEVENT
BEGIN:VEVENT
UID:20260422T045231Z-7444468936307938332@eventfrog.at
DTSTAMP:20260422T045231Z
DTSTART:20260624T154500Z
DTEND:20260624T190000Z
SUMMARY:YOGA Einsteiger*innen-Kurs
DESCRIPTION:Ein neuer Yoga-Kurs  für fast alle im niegelnagel neuen Studio von YOGAWERK, quasi eine Stadtlichtung im 2. OG der Grabenstrasse 4 in Thun. \n\nhttps://eventfrog.at/de/p/sport-fitness/yoga/yoga-einsteiger-innen-kurs-7444468936307938332.html
LOCATION:YOGAWERK
GEO:46.761711;7.627932
URL:https://eventfrog.at/de/p/sport-fitness/yoga/yoga-einsteiger-innen-kurs-7444468936307938332.html
END:VEVENT
BEGIN:VEVENT
UID:20260422T045231Z-7444468936366658590@eventfrog.at
DTSTAMP:20260422T045231Z
DTSTART:20260630T154500Z
DTEND:20260630T190000Z
SUMMARY:YOGA Einsteiger*innen-Kurs
DESCRIPTION:Ein neuer Yoga-Kurs  für fast alle im niegelnagel neuen Studio von YOGAWERK, quasi eine Stadtlichtung im 2. OG der Grabenstrasse 4 in Thun. \n\nhttps://eventfrog.at/de/p/sport-fitness/yoga/yoga-einsteiger-innen-kurs-7444468936366658590.html
LOCATION:YOGAWERK
GEO:46.761711;7.627932
URL:https://eventfrog.at/de/p/sport-fitness/yoga/yoga-einsteiger-innen-kurs-7444468936366658590.html
END:VEVENT
BEGIN:VEVENT
UID:20260422T045231Z-7444468936433767456@eventfrog.at
DTSTAMP:20260422T045231Z
DTSTART:20260701T154500Z
DTEND:20260701T190000Z
SUMMARY:YOGA Einsteiger*innen-Kurs
DESCRIPTION:Ein neuer Yoga-Kurs  für fast alle im niegelnagel neuen Studio von YOGAWERK, quasi eine Stadtlichtung im 2. OG der Grabenstrasse 4 in Thun. \n\nhttps://eventfrog.at/de/p/sport-fitness/yoga/yoga-einsteiger-innen-kurs-7444468936433767456.html
LOCATION:YOGAWERK
GEO:46.761711;7.627932
URL:https://eventfrog.at/de/p/sport-fitness/yoga/yoga-einsteiger-innen-kurs-7444468936433767456.html
END:VEVENT
END:VCALENDAR