BEGIN:VCALENDAR
VERSION:2.0
PRODID:EVENTFROG//EVENTGROUP//ICAL
BEGIN:VEVENT
UID:20260422T033950Z-7444357066100049874@eventfrog.at
DTSTAMP:20260422T033950Z
DTSTART:20260419T130000Z
DTEND:20260419T150000Z
SUMMARY:Guido Nussbaum und Peter Roesch
DESCRIPTION:Ab 17. April zeigt der Ausstellungsraum Beletage in Aarau Werke von Guido Nussbaum und Peter Roesch im Zusammenspiel.\n\nhttps://eventfrog.at/de/p/kunst-ausstellungen/ausstellung/guido-nussbaum-und-peter-roesch-7444357066100049874.html
LOCATION:beletage Aarau
GEO:47.398685;8.063833
URL:https://eventfrog.at/de/p/kunst-ausstellungen/ausstellung/guido-nussbaum-und-peter-roesch-7444357066100049874.html
END:VEVENT
BEGIN:VEVENT
UID:20260422T033950Z-7444357066204907476@eventfrog.at
DTSTAMP:20260422T033950Z
DTSTART:20260423T150000Z
DTEND:20260423T170000Z
SUMMARY:Guido Nussbaum und Peter Roesch
DESCRIPTION:Ab 17. April zeigt der Ausstellungsraum Beletage in Aarau Werke von Guido Nussbaum und Peter Roesch im Zusammenspiel.\n\nhttps://eventfrog.at/de/p/kunst-ausstellungen/ausstellung/guido-nussbaum-und-peter-roesch-7444357066204907476.html
LOCATION:beletage Aarau
GEO:47.398685;8.063833
URL:https://eventfrog.at/de/p/kunst-ausstellungen/ausstellung/guido-nussbaum-und-peter-roesch-7444357066204907476.html
END:VEVENT
BEGIN:VEVENT
UID:20260422T033950Z-7444357066284599254@eventfrog.at
DTSTAMP:20260422T033950Z
DTSTART:20260424T150000Z
DTEND:20260424T170000Z
SUMMARY:Guido Nussbaum und Peter Roesch
DESCRIPTION:Ab 17. April zeigt der Ausstellungsraum Beletage in Aarau Werke von Guido Nussbaum und Peter Roesch im Zusammenspiel.\n\nhttps://eventfrog.at/de/p/kunst-ausstellungen/ausstellung/guido-nussbaum-und-peter-roesch-7444357066284599254.html
LOCATION:beletage Aarau
GEO:47.398685;8.063833
URL:https://eventfrog.at/de/p/kunst-ausstellungen/ausstellung/guido-nussbaum-und-peter-roesch-7444357066284599254.html
END:VEVENT
BEGIN:VEVENT
UID:20260422T033950Z-7444357066351708120@eventfrog.at
DTSTAMP:20260422T033950Z
DTSTART:20260426T130000Z
DTEND:20260426T150000Z
SUMMARY:Guido Nussbaum und Peter Roesch
DESCRIPTION:Ab 17. April zeigt der Ausstellungsraum Beletage in Aarau Werke von Guido Nussbaum und Peter Roesch im Zusammenspiel.\n\nhttps://eventfrog.at/de/p/kunst-ausstellungen/ausstellung/guido-nussbaum-und-peter-roesch-7444357066351708120.html
LOCATION:beletage Aarau
GEO:47.398685;8.063833
URL:https://eventfrog.at/de/p/kunst-ausstellungen/ausstellung/guido-nussbaum-und-peter-roesch-7444357066351708120.html
END:VEVENT
BEGIN:VEVENT
UID:20260422T033950Z-7444357066414622682@eventfrog.at
DTSTAMP:20260422T033950Z
DTSTART:20260430T150000Z
DTEND:20260430T170000Z
SUMMARY:Guido Nussbaum und Peter Roesch
DESCRIPTION:Ab 17. April zeigt der Ausstellungsraum Beletage in Aarau Werke von Guido Nussbaum und Peter Roesch im Zusammenspiel.\n\nhttps://eventfrog.at/de/p/kunst-ausstellungen/ausstellung/guido-nussbaum-und-peter-roesch-7444357066414622682.html
LOCATION:beletage Aarau
GEO:47.398685;8.063833
URL:https://eventfrog.at/de/p/kunst-ausstellungen/ausstellung/guido-nussbaum-und-peter-roesch-7444357066414622682.html
END:VEVENT
BEGIN:VEVENT
UID:20260422T033950Z-7444357066473342940@eventfrog.at
DTSTAMP:20260422T033950Z
DTSTART:20260501T150000Z
DTEND:20260501T170000Z
SUMMARY:Guido Nussbaum und Peter Roesch
DESCRIPTION:Ab 17. April zeigt der Ausstellungsraum Beletage in Aarau Werke von Guido Nussbaum und Peter Roesch im Zusammenspiel.\n\nhttps://eventfrog.at/de/p/kunst-ausstellungen/ausstellung/guido-nussbaum-und-peter-roesch-7444357066473342940.html
LOCATION:beletage Aarau
GEO:47.398685;8.063833
URL:https://eventfrog.at/de/p/kunst-ausstellungen/ausstellung/guido-nussbaum-und-peter-roesch-7444357066473342940.html
END:VEVENT
BEGIN:VEVENT
UID:20260422T033950Z-7444357066536257502@eventfrog.at
DTSTAMP:20260422T033950Z
DTSTART:20260503T130000Z
DTEND:20260503T150000Z
SUMMARY:Guido Nussbaum und Peter Roesch
DESCRIPTION:Ab 17. April zeigt der Ausstellungsraum Beletage in Aarau Werke von Guido Nussbaum und Peter Roesch im Zusammenspiel.\n\nhttps://eventfrog.at/de/p/kunst-ausstellungen/ausstellung/guido-nussbaum-und-peter-roesch-7444357066536257502.html
LOCATION:beletage Aarau
GEO:47.398685;8.063833
URL:https://eventfrog.at/de/p/kunst-ausstellungen/ausstellung/guido-nussbaum-und-peter-roesch-7444357066536257502.html
END:VEVENT
BEGIN:VEVENT
UID:20260422T033950Z-7444357066603366368@eventfrog.at
DTSTAMP:20260422T033950Z
DTSTART:20260507T150000Z
DTEND:20260507T170000Z
SUMMARY:Guido Nussbaum und Peter Roesch
DESCRIPTION:Ab 17. April zeigt der Ausstellungsraum Beletage in Aarau Werke von Guido Nussbaum und Peter Roesch im Zusammenspiel.\n\nhttps://eventfrog.at/de/p/kunst-ausstellungen/ausstellung/guido-nussbaum-und-peter-roesch-7444357066603366368.html
LOCATION:beletage Aarau
GEO:47.398685;8.063833
URL:https://eventfrog.at/de/p/kunst-ausstellungen/ausstellung/guido-nussbaum-und-peter-roesch-7444357066603366368.html
END:VEVENT
BEGIN:VEVENT
UID:20260422T033950Z-7444357066678863842@eventfrog.at
DTSTAMP:20260422T033950Z
DTSTART:20260508T150000Z
DTEND:20260508T170000Z
SUMMARY:Guido Nussbaum und Peter Roesch
DESCRIPTION:Ab 17. April zeigt der Ausstellungsraum Beletage in Aarau Werke von Guido Nussbaum und Peter Roesch im Zusammenspiel.\n\nhttps://eventfrog.at/de/p/kunst-ausstellungen/ausstellung/guido-nussbaum-und-peter-roesch-7444357066678863842.html
LOCATION:beletage Aarau
GEO:47.398685;8.063833
URL:https://eventfrog.at/de/p/kunst-ausstellungen/ausstellung/guido-nussbaum-und-peter-roesch-7444357066678863842.html
END:VEVENT
BEGIN:VEVENT
UID:20260422T033950Z-7444357066779527140@eventfrog.at
DTSTAMP:20260422T033950Z
DTSTART:20260510T130000Z
DTEND:20260510T150000Z
SUMMARY:Guido Nussbaum und Peter Roesch
DESCRIPTION:Ab 17. April zeigt der Ausstellungsraum Beletage in Aarau Werke von Guido Nussbaum und Peter Roesch im Zusammenspiel.\n\nhttps://eventfrog.at/de/p/kunst-ausstellungen/ausstellung/guido-nussbaum-und-peter-roesch-7444357066779527140.html
LOCATION:beletage Aarau
GEO:47.398685;8.063833
URL:https://eventfrog.at/de/p/kunst-ausstellungen/ausstellung/guido-nussbaum-und-peter-roesch-7444357066779527140.html
END:VEVENT
BEGIN:VEVENT
UID:20260422T033950Z-7444357066863413222@eventfrog.at
DTSTAMP:20260422T033950Z
DTSTART:20260514T150000Z
DTEND:20260514T170000Z
SUMMARY:Guido Nussbaum und Peter Roesch
DESCRIPTION:Ab 17. April zeigt der Ausstellungsraum Beletage in Aarau Werke von Guido Nussbaum und Peter Roesch im Zusammenspiel.\n\nhttps://eventfrog.at/de/p/kunst-ausstellungen/ausstellung/guido-nussbaum-und-peter-roesch-7444357066863413222.html
LOCATION:beletage Aarau
GEO:47.398685;8.063833
URL:https://eventfrog.at/de/p/kunst-ausstellungen/ausstellung/guido-nussbaum-und-peter-roesch-7444357066863413222.html
END:VEVENT
BEGIN:VEVENT
UID:20260422T033950Z-7444357066926327784@eventfrog.at
DTSTAMP:20260422T033950Z
DTSTART:20260515T150000Z
DTEND:20260515T170000Z
SUMMARY:Guido Nussbaum und Peter Roesch
DESCRIPTION:Ab 17. April zeigt der Ausstellungsraum Beletage in Aarau Werke von Guido Nussbaum und Peter Roesch im Zusammenspiel.\n\nhttps://eventfrog.at/de/p/kunst-ausstellungen/ausstellung/guido-nussbaum-und-peter-roesch-7444357066926327784.html
LOCATION:beletage Aarau
GEO:47.398685;8.063833
URL:https://eventfrog.at/de/p/kunst-ausstellungen/ausstellung/guido-nussbaum-und-peter-roesch-7444357066926327784.html
END:VEVENT
BEGIN:VEVENT
UID:20260422T033950Z-7444357066989242346@eventfrog.at
DTSTAMP:20260422T033950Z
DTSTART:20260517T130000Z
DTEND:20260517T150000Z
SUMMARY:Guido Nussbaum und Peter Roesch
DESCRIPTION:Ab 17. April zeigt der Ausstellungsraum Beletage in Aarau Werke von Guido Nussbaum und Peter Roesch im Zusammenspiel.\n\nhttps://eventfrog.at/de/p/kunst-ausstellungen/ausstellung/guido-nussbaum-und-peter-roesch-7444357066989242346.html
LOCATION:beletage Aarau
GEO:47.398685;8.063833
URL:https://eventfrog.at/de/p/kunst-ausstellungen/ausstellung/guido-nussbaum-und-peter-roesch-7444357066989242346.html
END:VEVENT
END:VCALENDAR