BEGIN:VCALENDAR
VERSION:2.0
PRODID:EVENTFROG//EVENTGROUP//ICAL
BEGIN:VEVENT
UID:20260422T112526Z-7443641410325094721@eventfrog.at
DTSTAMP:20260422T112526Z
DTSTART:20260606T173000Z
DTEND:20260606T184500Z
SUMMARY:The Latin Jazz Mass - Chor Audite Nova Zug
DESCRIPTION:Der Chor Audite Nova Zug singen die Latin Jazz Mass von Martin Völlinger in der Kirche St. Johannes Zug.\n\nhttps://eventfrog.at/de/p/konzerte/chor/the-latin-jazz-mass-chor-audite-nova-zug-7443641410325094721.html
LOCATION:Kirche St. Johannes Zug
GEO:47.178875;8.504912
URL:https://eventfrog.at/de/p/konzerte/chor/the-latin-jazz-mass-chor-audite-nova-zug-7443641410325094721.html
END:VEVENT
BEGIN:VEVENT
UID:20260422T112526Z-7443642170194556896@eventfrog.at
DTSTAMP:20260422T112526Z
DTSTART:20260607T150000Z
DTEND:20260607T161500Z
SUMMARY:The Latin Jazz Mass - Chor Audite Nova Zug
DESCRIPTION:Der Chor Audite Nova Zug singen die Latin Jazz Mass von Martin Völlinger in der Kirche St. Johannes Zug.\n\nhttps://eventfrog.at/de/p/konzerte/chor/the-latin-jazz-mass-chor-audite-nova-zug-7443642170194556896.html
LOCATION:Kirche St. Johannes Zug
GEO:47.178875;8.504912
URL:https://eventfrog.at/de/p/konzerte/chor/the-latin-jazz-mass-chor-audite-nova-zug-7443642170194556896.html
END:VEVENT
END:VCALENDAR