BEGIN:VCALENDAR
VERSION:2.0
PRODID:EVENTFROG//EVENTGROUP//ICAL
BEGIN:VEVENT
UID:20260419T130241Z-7443628283495711919@eventfrog.at
DTSTAMP:20260419T130241Z
DTSTART:20260331T114500Z
DTEND:20260331T150000Z
SUMMARY:Senioren Jass
DESCRIPTION:Im April Wöchentlich um 13.45 Uhr.\n\nhttps://eventfrog.at/de/p/freizeit-ausfluege/gaming/senioren-jass-7443628283495711919.html
LOCATION:Tissot Velodrome
GEO:47.185271;7.405608
URL:https://eventfrog.at/de/p/freizeit-ausfluege/gaming/senioren-jass-7443628283495711919.html
END:VEVENT
BEGIN:VEVENT
UID:20260419T130241Z-7443628380002462142@eventfrog.at
DTSTAMP:20260419T130241Z
DTSTART:20260407T114500Z
DTEND:20260407T150000Z
SUMMARY:Senioren Jass
DESCRIPTION:Im April Wöchentlich um 13.45 Uhr.\n\nhttps://eventfrog.at/de/p/freizeit-ausfluege/gaming/senioren-jass-7443628380002462142.html
LOCATION:Tissot Velodrome
GEO:47.185271;7.405608
URL:https://eventfrog.at/de/p/freizeit-ausfluege/gaming/senioren-jass-7443628380002462142.html
END:VEVENT
BEGIN:VEVENT
UID:20260419T130241Z-7443628380069571531@eventfrog.at
DTSTAMP:20260419T130241Z
DTSTART:20260414T114500Z
DTEND:20260414T150000Z
SUMMARY:Senioren Jass
DESCRIPTION:Im April Wöchentlich um 13.45 Uhr.\n\nhttps://eventfrog.at/de/p/freizeit-ausfluege/gaming/senioren-jass-7443628380069571531.html
LOCATION:Tissot Velodrome
GEO:47.185271;7.405608
URL:https://eventfrog.at/de/p/freizeit-ausfluege/gaming/senioren-jass-7443628380069571531.html
END:VEVENT
BEGIN:VEVENT
UID:20260419T130241Z-7443628380136680396@eventfrog.at
DTSTAMP:20260419T130241Z
DTSTART:20260421T114500Z
DTEND:20260421T150000Z
SUMMARY:Senioren Jass
DESCRIPTION:Im April Wöchentlich um 13.45 Uhr.\n\nhttps://eventfrog.at/de/p/freizeit-ausfluege/gaming/senioren-jass-7443628380136680396.html
LOCATION:Tissot Velodrome
GEO:47.185271;7.405608
URL:https://eventfrog.at/de/p/freizeit-ausfluege/gaming/senioren-jass-7443628380136680396.html
END:VEVENT
BEGIN:VEVENT
UID:20260419T130241Z-7443628380203789639@eventfrog.at
DTSTAMP:20260419T130241Z
DTSTART:20260428T114500Z
DTEND:20260428T150000Z
SUMMARY:Senioren Jass
DESCRIPTION:Im April Wöchentlich um 13.45 Uhr.\n\nhttps://eventfrog.at/de/p/freizeit-ausfluege/gaming/senioren-jass-7443628380203789639.html
LOCATION:Tissot Velodrome
GEO:47.185271;7.405608
URL:https://eventfrog.at/de/p/freizeit-ausfluege/gaming/senioren-jass-7443628380203789639.html
END:VEVENT
END:VCALENDAR