BEGIN:VCALENDAR
VERSION:2.0
PRODID:EVENTFROG//EVENTGROUP//ICAL
BEGIN:VEVENT
UID:20260422T060546Z-7443566776787440242@eventfrog.at
DTSTAMP:20260422T060546Z
DTSTART:20260417T060000Z
DTEND:20260417T150000Z
SUMMARY:Kostenloser Lungenfunktionstest
DESCRIPTION:Anlässlich 125 Jahre bieten wir in Emmen kostenlose Lungenfunktionstests mit persönlicher Beratung an.\n\nhttps://eventfrog.at/de/p/gesundheit-spiritualitaet/gesundheit-wohlbefinden/kostenloser-lungenfunktionstest-7443566776787440242.html
LOCATION:Lungenliga Zentralschweiz, Geschäfts- und Beratungsstelle Emmen
GEO:47.076198;8.291606
URL:https://eventfrog.at/de/p/gesundheit-spiritualitaet/gesundheit-wohlbefinden/kostenloser-lungenfunktionstest-7443566776787440242.html
END:VEVENT
BEGIN:VEVENT
UID:20260422T060546Z-7443566870085551739@eventfrog.at
DTSTAMP:20260422T060546Z
DTSTART:20260422T060000Z
DTEND:20260422T150000Z
SUMMARY:Kostenloser Lungenfunktionstest
DESCRIPTION:Anlässlich 125 Jahre bieten wir in Emmen kostenlose Lungenfunktionstests mit persönlicher Beratung an.\n\nhttps://eventfrog.at/de/p/gesundheit-spiritualitaet/gesundheit-wohlbefinden/kostenloser-lungenfunktionstest-7443566870085551739.html
LOCATION:Lungenliga Zentralschweiz, Geschäfts- und Beratungsstelle Emmen
GEO:47.076198;8.291606
URL:https://eventfrog.at/de/p/gesundheit-spiritualitaet/gesundheit-wohlbefinden/kostenloser-lungenfunktionstest-7443566870085551739.html
END:VEVENT
END:VCALENDAR