BEGIN:VCALENDAR
VERSION:2.0
PRODID:EVENTFROG//EVENTGROUP//ICAL
BEGIN:VEVENT
UID:20260422T033950Z-7443383767069103051@eventfrog.at
DTSTAMP:20260422T033950Z
DTSTART:20260409T150000Z
DTEND:20260409T210000Z
SUMMARY:SILO ROOFTOP AFTERWORK LOUNGE
DESCRIPTION:Wir feiern mit dir den Donnerstagabend auf unserer wunderschönen Rooftop-Terrasse. Ankommen, abschalten, geniessen. BIG Burger, Beats & Sunset.\n\nhttps://eventfrog.at/de/p/essen-trinken/silo-rooftop-afterwork-lounge-7443383767069103051.html
LOCATION:SILO Rooftop
GEO:47.452289;8.705186
URL:https://eventfrog.at/de/p/essen-trinken/silo-rooftop-afterwork-lounge-7443383767069103051.html
END:VEVENT
BEGIN:VEVENT
UID:20260422T033950Z-7443384606470999450@eventfrog.at
DTSTAMP:20260422T033950Z
DTSTART:20260416T150000Z
DTEND:20260416T210000Z
SUMMARY:SILO ROOFTOP AFTERWORK LOUNGE
DESCRIPTION:Wir feiern mit dir den Donnerstagabend auf unserer wunderschönen Rooftop-Terrasse. Ankommen, abschalten, geniessen. BIG Burger, Beats & Sunset.\n\nhttps://eventfrog.at/de/p/essen-trinken/silo-rooftop-afterwork-lounge-7443384606470999450.html
LOCATION:SILO Rooftop
GEO:47.452289;8.705186
URL:https://eventfrog.at/de/p/essen-trinken/silo-rooftop-afterwork-lounge-7443384606470999450.html
END:VEVENT
BEGIN:VEVENT
UID:20260422T033950Z-7443384606601023002@eventfrog.at
DTSTAMP:20260422T033950Z
DTSTART:20260423T150000Z
DTEND:20260423T210000Z
SUMMARY:SILO ROOFTOP AFTERWORK LOUNGE
DESCRIPTION:Wir feiern mit dir den Donnerstagabend auf unserer wunderschönen Rooftop-Terrasse. Ankommen, abschalten, geniessen. BIG Burger, Beats & Sunset.\n\nhttps://eventfrog.at/de/p/essen-trinken/silo-rooftop-afterwork-lounge-7443384606601023002.html
LOCATION:SILO Rooftop
GEO:47.452289;8.705186
URL:https://eventfrog.at/de/p/essen-trinken/silo-rooftop-afterwork-lounge-7443384606601023002.html
END:VEVENT
BEGIN:VEVENT
UID:20260422T033950Z-7443384606714269212@eventfrog.at
DTSTAMP:20260422T033950Z
DTSTART:20260430T150000Z
DTEND:20260430T210000Z
SUMMARY:SILO ROOFTOP AFTERWORK LOUNGE
DESCRIPTION:Wir feiern mit dir den Donnerstagabend auf unserer wunderschönen Rooftop-Terrasse. Ankommen, abschalten, geniessen. BIG Burger, Beats & Sunset.\n\nhttps://eventfrog.at/de/p/essen-trinken/silo-rooftop-afterwork-lounge-7443384606714269212.html
LOCATION:SILO Rooftop
GEO:47.452289;8.705186
URL:https://eventfrog.at/de/p/essen-trinken/silo-rooftop-afterwork-lounge-7443384606714269212.html
END:VEVENT
BEGIN:VEVENT
UID:20260422T033950Z-7443384606823321118@eventfrog.at
DTSTAMP:20260422T033950Z
DTSTART:20260507T150000Z
DTEND:20260507T210000Z
SUMMARY:SILO ROOFTOP AFTERWORK LOUNGE
DESCRIPTION:Wir feiern mit dir den Donnerstagabend auf unserer wunderschönen Rooftop-Terrasse. Ankommen, abschalten, geniessen. BIG Burger, Beats & Sunset.\n\nhttps://eventfrog.at/de/p/essen-trinken/silo-rooftop-afterwork-lounge-7443384606823321118.html
LOCATION:SILO Rooftop
GEO:47.452289;8.705186
URL:https://eventfrog.at/de/p/essen-trinken/silo-rooftop-afterwork-lounge-7443384606823321118.html
END:VEVENT
BEGIN:VEVENT
UID:20260422T033950Z-7443384606953344544@eventfrog.at
DTSTAMP:20260422T033950Z
DTSTART:20260514T150000Z
DTEND:20260514T210000Z
SUMMARY:SILO ROOFTOP AFTERWORK LOUNGE
DESCRIPTION:Wir feiern mit dir den Donnerstagabend auf unserer wunderschönen Rooftop-Terrasse. Ankommen, abschalten, geniessen. BIG Burger, Beats & Sunset.\n\nhttps://eventfrog.at/de/p/essen-trinken/silo-rooftop-afterwork-lounge-7443384606953344544.html
LOCATION:SILO Rooftop
GEO:47.452289;8.705186
URL:https://eventfrog.at/de/p/essen-trinken/silo-rooftop-afterwork-lounge-7443384606953344544.html
END:VEVENT
BEGIN:VEVENT
UID:20260422T033950Z-7443384607095951412@eventfrog.at
DTSTAMP:20260422T033950Z
DTSTART:20260521T150000Z
DTEND:20260521T210000Z
SUMMARY:SILO ROOFTOP AFTERWORK LOUNGE
DESCRIPTION:Wir feiern mit dir den Donnerstagabend auf unserer wunderschönen Rooftop-Terrasse. Ankommen, abschalten, geniessen. BIG Burger, Beats & Sunset.\n\nhttps://eventfrog.at/de/p/essen-trinken/silo-rooftop-afterwork-lounge-7443384607095951412.html
LOCATION:SILO Rooftop
GEO:47.452289;8.705186
URL:https://eventfrog.at/de/p/essen-trinken/silo-rooftop-afterwork-lounge-7443384607095951412.html
END:VEVENT
BEGIN:VEVENT
UID:20260422T033950Z-7443384607251140779@eventfrog.at
DTSTAMP:20260422T033950Z
DTSTART:20260528T150000Z
DTEND:20260528T210000Z
SUMMARY:SILO ROOFTOP AFTERWORK LOUNGE
DESCRIPTION:Wir feiern mit dir den Donnerstagabend auf unserer wunderschönen Rooftop-Terrasse. Ankommen, abschalten, geniessen. BIG Burger, Beats & Sunset.\n\nhttps://eventfrog.at/de/p/essen-trinken/silo-rooftop-afterwork-lounge-7443384607251140779.html
LOCATION:SILO Rooftop
GEO:47.452289;8.705186
URL:https://eventfrog.at/de/p/essen-trinken/silo-rooftop-afterwork-lounge-7443384607251140779.html
END:VEVENT
BEGIN:VEVENT
UID:20260422T033950Z-7443384607402135802@eventfrog.at
DTSTAMP:20260422T033950Z
DTSTART:20260604T150000Z
DTEND:20260604T210000Z
SUMMARY:SILO ROOFTOP AFTERWORK LOUNGE
DESCRIPTION:Wir feiern mit dir den Donnerstagabend auf unserer wunderschönen Rooftop-Terrasse. Ankommen, abschalten, geniessen. BIG Burger, Beats & Sunset.\n\nhttps://eventfrog.at/de/p/essen-trinken/silo-rooftop-afterwork-lounge-7443384607402135802.html
LOCATION:SILO Rooftop
GEO:47.452289;8.705186
URL:https://eventfrog.at/de/p/essen-trinken/silo-rooftop-afterwork-lounge-7443384607402135802.html
END:VEVENT
BEGIN:VEVENT
UID:20260422T033950Z-7443384607557325070@eventfrog.at
DTSTAMP:20260422T033950Z
DTSTART:20260611T150000Z
DTEND:20260611T210000Z
SUMMARY:SILO ROOFTOP AFTERWORK LOUNGE
DESCRIPTION:Wir feiern mit dir den Donnerstagabend auf unserer wunderschönen Rooftop-Terrasse. Ankommen, abschalten, geniessen. BIG Burger, Beats & Sunset.\n\nhttps://eventfrog.at/de/p/essen-trinken/silo-rooftop-afterwork-lounge-7443384607557325070.html
LOCATION:SILO Rooftop
GEO:47.452289;8.705186
URL:https://eventfrog.at/de/p/essen-trinken/silo-rooftop-afterwork-lounge-7443384607557325070.html
END:VEVENT
BEGIN:VEVENT
UID:20260422T033950Z-7443384607716708625@eventfrog.at
DTSTAMP:20260422T033950Z
DTSTART:20260618T150000Z
DTEND:20260618T210000Z
SUMMARY:SILO ROOFTOP AFTERWORK LOUNGE
DESCRIPTION:Wir feiern mit dir den Donnerstagabend auf unserer wunderschönen Rooftop-Terrasse. Ankommen, abschalten, geniessen. BIG Burger, Beats & Sunset.\n\nhttps://eventfrog.at/de/p/essen-trinken/silo-rooftop-afterwork-lounge-7443384607716708625.html
LOCATION:SILO Rooftop
GEO:47.452289;8.705186
URL:https://eventfrog.at/de/p/essen-trinken/silo-rooftop-afterwork-lounge-7443384607716708625.html
END:VEVENT
BEGIN:VEVENT
UID:20260422T033950Z-7443384607888675295@eventfrog.at
DTSTAMP:20260422T033950Z
DTSTART:20260625T150000Z
DTEND:20260625T210000Z
SUMMARY:SILO ROOFTOP AFTERWORK LOUNGE
DESCRIPTION:Wir feiern mit dir den Donnerstagabend auf unserer wunderschönen Rooftop-Terrasse. Ankommen, abschalten, geniessen. BIG Burger, Beats & Sunset.\n\nhttps://eventfrog.at/de/p/essen-trinken/silo-rooftop-afterwork-lounge-7443384607888675295.html
LOCATION:SILO Rooftop
GEO:47.452289;8.705186
URL:https://eventfrog.at/de/p/essen-trinken/silo-rooftop-afterwork-lounge-7443384607888675295.html
END:VEVENT
BEGIN:VEVENT
UID:20260422T033950Z-7443384608014504498@eventfrog.at
DTSTAMP:20260422T033950Z
DTSTART:20260702T150000Z
DTEND:20260702T210000Z
SUMMARY:SILO ROOFTOP AFTERWORK LOUNGE
DESCRIPTION:Wir feiern mit dir den Donnerstagabend auf unserer wunderschönen Rooftop-Terrasse. Ankommen, abschalten, geniessen. BIG Burger, Beats & Sunset.\n\nhttps://eventfrog.at/de/p/essen-trinken/silo-rooftop-afterwork-lounge-7443384608014504498.html
LOCATION:SILO Rooftop
GEO:47.452289;8.705186
URL:https://eventfrog.at/de/p/essen-trinken/silo-rooftop-afterwork-lounge-7443384608014504498.html
END:VEVENT
BEGIN:VEVENT
UID:20260422T033950Z-7443384608119362100@eventfrog.at
DTSTAMP:20260422T033950Z
DTSTART:20260709T150000Z
DTEND:20260709T210000Z
SUMMARY:SILO ROOFTOP AFTERWORK LOUNGE
DESCRIPTION:Wir feiern mit dir den Donnerstagabend auf unserer wunderschönen Rooftop-Terrasse. Ankommen, abschalten, geniessen. BIG Burger, Beats & Sunset.\n\nhttps://eventfrog.at/de/p/essen-trinken/silo-rooftop-afterwork-lounge-7443384608119362100.html
LOCATION:SILO Rooftop
GEO:47.452289;8.705186
URL:https://eventfrog.at/de/p/essen-trinken/silo-rooftop-afterwork-lounge-7443384608119362100.html
END:VEVENT
BEGIN:VEVENT
UID:20260422T033950Z-7443384608236802615@eventfrog.at
DTSTAMP:20260422T033950Z
DTSTART:20260716T150000Z
DTEND:20260716T210000Z
SUMMARY:SILO ROOFTOP AFTERWORK LOUNGE
DESCRIPTION:Wir feiern mit dir den Donnerstagabend auf unserer wunderschönen Rooftop-Terrasse. Ankommen, abschalten, geniessen. BIG Burger, Beats & Sunset.\n\nhttps://eventfrog.at/de/p/essen-trinken/silo-rooftop-afterwork-lounge-7443384608236802615.html
LOCATION:SILO Rooftop
GEO:47.452289;8.705186
URL:https://eventfrog.at/de/p/essen-trinken/silo-rooftop-afterwork-lounge-7443384608236802615.html
END:VEVENT
BEGIN:VEVENT
UID:20260422T033950Z-7443384608350048825@eventfrog.at
DTSTAMP:20260422T033950Z
DTSTART:20260723T150000Z
DTEND:20260723T210000Z
SUMMARY:SILO ROOFTOP AFTERWORK LOUNGE
DESCRIPTION:Wir feiern mit dir den Donnerstagabend auf unserer wunderschönen Rooftop-Terrasse. Ankommen, abschalten, geniessen. BIG Burger, Beats & Sunset.\n\nhttps://eventfrog.at/de/p/essen-trinken/silo-rooftop-afterwork-lounge-7443384608350048825.html
LOCATION:SILO Rooftop
GEO:47.452289;8.705186
URL:https://eventfrog.at/de/p/essen-trinken/silo-rooftop-afterwork-lounge-7443384608350048825.html
END:VEVENT
BEGIN:VEVENT
UID:20260422T033950Z-7443384608463295035@eventfrog.at
DTSTAMP:20260422T033950Z
DTSTART:20260730T150000Z
DTEND:20260730T210000Z
SUMMARY:SILO ROOFTOP AFTERWORK LOUNGE
DESCRIPTION:Wir feiern mit dir den Donnerstagabend auf unserer wunderschönen Rooftop-Terrasse. Ankommen, abschalten, geniessen. BIG Burger, Beats & Sunset.\n\nhttps://eventfrog.at/de/p/essen-trinken/silo-rooftop-afterwork-lounge-7443384608463295035.html
LOCATION:SILO Rooftop
GEO:47.452289;8.705186
URL:https://eventfrog.at/de/p/essen-trinken/silo-rooftop-afterwork-lounge-7443384608463295035.html
END:VEVENT
BEGIN:VEVENT
UID:20260422T033950Z-7443384608572346941@eventfrog.at
DTSTAMP:20260422T033950Z
DTSTART:20260806T150000Z
DTEND:20260806T210000Z
SUMMARY:SILO ROOFTOP AFTERWORK LOUNGE
DESCRIPTION:Wir feiern mit dir den Donnerstagabend auf unserer wunderschönen Rooftop-Terrasse. Ankommen, abschalten, geniessen. BIG Burger, Beats & Sunset.\n\nhttps://eventfrog.at/de/p/essen-trinken/silo-rooftop-afterwork-lounge-7443384608572346941.html
LOCATION:SILO Rooftop
GEO:47.452289;8.705186
URL:https://eventfrog.at/de/p/essen-trinken/silo-rooftop-afterwork-lounge-7443384608572346941.html
END:VEVENT
BEGIN:VEVENT
UID:20260422T033950Z-7443384608685593151@eventfrog.at
DTSTAMP:20260422T033950Z
DTSTART:20260813T150000Z
DTEND:20260813T210000Z
SUMMARY:SILO ROOFTOP AFTERWORK LOUNGE
DESCRIPTION:Wir feiern mit dir den Donnerstagabend auf unserer wunderschönen Rooftop-Terrasse. Ankommen, abschalten, geniessen. BIG Burger, Beats & Sunset.\n\nhttps://eventfrog.at/de/p/essen-trinken/silo-rooftop-afterwork-lounge-7443384608685593151.html
LOCATION:SILO Rooftop
GEO:47.452289;8.705186
URL:https://eventfrog.at/de/p/essen-trinken/silo-rooftop-afterwork-lounge-7443384608685593151.html
END:VEVENT
BEGIN:VEVENT
UID:20260422T033950Z-7443384608794645057@eventfrog.at
DTSTAMP:20260422T033950Z
DTSTART:20260820T150000Z
DTEND:20260820T210000Z
SUMMARY:SILO ROOFTOP AFTERWORK LOUNGE
DESCRIPTION:Wir feiern mit dir den Donnerstagabend auf unserer wunderschönen Rooftop-Terrasse. Ankommen, abschalten, geniessen. BIG Burger, Beats & Sunset.\n\nhttps://eventfrog.at/de/p/essen-trinken/silo-rooftop-afterwork-lounge-7443384608794645057.html
LOCATION:SILO Rooftop
GEO:47.452289;8.705186
URL:https://eventfrog.at/de/p/essen-trinken/silo-rooftop-afterwork-lounge-7443384608794645057.html
END:VEVENT
BEGIN:VEVENT
UID:20260422T033950Z-7443384608916279875@eventfrog.at
DTSTAMP:20260422T033950Z
DTSTART:20260827T150000Z
DTEND:20260827T210000Z
SUMMARY:SILO ROOFTOP AFTERWORK LOUNGE
DESCRIPTION:Wir feiern mit dir den Donnerstagabend auf unserer wunderschönen Rooftop-Terrasse. Ankommen, abschalten, geniessen. BIG Burger, Beats & Sunset.\n\nhttps://eventfrog.at/de/p/essen-trinken/silo-rooftop-afterwork-lounge-7443384608916279875.html
LOCATION:SILO Rooftop
GEO:47.452289;8.705186
URL:https://eventfrog.at/de/p/essen-trinken/silo-rooftop-afterwork-lounge-7443384608916279875.html
END:VEVENT
BEGIN:VEVENT
UID:20260422T033950Z-7443384609042108997@eventfrog.at
DTSTAMP:20260422T033950Z
DTSTART:20260903T150000Z
DTEND:20260903T210000Z
SUMMARY:SILO ROOFTOP AFTERWORK LOUNGE
DESCRIPTION:Wir feiern mit dir den Donnerstagabend auf unserer wunderschönen Rooftop-Terrasse. Ankommen, abschalten, geniessen. BIG Burger, Beats & Sunset.\n\nhttps://eventfrog.at/de/p/essen-trinken/silo-rooftop-afterwork-lounge-7443384609042108997.html
LOCATION:SILO Rooftop
GEO:47.452289;8.705186
URL:https://eventfrog.at/de/p/essen-trinken/silo-rooftop-afterwork-lounge-7443384609042108997.html
END:VEVENT
BEGIN:VEVENT
UID:20260422T033950Z-7443384609151160903@eventfrog.at
DTSTAMP:20260422T033950Z
DTSTART:20260910T150000Z
DTEND:20260910T210000Z
SUMMARY:SILO ROOFTOP AFTERWORK LOUNGE
DESCRIPTION:Wir feiern mit dir den Donnerstagabend auf unserer wunderschönen Rooftop-Terrasse. Ankommen, abschalten, geniessen. BIG Burger, Beats & Sunset.\n\nhttps://eventfrog.at/de/p/essen-trinken/silo-rooftop-afterwork-lounge-7443384609151160903.html
LOCATION:SILO Rooftop
GEO:47.452289;8.705186
URL:https://eventfrog.at/de/p/essen-trinken/silo-rooftop-afterwork-lounge-7443384609151160903.html
END:VEVENT
BEGIN:VEVENT
UID:20260422T033950Z-7443384609272795839@eventfrog.at
DTSTAMP:20260422T033950Z
DTSTART:20260917T150000Z
DTEND:20260917T210000Z
SUMMARY:SILO ROOFTOP AFTERWORK LOUNGE
DESCRIPTION:Wir feiern mit dir den Donnerstagabend auf unserer wunderschönen Rooftop-Terrasse. Ankommen, abschalten, geniessen. BIG Burger, Beats & Sunset.\n\nhttps://eventfrog.at/de/p/essen-trinken/silo-rooftop-afterwork-lounge-7443384609272795839.html
LOCATION:SILO Rooftop
GEO:47.452289;8.705186
URL:https://eventfrog.at/de/p/essen-trinken/silo-rooftop-afterwork-lounge-7443384609272795839.html
END:VEVENT
BEGIN:VEVENT
UID:20260422T033950Z-7443384609402819266@eventfrog.at
DTSTAMP:20260422T033950Z
DTSTART:20260924T150000Z
DTEND:20260924T210000Z
SUMMARY:SILO ROOFTOP AFTERWORK LOUNGE
DESCRIPTION:Wir feiern mit dir den Donnerstagabend auf unserer wunderschönen Rooftop-Terrasse. Ankommen, abschalten, geniessen. BIG Burger, Beats & Sunset.\n\nhttps://eventfrog.at/de/p/essen-trinken/silo-rooftop-afterwork-lounge-7443384609402819266.html
LOCATION:SILO Rooftop
GEO:47.452289;8.705186
URL:https://eventfrog.at/de/p/essen-trinken/silo-rooftop-afterwork-lounge-7443384609402819266.html
END:VEVENT
BEGIN:VEVENT
UID:20260422T033950Z-7443384609520259780@eventfrog.at
DTSTAMP:20260422T033950Z
DTSTART:20261001T150000Z
DTEND:20261001T210000Z
SUMMARY:SILO ROOFTOP AFTERWORK LOUNGE
DESCRIPTION:Wir feiern mit dir den Donnerstagabend auf unserer wunderschönen Rooftop-Terrasse. Ankommen, abschalten, geniessen. BIG Burger, Beats & Sunset.\n\nhttps://eventfrog.at/de/p/essen-trinken/silo-rooftop-afterwork-lounge-7443384609520259780.html
LOCATION:SILO Rooftop
GEO:47.452289;8.705186
URL:https://eventfrog.at/de/p/essen-trinken/silo-rooftop-afterwork-lounge-7443384609520259780.html
END:VEVENT
END:VCALENDAR