BEGIN:VCALENDAR
VERSION:2.0
PRODID:EVENTFROG//EVENTGROUP//ICAL
BEGIN:VEVENT
UID:20260422T013200Z-7442605847723678354@eventfrog.at
DTSTAMP:20260422T013200Z
DTSTART:20260502T090000Z
DTEND:20260502T150000Z
SUMMARY:RechtsLinksLinksRechtsBlabla – AUSSTELLUNG – Bersy Suárez
DESCRIPTION:RechtsLinksLinksRechtsBlabla – AUSSTELLUNG  Ausstellung mit Werken der Künstlerin Bersy Suárez.\n\n 2. bis 30. Mai 2026. Dachsartgalerie, Postgasse 34 , 3011 Bern\n\n\nhttps://eventfrog.at/de/p/kunst-ausstellungen/ausstellung/rechtslinkslinksrechtsblabla-ausstellung-bersy-suarez-7442605847723678354.html
LOCATION:Dachsartgalerie
GEO:46.949024;7.454784
URL:https://eventfrog.at/de/p/kunst-ausstellungen/ausstellung/rechtslinkslinksrechtsblabla-ausstellung-bersy-suarez-7442605847723678354.html
END:VEVENT
BEGIN:VEVENT
UID:20260422T013200Z-7442605847782398612@eventfrog.at
DTSTAMP:20260422T013200Z
DTSTART:20260505T120000Z
DTEND:20260505T160000Z
SUMMARY:RechtsLinksLinksRechtsBlabla – AUSSTELLUNG – Bersy Suárez
DESCRIPTION:RechtsLinksLinksRechtsBlabla – AUSSTELLUNG  Ausstellung mit Werken der Künstlerin Bersy Suárez.\n\n 2. bis 30. Mai 2026. Dachsartgalerie, Postgasse 34 , 3011 Bern\n\n\nhttps://eventfrog.at/de/p/kunst-ausstellungen/ausstellung/rechtslinkslinksrechtsblabla-ausstellung-bersy-suarez-7442605847782398612.html
LOCATION:Dachsartgalerie
GEO:46.949024;7.454784
URL:https://eventfrog.at/de/p/kunst-ausstellungen/ausstellung/rechtslinkslinksrechtsblabla-ausstellung-bersy-suarez-7442605847782398612.html
END:VEVENT
BEGIN:VEVENT
UID:20260422T013200Z-7442605847841118870@eventfrog.at
DTSTAMP:20260422T013200Z
DTSTART:20260506T120000Z
DTEND:20260506T170000Z
SUMMARY:RechtsLinksLinksRechtsBlabla – AUSSTELLUNG – Bersy Suárez
DESCRIPTION:RechtsLinksLinksRechtsBlabla – AUSSTELLUNG  Ausstellung mit Werken der Künstlerin Bersy Suárez.\n\n 2. bis 30. Mai 2026. Dachsartgalerie, Postgasse 34 , 3011 Bern\n\n\nhttps://eventfrog.at/de/p/kunst-ausstellungen/ausstellung/rechtslinkslinksrechtsblabla-ausstellung-bersy-suarez-7442605847841118870.html
LOCATION:Dachsartgalerie
GEO:46.949024;7.454784
URL:https://eventfrog.at/de/p/kunst-ausstellungen/ausstellung/rechtslinkslinksrechtsblabla-ausstellung-bersy-suarez-7442605847841118870.html
END:VEVENT
BEGIN:VEVENT
UID:20260422T013200Z-7442605847912422040@eventfrog.at
DTSTAMP:20260422T013200Z
DTSTART:20260507T120000Z
DTEND:20260507T170000Z
SUMMARY:RechtsLinksLinksRechtsBlabla – AUSSTELLUNG – Bersy Suárez
DESCRIPTION:RechtsLinksLinksRechtsBlabla – AUSSTELLUNG  Ausstellung mit Werken der Künstlerin Bersy Suárez.\n\n 2. bis 30. Mai 2026. Dachsartgalerie, Postgasse 34 , 3011 Bern\n\n\nhttps://eventfrog.at/de/p/kunst-ausstellungen/ausstellung/rechtslinkslinksrechtsblabla-ausstellung-bersy-suarez-7442605847912422040.html
LOCATION:Dachsartgalerie
GEO:46.949024;7.454784
URL:https://eventfrog.at/de/p/kunst-ausstellungen/ausstellung/rechtslinkslinksrechtsblabla-ausstellung-bersy-suarez-7442605847912422040.html
END:VEVENT
BEGIN:VEVENT
UID:20260422T013200Z-7442605847983725210@eventfrog.at
DTSTAMP:20260422T013200Z
DTSTART:20260508T120000Z
DTEND:20260508T170000Z
SUMMARY:RechtsLinksLinksRechtsBlabla – AUSSTELLUNG – Bersy Suárez
DESCRIPTION:RechtsLinksLinksRechtsBlabla – AUSSTELLUNG  Ausstellung mit Werken der Künstlerin Bersy Suárez.\n\n 2. bis 30. Mai 2026. Dachsartgalerie, Postgasse 34 , 3011 Bern\n\n\nhttps://eventfrog.at/de/p/kunst-ausstellungen/ausstellung/rechtslinkslinksrechtsblabla-ausstellung-bersy-suarez-7442605847983725210.html
LOCATION:Dachsartgalerie
GEO:46.949024;7.454784
URL:https://eventfrog.at/de/p/kunst-ausstellungen/ausstellung/rechtslinkslinksrechtsblabla-ausstellung-bersy-suarez-7442605847983725210.html
END:VEVENT
BEGIN:VEVENT
UID:20260422T013200Z-7442605848046639772@eventfrog.at
DTSTAMP:20260422T013200Z
DTSTART:20260509T090000Z
DTEND:20260509T150000Z
SUMMARY:RechtsLinksLinksRechtsBlabla – AUSSTELLUNG – Bersy Suárez
DESCRIPTION:RechtsLinksLinksRechtsBlabla – AUSSTELLUNG  Ausstellung mit Werken der Künstlerin Bersy Suárez.\n\n 2. bis 30. Mai 2026. Dachsartgalerie, Postgasse 34 , 3011 Bern\n\n\nhttps://eventfrog.at/de/p/kunst-ausstellungen/ausstellung/rechtslinkslinksrechtsblabla-ausstellung-bersy-suarez-7442605848046639772.html
LOCATION:Dachsartgalerie
GEO:46.949024;7.454784
URL:https://eventfrog.at/de/p/kunst-ausstellungen/ausstellung/rechtslinkslinksrechtsblabla-ausstellung-bersy-suarez-7442605848046639772.html
END:VEVENT
BEGIN:VEVENT
UID:20260422T013200Z-7442605848105360031@eventfrog.at
DTSTAMP:20260422T013200Z
DTSTART:20260512T120000Z
DTEND:20260512T160000Z
SUMMARY:RechtsLinksLinksRechtsBlabla – AUSSTELLUNG – Bersy Suárez
DESCRIPTION:RechtsLinksLinksRechtsBlabla – AUSSTELLUNG  Ausstellung mit Werken der Künstlerin Bersy Suárez.\n\n 2. bis 30. Mai 2026. Dachsartgalerie, Postgasse 34 , 3011 Bern\n\n\nhttps://eventfrog.at/de/p/kunst-ausstellungen/ausstellung/rechtslinkslinksrechtsblabla-ausstellung-bersy-suarez-7442605848105360031.html
LOCATION:Dachsartgalerie
GEO:46.949024;7.454784
URL:https://eventfrog.at/de/p/kunst-ausstellungen/ausstellung/rechtslinkslinksrechtsblabla-ausstellung-bersy-suarez-7442605848105360031.html
END:VEVENT
BEGIN:VEVENT
UID:20260422T013200Z-7442605848164080300@eventfrog.at
DTSTAMP:20260422T013200Z
DTSTART:20260513T120000Z
DTEND:20260513T170000Z
SUMMARY:RechtsLinksLinksRechtsBlabla – AUSSTELLUNG – Bersy Suárez
DESCRIPTION:RechtsLinksLinksRechtsBlabla – AUSSTELLUNG  Ausstellung mit Werken der Künstlerin Bersy Suárez.\n\n 2. bis 30. Mai 2026. Dachsartgalerie, Postgasse 34 , 3011 Bern\n\n\nhttps://eventfrog.at/de/p/kunst-ausstellungen/ausstellung/rechtslinkslinksrechtsblabla-ausstellung-bersy-suarez-7442605848164080300.html
LOCATION:Dachsartgalerie
GEO:46.949024;7.454784
URL:https://eventfrog.at/de/p/kunst-ausstellungen/ausstellung/rechtslinkslinksrechtsblabla-ausstellung-bersy-suarez-7442605848164080300.html
END:VEVENT
BEGIN:VEVENT
UID:20260422T013200Z-7442605848235383470@eventfrog.at
DTSTAMP:20260422T013200Z
DTSTART:20260514T120000Z
DTEND:20260514T170000Z
SUMMARY:RechtsLinksLinksRechtsBlabla – AUSSTELLUNG – Bersy Suárez
DESCRIPTION:RechtsLinksLinksRechtsBlabla – AUSSTELLUNG  Ausstellung mit Werken der Künstlerin Bersy Suárez.\n\n 2. bis 30. Mai 2026. Dachsartgalerie, Postgasse 34 , 3011 Bern\n\n\nhttps://eventfrog.at/de/p/kunst-ausstellungen/ausstellung/rechtslinkslinksrechtsblabla-ausstellung-bersy-suarez-7442605848235383470.html
LOCATION:Dachsartgalerie
GEO:46.949024;7.454784
URL:https://eventfrog.at/de/p/kunst-ausstellungen/ausstellung/rechtslinkslinksrechtsblabla-ausstellung-bersy-suarez-7442605848235383470.html
END:VEVENT
BEGIN:VEVENT
UID:20260422T013200Z-7442605848302492336@eventfrog.at
DTSTAMP:20260422T013200Z
DTSTART:20260515T120000Z
DTEND:20260515T170000Z
SUMMARY:RechtsLinksLinksRechtsBlabla – AUSSTELLUNG – Bersy Suárez
DESCRIPTION:RechtsLinksLinksRechtsBlabla – AUSSTELLUNG  Ausstellung mit Werken der Künstlerin Bersy Suárez.\n\n 2. bis 30. Mai 2026. Dachsartgalerie, Postgasse 34 , 3011 Bern\n\n\nhttps://eventfrog.at/de/p/kunst-ausstellungen/ausstellung/rechtslinkslinksrechtsblabla-ausstellung-bersy-suarez-7442605848302492336.html
LOCATION:Dachsartgalerie
GEO:46.949024;7.454784
URL:https://eventfrog.at/de/p/kunst-ausstellungen/ausstellung/rechtslinkslinksrechtsblabla-ausstellung-bersy-suarez-7442605848302492336.html
END:VEVENT
BEGIN:VEVENT
UID:20260422T013200Z-7442605848369601202@eventfrog.at
DTSTAMP:20260422T013200Z
DTSTART:20260516T090000Z
DTEND:20260516T150000Z
SUMMARY:RechtsLinksLinksRechtsBlabla – AUSSTELLUNG – Bersy Suárez
DESCRIPTION:RechtsLinksLinksRechtsBlabla – AUSSTELLUNG  Ausstellung mit Werken der Künstlerin Bersy Suárez.\n\n 2. bis 30. Mai 2026. Dachsartgalerie, Postgasse 34 , 3011 Bern\n\n\nhttps://eventfrog.at/de/p/kunst-ausstellungen/ausstellung/rechtslinkslinksrechtsblabla-ausstellung-bersy-suarez-7442605848369601202.html
LOCATION:Dachsartgalerie
GEO:46.949024;7.454784
URL:https://eventfrog.at/de/p/kunst-ausstellungen/ausstellung/rechtslinkslinksrechtsblabla-ausstellung-bersy-suarez-7442605848369601202.html
END:VEVENT
BEGIN:VEVENT
UID:20260422T013200Z-7442605848436710068@eventfrog.at
DTSTAMP:20260422T013200Z
DTSTART:20260519T120000Z
DTEND:20260519T160000Z
SUMMARY:RechtsLinksLinksRechtsBlabla – AUSSTELLUNG – Bersy Suárez
DESCRIPTION:RechtsLinksLinksRechtsBlabla – AUSSTELLUNG  Ausstellung mit Werken der Künstlerin Bersy Suárez.\n\n 2. bis 30. Mai 2026. Dachsartgalerie, Postgasse 34 , 3011 Bern\n\n\nhttps://eventfrog.at/de/p/kunst-ausstellungen/ausstellung/rechtslinkslinksrechtsblabla-ausstellung-bersy-suarez-7442605848436710068.html
LOCATION:Dachsartgalerie
GEO:46.949024;7.454784
URL:https://eventfrog.at/de/p/kunst-ausstellungen/ausstellung/rechtslinkslinksrechtsblabla-ausstellung-bersy-suarez-7442605848436710068.html
END:VEVENT
BEGIN:VEVENT
UID:20260422T013200Z-7442605848495430326@eventfrog.at
DTSTAMP:20260422T013200Z
DTSTART:20260520T120000Z
DTEND:20260520T170000Z
SUMMARY:RechtsLinksLinksRechtsBlabla – AUSSTELLUNG – Bersy Suárez
DESCRIPTION:RechtsLinksLinksRechtsBlabla – AUSSTELLUNG  Ausstellung mit Werken der Künstlerin Bersy Suárez.\n\n 2. bis 30. Mai 2026. Dachsartgalerie, Postgasse 34 , 3011 Bern\n\n\nhttps://eventfrog.at/de/p/kunst-ausstellungen/ausstellung/rechtslinkslinksrechtsblabla-ausstellung-bersy-suarez-7442605848495430326.html
LOCATION:Dachsartgalerie
GEO:46.949024;7.454784
URL:https://eventfrog.at/de/p/kunst-ausstellungen/ausstellung/rechtslinkslinksrechtsblabla-ausstellung-bersy-suarez-7442605848495430326.html
END:VEVENT
BEGIN:VEVENT
UID:20260422T013200Z-7442605848570927800@eventfrog.at
DTSTAMP:20260422T013200Z
DTSTART:20260521T120000Z
DTEND:20260521T170000Z
SUMMARY:RechtsLinksLinksRechtsBlabla – AUSSTELLUNG – Bersy Suárez
DESCRIPTION:RechtsLinksLinksRechtsBlabla – AUSSTELLUNG  Ausstellung mit Werken der Künstlerin Bersy Suárez.\n\n 2. bis 30. Mai 2026. Dachsartgalerie, Postgasse 34 , 3011 Bern\n\n\nhttps://eventfrog.at/de/p/kunst-ausstellungen/ausstellung/rechtslinkslinksrechtsblabla-ausstellung-bersy-suarez-7442605848570927800.html
LOCATION:Dachsartgalerie
GEO:46.949024;7.454784
URL:https://eventfrog.at/de/p/kunst-ausstellungen/ausstellung/rechtslinkslinksrechtsblabla-ausstellung-bersy-suarez-7442605848570927800.html
END:VEVENT
BEGIN:VEVENT
UID:20260422T013200Z-7442605848629648058@eventfrog.at
DTSTAMP:20260422T013200Z
DTSTART:20260522T120000Z
DTEND:20260522T170000Z
SUMMARY:RechtsLinksLinksRechtsBlabla – AUSSTELLUNG – Bersy Suárez
DESCRIPTION:RechtsLinksLinksRechtsBlabla – AUSSTELLUNG  Ausstellung mit Werken der Künstlerin Bersy Suárez.\n\n 2. bis 30. Mai 2026. Dachsartgalerie, Postgasse 34 , 3011 Bern\n\n\nhttps://eventfrog.at/de/p/kunst-ausstellungen/ausstellung/rechtslinkslinksrechtsblabla-ausstellung-bersy-suarez-7442605848629648058.html
LOCATION:Dachsartgalerie
GEO:46.949024;7.454784
URL:https://eventfrog.at/de/p/kunst-ausstellungen/ausstellung/rechtslinkslinksrechtsblabla-ausstellung-bersy-suarez-7442605848629648058.html
END:VEVENT
BEGIN:VEVENT
UID:20260422T013200Z-7442605848688368316@eventfrog.at
DTSTAMP:20260422T013200Z
DTSTART:20260523T090000Z
DTEND:20260523T150000Z
SUMMARY:RechtsLinksLinksRechtsBlabla – AUSSTELLUNG – Bersy Suárez
DESCRIPTION:RechtsLinksLinksRechtsBlabla – AUSSTELLUNG  Ausstellung mit Werken der Künstlerin Bersy Suárez.\n\n 2. bis 30. Mai 2026. Dachsartgalerie, Postgasse 34 , 3011 Bern\n\n\nhttps://eventfrog.at/de/p/kunst-ausstellungen/ausstellung/rechtslinkslinksrechtsblabla-ausstellung-bersy-suarez-7442605848688368316.html
LOCATION:Dachsartgalerie
GEO:46.949024;7.454784
URL:https://eventfrog.at/de/p/kunst-ausstellungen/ausstellung/rechtslinkslinksrechtsblabla-ausstellung-bersy-suarez-7442605848688368316.html
END:VEVENT
BEGIN:VEVENT
UID:20260422T013200Z-7442605848772254398@eventfrog.at
DTSTAMP:20260422T013200Z
DTSTART:20260526T120000Z
DTEND:20260526T160000Z
SUMMARY:RechtsLinksLinksRechtsBlabla – AUSSTELLUNG – Bersy Suárez
DESCRIPTION:RechtsLinksLinksRechtsBlabla – AUSSTELLUNG  Ausstellung mit Werken der Künstlerin Bersy Suárez.\n\n 2. bis 30. Mai 2026. Dachsartgalerie, Postgasse 34 , 3011 Bern\n\n\nhttps://eventfrog.at/de/p/kunst-ausstellungen/ausstellung/rechtslinkslinksrechtsblabla-ausstellung-bersy-suarez-7442605848772254398.html
LOCATION:Dachsartgalerie
GEO:46.949024;7.454784
URL:https://eventfrog.at/de/p/kunst-ausstellungen/ausstellung/rechtslinkslinksrechtsblabla-ausstellung-bersy-suarez-7442605848772254398.html
END:VEVENT
BEGIN:VEVENT
UID:20260422T013200Z-7442605848868723392@eventfrog.at
DTSTAMP:20260422T013200Z
DTSTART:20260527T120000Z
DTEND:20260527T170000Z
SUMMARY:RechtsLinksLinksRechtsBlabla – AUSSTELLUNG – Bersy Suárez
DESCRIPTION:RechtsLinksLinksRechtsBlabla – AUSSTELLUNG  Ausstellung mit Werken der Künstlerin Bersy Suárez.\n\n 2. bis 30. Mai 2026. Dachsartgalerie, Postgasse 34 , 3011 Bern\n\n\nhttps://eventfrog.at/de/p/kunst-ausstellungen/ausstellung/rechtslinkslinksrechtsblabla-ausstellung-bersy-suarez-7442605848868723392.html
LOCATION:Dachsartgalerie
GEO:46.949024;7.454784
URL:https://eventfrog.at/de/p/kunst-ausstellungen/ausstellung/rechtslinkslinksrechtsblabla-ausstellung-bersy-suarez-7442605848868723392.html
END:VEVENT
BEGIN:VEVENT
UID:20260422T013200Z-7442605848973580994@eventfrog.at
DTSTAMP:20260422T013200Z
DTSTART:20260528T120000Z
DTEND:20260528T170000Z
SUMMARY:RechtsLinksLinksRechtsBlabla – AUSSTELLUNG – Bersy Suárez
DESCRIPTION:RechtsLinksLinksRechtsBlabla – AUSSTELLUNG  Ausstellung mit Werken der Künstlerin Bersy Suárez.\n\n 2. bis 30. Mai 2026. Dachsartgalerie, Postgasse 34 , 3011 Bern\n\n\nhttps://eventfrog.at/de/p/kunst-ausstellungen/ausstellung/rechtslinkslinksrechtsblabla-ausstellung-bersy-suarez-7442605848973580994.html
LOCATION:Dachsartgalerie
GEO:46.949024;7.454784
URL:https://eventfrog.at/de/p/kunst-ausstellungen/ausstellung/rechtslinkslinksrechtsblabla-ausstellung-bersy-suarez-7442605848973580994.html
END:VEVENT
BEGIN:VEVENT
UID:20260422T013200Z-7442605849032301252@eventfrog.at
DTSTAMP:20260422T013200Z
DTSTART:20260529T120000Z
DTEND:20260529T170000Z
SUMMARY:RechtsLinksLinksRechtsBlabla – AUSSTELLUNG – Bersy Suárez
DESCRIPTION:RechtsLinksLinksRechtsBlabla – AUSSTELLUNG  Ausstellung mit Werken der Künstlerin Bersy Suárez.\n\n 2. bis 30. Mai 2026. Dachsartgalerie, Postgasse 34 , 3011 Bern\n\n\nhttps://eventfrog.at/de/p/kunst-ausstellungen/ausstellung/rechtslinkslinksrechtsblabla-ausstellung-bersy-suarez-7442605849032301252.html
LOCATION:Dachsartgalerie
GEO:46.949024;7.454784
URL:https://eventfrog.at/de/p/kunst-ausstellungen/ausstellung/rechtslinkslinksrechtsblabla-ausstellung-bersy-suarez-7442605849032301252.html
END:VEVENT
BEGIN:VEVENT
UID:20260422T013200Z-7442605849091021510@eventfrog.at
DTSTAMP:20260422T013200Z
DTSTART:20260530T090000Z
DTEND:20260530T150000Z
SUMMARY:RechtsLinksLinksRechtsBlabla – AUSSTELLUNG – Bersy Suárez
DESCRIPTION:RechtsLinksLinksRechtsBlabla – AUSSTELLUNG  Ausstellung mit Werken der Künstlerin Bersy Suárez.\n\n 2. bis 30. Mai 2026. Dachsartgalerie, Postgasse 34 , 3011 Bern\n\n\nhttps://eventfrog.at/de/p/kunst-ausstellungen/ausstellung/rechtslinkslinksrechtsblabla-ausstellung-bersy-suarez-7442605849091021510.html
LOCATION:Dachsartgalerie
GEO:46.949024;7.454784
URL:https://eventfrog.at/de/p/kunst-ausstellungen/ausstellung/rechtslinkslinksrechtsblabla-ausstellung-bersy-suarez-7442605849091021510.html
END:VEVENT
END:VCALENDAR