BEGIN:VCALENDAR
VERSION:2.0
PRODID:EVENTFROG//EVENTGROUP//ICAL
BEGIN:VEVENT
UID:20260422T044116Z-7442581005196591938@eventfrog.at
DTSTAMP:20260422T044116Z
DTSTART:20260423T160000Z
DTEND:20260423T180000Z
SUMMARY:Raum für Resonanz - mit Atmung zur Regeneration
DESCRIPTION:Mit sanften Atem-, Achtsamkeits- und Körperübungen wird die Verbindung zum eigenen Körper gestärkt.\n\nhttps://eventfrog.at/de/p/gesundheit-spiritualitaet/gesundheit-wohlbefinden/raum-fuer-resonanz-mit-atmung-zur-regeneration-7442581005196591938.html
LOCATION:OM ni PRESENT Yoga
GEO:46.751416;7.621010
URL:https://eventfrog.at/de/p/gesundheit-spiritualitaet/gesundheit-wohlbefinden/raum-fuer-resonanz-mit-atmung-zur-regeneration-7442581005196591938.html
END:VEVENT
BEGIN:VEVENT
UID:20260422T044116Z-7442581230619488830@eventfrog.at
DTSTAMP:20260422T044116Z
DTSTART:20260528T160000Z
DTEND:20260528T180000Z
SUMMARY:Raum für Resonanz - mit Atmung zur Regeneration
DESCRIPTION:Mit sanften Atem-, Achtsamkeits- und Körperübungen wird die Verbindung zum eigenen Körper gestärkt.\n\nhttps://eventfrog.at/de/p/gesundheit-spiritualitaet/gesundheit-wohlbefinden/raum-fuer-resonanz-mit-atmung-zur-regeneration-7442581230619488830.html
LOCATION:OM ni PRESENT Yoga
GEO:46.751416;7.621010
URL:https://eventfrog.at/de/p/gesundheit-spiritualitaet/gesundheit-wohlbefinden/raum-fuer-resonanz-mit-atmung-zur-regeneration-7442581230619488830.html
END:VEVENT
BEGIN:VEVENT
UID:20260422T044116Z-7442581230833398944@eventfrog.at
DTSTAMP:20260422T044116Z
DTSTART:20260625T160000Z
DTEND:20260625T180000Z
SUMMARY:Raum für Resonanz - mit Atmung zur Regeneration
DESCRIPTION:Mit sanften Atem-, Achtsamkeits- und Körperübungen wird die Verbindung zum eigenen Körper gestärkt.\n\nhttps://eventfrog.at/de/p/gesundheit-spiritualitaet/gesundheit-wohlbefinden/raum-fuer-resonanz-mit-atmung-zur-regeneration-7442581230833398944.html
LOCATION:OM ni PRESENT Yoga
GEO:46.751416;7.621010
URL:https://eventfrog.at/de/p/gesundheit-spiritualitaet/gesundheit-wohlbefinden/raum-fuer-resonanz-mit-atmung-zur-regeneration-7442581230833398944.html
END:VEVENT
BEGIN:VEVENT
UID:20260422T044116Z-7442581231001171176@eventfrog.at
DTSTAMP:20260422T044116Z
DTSTART:20260730T160000Z
DTEND:20260730T180000Z
SUMMARY:Raum für Resonanz - mit Atmung zur Regeneration
DESCRIPTION:Mit sanften Atem-, Achtsamkeits- und Körperübungen wird die Verbindung zum eigenen Körper gestärkt.\n\nhttps://eventfrog.at/de/p/gesundheit-spiritualitaet/gesundheit-wohlbefinden/raum-fuer-resonanz-mit-atmung-zur-regeneration-7442581231001171176.html
LOCATION:OM ni PRESENT Yoga
GEO:46.751416;7.621010
URL:https://eventfrog.at/de/p/gesundheit-spiritualitaet/gesundheit-wohlbefinden/raum-fuer-resonanz-mit-atmung-zur-regeneration-7442581231001171176.html
END:VEVENT
BEGIN:VEVENT
UID:20260422T044116Z-7442581231152166141@eventfrog.at
DTSTAMP:20260422T044116Z
DTSTART:20260924T160000Z
DTEND:20260924T180000Z
SUMMARY:Raum für Resonanz - mit Atmung zur Regeneration
DESCRIPTION:Mit sanften Atem-, Achtsamkeits- und Körperübungen wird die Verbindung zum eigenen Körper gestärkt.\n\nhttps://eventfrog.at/de/p/gesundheit-spiritualitaet/gesundheit-wohlbefinden/raum-fuer-resonanz-mit-atmung-zur-regeneration-7442581231152166141.html
LOCATION:OM ni PRESENT Yoga
GEO:46.751416;7.621010
URL:https://eventfrog.at/de/p/gesundheit-spiritualitaet/gesundheit-wohlbefinden/raum-fuer-resonanz-mit-atmung-zur-regeneration-7442581231152166141.html
END:VEVENT
BEGIN:VEVENT
UID:20260422T044116Z-7442581231353492768@eventfrog.at
DTSTAMP:20260422T044116Z
DTSTART:20261022T160000Z
DTEND:20261022T180000Z
SUMMARY:Raum für Resonanz - mit Atmung zur Regeneration
DESCRIPTION:Mit sanften Atem-, Achtsamkeits- und Körperübungen wird die Verbindung zum eigenen Körper gestärkt.\n\nhttps://eventfrog.at/de/p/gesundheit-spiritualitaet/gesundheit-wohlbefinden/raum-fuer-resonanz-mit-atmung-zur-regeneration-7442581231353492768.html
LOCATION:OM ni PRESENT Yoga
GEO:46.751416;7.621010
URL:https://eventfrog.at/de/p/gesundheit-spiritualitaet/gesundheit-wohlbefinden/raum-fuer-resonanz-mit-atmung-zur-regeneration-7442581231353492768.html
END:VEVENT
BEGIN:VEVENT
UID:20260422T044116Z-7442581231563208050@eventfrog.at
DTSTAMP:20260422T044116Z
DTSTART:20261126T170000Z
DTEND:20261126T190000Z
SUMMARY:Raum für Resonanz - mit Atmung zur Regeneration
DESCRIPTION:Mit sanften Atem-, Achtsamkeits- und Körperübungen wird die Verbindung zum eigenen Körper gestärkt.\n\nhttps://eventfrog.at/de/p/gesundheit-spiritualitaet/gesundheit-wohlbefinden/raum-fuer-resonanz-mit-atmung-zur-regeneration-7442581231563208050.html
LOCATION:OM ni PRESENT Yoga
GEO:46.751416;7.621010
URL:https://eventfrog.at/de/p/gesundheit-spiritualitaet/gesundheit-wohlbefinden/raum-fuer-resonanz-mit-atmung-zur-regeneration-7442581231563208050.html
END:VEVENT
BEGIN:VEVENT
UID:20260422T044116Z-7442581231756146036@eventfrog.at
DTSTAMP:20260422T044116Z
DTSTART:20261217T170000Z
DTEND:20261217T190000Z
SUMMARY:Raum für Resonanz - mit Atmung zur Regeneration
DESCRIPTION:Mit sanften Atem-, Achtsamkeits- und Körperübungen wird die Verbindung zum eigenen Körper gestärkt.\n\nhttps://eventfrog.at/de/p/gesundheit-spiritualitaet/gesundheit-wohlbefinden/raum-fuer-resonanz-mit-atmung-zur-regeneration-7442581231756146036.html
LOCATION:OM ni PRESENT Yoga
GEO:46.751416;7.621010
URL:https://eventfrog.at/de/p/gesundheit-spiritualitaet/gesundheit-wohlbefinden/raum-fuer-resonanz-mit-atmung-zur-regeneration-7442581231756146036.html
END:VEVENT
END:VCALENDAR