BEGIN:VCALENDAR
VERSION:2.0
PRODID:EVENTFROG//EVENTGROUP//ICAL
BEGIN:VEVENT
UID:20260422T013159Z-7442524801107783059@eventfrog.at
DTSTAMP:20260422T013159Z
DTSTART:20260413T160000Z
DTEND:20260413T170000Z
SUMMARY:Unbalanced Tanz Workshops
DESCRIPTION:Zusammen mit Tänzerin und Choreografin Beatrice Castaldo arbeiten die Teilnehmer*innen an sieben Workshops mit Bewegungen, die sich natürlich anfühlen. Jeweils montags (13. April-25.Mai)\n\nhttps://eventfrog.at/de/p/kunst-ausstellungen/ausstellung/unbalanced-tanz-workshops-7442524801107783059.html
LOCATION:Kunst- und Kulturhaus VISAVIS
GEO:46.948500;7.454302
URL:https://eventfrog.at/de/p/kunst-ausstellungen/ausstellung/unbalanced-tanz-workshops-7442524801107783059.html
END:VEVENT
BEGIN:VEVENT
UID:20260422T013159Z-7442529160411511171@eventfrog.at
DTSTAMP:20260422T013159Z
DTSTART:20260420T160000Z
DTEND:20260420T170000Z
SUMMARY:Unbalanced Tanz Workshops
DESCRIPTION:Zusammen mit Tänzerin und Choreografin Beatrice Castaldo arbeiten die Teilnehmer*innen an sieben Workshops mit Bewegungen, die sich natürlich anfühlen. Jeweils montags (13. April-25.Mai)\n\nhttps://eventfrog.at/de/p/kunst-ausstellungen/ausstellung/unbalanced-tanz-workshops-7442529160411511171.html
LOCATION:Kunst- und Kulturhaus VISAVIS
GEO:46.948500;7.454302
URL:https://eventfrog.at/de/p/kunst-ausstellungen/ausstellung/unbalanced-tanz-workshops-7442529160411511171.html
END:VEVENT
BEGIN:VEVENT
UID:20260422T013159Z-7442529340342963678@eventfrog.at
DTSTAMP:20260422T013159Z
DTSTART:20260427T160000Z
DTEND:20260427T170000Z
SUMMARY:Unbalanced Tanz Workshops
DESCRIPTION:Zusammen mit Tänzerin und Choreografin Beatrice Castaldo arbeiten die Teilnehmer*innen an sieben Workshops mit Bewegungen, die sich natürlich anfühlen. Jeweils montags (13. April-25.Mai)\n\nhttps://eventfrog.at/de/p/kunst-ausstellungen/ausstellung/unbalanced-tanz-workshops-7442529340342963678.html
LOCATION:Kunst- und Kulturhaus VISAVIS
GEO:46.948500;7.454302
URL:https://eventfrog.at/de/p/kunst-ausstellungen/ausstellung/unbalanced-tanz-workshops-7442529340342963678.html
END:VEVENT
BEGIN:VEVENT
UID:20260422T013159Z-7442529535998849202@eventfrog.at
DTSTAMP:20260422T013159Z
DTSTART:20260504T160000Z
DTEND:20260504T170000Z
SUMMARY:Unbalanced Tanz Workshops
DESCRIPTION:Zusammen mit Tänzerin und Choreografin Beatrice Castaldo arbeiten die Teilnehmer*innen an sieben Workshops mit Bewegungen, die sich natürlich anfühlen. Jeweils montags (13. April-25.Mai)\n\nhttps://eventfrog.at/de/p/kunst-ausstellungen/ausstellung/unbalanced-tanz-workshops-7442529535998849202.html
LOCATION:Kunst- und Kulturhaus VISAVIS
GEO:46.948500;7.454302
URL:https://eventfrog.at/de/p/kunst-ausstellungen/ausstellung/unbalanced-tanz-workshops-7442529535998849202.html
END:VEVENT
BEGIN:VEVENT
UID:20260422T013159Z-7442529633164125858@eventfrog.at
DTSTAMP:20260422T013159Z
DTSTART:20260511T160000Z
DTEND:20260511T170000Z
SUMMARY:Unbalanced Tanz Workshops
DESCRIPTION:Zusammen mit Tänzerin und Choreografin Beatrice Castaldo arbeiten die Teilnehmer*innen an sieben Workshops mit Bewegungen, die sich natürlich anfühlen. Jeweils montags (13. April-25.Mai)\n\nhttps://eventfrog.at/de/p/kunst-ausstellungen/ausstellung/unbalanced-tanz-workshops-7442529633164125858.html
LOCATION:Kunst- und Kulturhaus VISAVIS
GEO:46.948500;7.454302
URL:https://eventfrog.at/de/p/kunst-ausstellungen/ausstellung/unbalanced-tanz-workshops-7442529633164125858.html
END:VEVENT
BEGIN:VEVENT
UID:20260422T013159Z-7442529739229660505@eventfrog.at
DTSTAMP:20260422T013159Z
DTSTART:20260518T160000Z
DTEND:20260518T170000Z
SUMMARY:Unbalanced Tanz Workshops
DESCRIPTION:Zusammen mit Tänzerin und Choreografin Beatrice Castaldo arbeiten die Teilnehmer*innen an sieben Workshops mit Bewegungen, die sich natürlich anfühlen. Jeweils montags (13. April-25.Mai)\n\nhttps://eventfrog.at/de/p/kunst-ausstellungen/ausstellung/unbalanced-tanz-workshops-7442529739229660505.html
LOCATION:Kunst- und Kulturhaus VISAVIS
GEO:46.948500;7.454302
URL:https://eventfrog.at/de/p/kunst-ausstellungen/ausstellung/unbalanced-tanz-workshops-7442529739229660505.html
END:VEVENT
BEGIN:VEVENT
UID:20260422T013159Z-7442529816463549728@eventfrog.at
DTSTAMP:20260422T013159Z
DTSTART:20260525T160000Z
DTEND:20260525T170000Z
SUMMARY:Unbalanced Tanz Workshops
DESCRIPTION:Zusammen mit Tänzerin und Choreografin Beatrice Castaldo arbeiten die Teilnehmer*innen an sieben Workshops mit Bewegungen, die sich natürlich anfühlen. Jeweils montags (13. April-25.Mai)\n\nhttps://eventfrog.at/de/p/kunst-ausstellungen/ausstellung/unbalanced-tanz-workshops-7442529816463549728.html
LOCATION:Kunst- und Kulturhaus VISAVIS
GEO:46.948500;7.454302
URL:https://eventfrog.at/de/p/kunst-ausstellungen/ausstellung/unbalanced-tanz-workshops-7442529816463549728.html
END:VEVENT
END:VCALENDAR