BEGIN:VCALENDAR
VERSION:2.0
PRODID:EVENTFROG//EVENTGROUP//ICAL
BEGIN:VEVENT
UID:20260422T022819Z-7444349125166929095@eventfrog.at
DTSTAMP:20260422T022819Z
DTSTART:20260606T081500Z
DTEND:20260606T094500Z
SUMMARY:Tanzen ohne Grenzen
DESCRIPTION:Der Tanz-Workshop mit Susanne Schneider und Cornelia Jungo lädt Menschen mit und ohne Behinderung zum kostenlosen Mitmachen ein.\n\nhttps://eventfrog.at/de/p/kurse-seminare/musik-tanz/tanzen-ohne-grenzen-7444349125166929095.html
LOCATION:Berner Generationenhaus
GEO:46.948002;7.439620
URL:https://eventfrog.at/de/p/kurse-seminare/musik-tanz/tanzen-ohne-grenzen-7444349125166929095.html
END:VEVENT
BEGIN:VEVENT
UID:20260422T022819Z-7444352249625609804@eventfrog.at
DTSTAMP:20260422T022819Z
DTSTART:20260606T120000Z
DTEND:20260606T133000Z
SUMMARY:Tanzen ohne Grenzen
DESCRIPTION:Der Tanz-Workshop mit Susanne Schneider und Cornelia Jungo lädt Menschen mit und ohne Behinderung zum kostenlosen Mitmachen ein.\n\nhttps://eventfrog.at/de/p/kurse-seminare/musik-tanz/tanzen-ohne-grenzen-7444352249625609804.html
LOCATION:Berner Generationenhaus
GEO:46.948002;7.439620
URL:https://eventfrog.at/de/p/kurse-seminare/musik-tanz/tanzen-ohne-grenzen-7444352249625609804.html
END:VEVENT
BEGIN:VEVENT
UID:20260422T022819Z-7443226372523164273@eventfrog.at
DTSTAMP:20260422T022819Z
DTSTART:20260625T153000Z
DTEND:20260625T173000Z
SUMMARY:Kreativ zum Apéro
DESCRIPTION:Den Abend mit einer Portion Kreativität einläuten – In lockerer Atmosphäre wird auf verschiedenen Materialien gemalt und kreativ experimentiert. Ein DJ sorgt für den passenden Sound. \n\nhttps://eventfrog.at/de/p/diverses/kreativ-zum-apero-7443226372523164273.html
LOCATION:Berner Generationenhaus
GEO:46.948002;7.439620
URL:https://eventfrog.at/de/p/diverses/kreativ-zum-apero-7443226372523164273.html
END:VEVENT
BEGIN:VEVENT
UID:20260422T022819Z-7442522059874289809@eventfrog.at
DTSTAMP:20260422T022819Z
DTSTART:20260703T170000Z
DTEND:20260703T203000Z
SUMMARY:Tavolare Amore
DESCRIPTION:Zwischen Vorspeise und Dessert servieren wir frische Ideen zum Kennenlernen, Verlieben, Zusammenbleiben oder Trennen. Du triffst bei jedem der vier Gänge auf Expert:innen in Sachen Liebe oder auf Mens\n\nhttps://eventfrog.at/de/p/diverses/tavolare-amore-7442522059874289809.html
LOCATION:Berner Generationenhaus
GEO:46.948002;7.439620
URL:https://eventfrog.at/de/p/diverses/tavolare-amore-7442522059874289809.html
END:VEVENT
BEGIN:VEVENT
UID:20260422T022819Z-7443235127767913397@eventfrog.at
DTSTAMP:20260422T022819Z
DTSTART:20260912T153000Z
DTEND:20260912T173000Z
SUMMARY:Kreativ zum Apéro
DESCRIPTION:Den Abend mit einer Portion Kreativität einläuten – In lockerer Atmosphäre wird auf verschiedenen Materialien gemalt und kreativ experimentiert. Ein DJ sorgt für den passenden Sound. \n\nhttps://eventfrog.at/de/p/diverses/kreativ-zum-apero-7443235127767913397.html
LOCATION:Berner Generationenhaus
GEO:46.948002;7.439620
URL:https://eventfrog.at/de/p/diverses/kreativ-zum-apero-7443235127767913397.html
END:VEVENT
END:VCALENDAR