BEGIN:VCALENDAR
VERSION:2.0
PRODID:EVENTFROG//EVENTGROUP//ICAL
BEGIN:VEVENT
UID:20260422T033950Z-7442489575019131187@eventfrog.at
DTSTAMP:20260422T033950Z
DTSTART:20260423T130000Z
DTEND:20260423T150000Z
SUMMARY:Computertreff Suhr
DESCRIPTION:Der Computertreff bietet kostenlose und unkomplizierte Hilfe bei Fragen zum Umgang mit dem PC oder dem Mobiltelefon.\nZeit: Donnerstag 15-17 Uhr ausser während den Schulferien \n\nhttps://eventfrog.at/de/p/wissenschaft-und-technik/computertreff-suhr-7442489575019131187.html
LOCATION:Nachbarschaftshaus
GEO:47.382188;8.066726
URL:https://eventfrog.at/de/p/wissenschaft-und-technik/computertreff-suhr-7442489575019131187.html
END:VEVENT
BEGIN:VEVENT
UID:20260422T033950Z-7442489575077851445@eventfrog.at
DTSTAMP:20260422T033950Z
DTSTART:20260430T130000Z
DTEND:20260430T150000Z
SUMMARY:Computertreff Suhr
DESCRIPTION:Der Computertreff bietet kostenlose und unkomplizierte Hilfe bei Fragen zum Umgang mit dem PC oder dem Mobiltelefon.\nZeit: Donnerstag 15-17 Uhr ausser während den Schulferien \n\nhttps://eventfrog.at/de/p/wissenschaft-und-technik/computertreff-suhr-7442489575077851445.html
LOCATION:Nachbarschaftshaus
GEO:47.382188;8.066726
URL:https://eventfrog.at/de/p/wissenschaft-und-technik/computertreff-suhr-7442489575077851445.html
END:VEVENT
BEGIN:VEVENT
UID:20260422T033950Z-7442489575140766007@eventfrog.at
DTSTAMP:20260422T033950Z
DTSTART:20260507T130000Z
DTEND:20260507T150000Z
SUMMARY:Computertreff Suhr
DESCRIPTION:Der Computertreff bietet kostenlose und unkomplizierte Hilfe bei Fragen zum Umgang mit dem PC oder dem Mobiltelefon.\nZeit: Donnerstag 15-17 Uhr ausser während den Schulferien \n\nhttps://eventfrog.at/de/p/wissenschaft-und-technik/computertreff-suhr-7442489575140766007.html
LOCATION:Nachbarschaftshaus
GEO:47.382188;8.066726
URL:https://eventfrog.at/de/p/wissenschaft-und-technik/computertreff-suhr-7442489575140766007.html
END:VEVENT
BEGIN:VEVENT
UID:20260422T033950Z-7442489575199486265@eventfrog.at
DTSTAMP:20260422T033950Z
DTSTART:20260514T130000Z
DTEND:20260514T150000Z
SUMMARY:Computertreff Suhr
DESCRIPTION:Der Computertreff bietet kostenlose und unkomplizierte Hilfe bei Fragen zum Umgang mit dem PC oder dem Mobiltelefon.\nZeit: Donnerstag 15-17 Uhr ausser während den Schulferien \n\nhttps://eventfrog.at/de/p/wissenschaft-und-technik/computertreff-suhr-7442489575199486265.html
LOCATION:Nachbarschaftshaus
GEO:47.382188;8.066726
URL:https://eventfrog.at/de/p/wissenschaft-und-technik/computertreff-suhr-7442489575199486265.html
END:VEVENT
BEGIN:VEVENT
UID:20260422T033950Z-7442489575258206523@eventfrog.at
DTSTAMP:20260422T033950Z
DTSTART:20260521T130000Z
DTEND:20260521T150000Z
SUMMARY:Computertreff Suhr
DESCRIPTION:Der Computertreff bietet kostenlose und unkomplizierte Hilfe bei Fragen zum Umgang mit dem PC oder dem Mobiltelefon.\nZeit: Donnerstag 15-17 Uhr ausser während den Schulferien \n\nhttps://eventfrog.at/de/p/wissenschaft-und-technik/computertreff-suhr-7442489575258206523.html
LOCATION:Nachbarschaftshaus
GEO:47.382188;8.066726
URL:https://eventfrog.at/de/p/wissenschaft-und-technik/computertreff-suhr-7442489575258206523.html
END:VEVENT
BEGIN:VEVENT
UID:20260422T033950Z-7442489575316926781@eventfrog.at
DTSTAMP:20260422T033950Z
DTSTART:20260528T130000Z
DTEND:20260528T150000Z
SUMMARY:Computertreff Suhr
DESCRIPTION:Der Computertreff bietet kostenlose und unkomplizierte Hilfe bei Fragen zum Umgang mit dem PC oder dem Mobiltelefon.\nZeit: Donnerstag 15-17 Uhr ausser während den Schulferien \n\nhttps://eventfrog.at/de/p/wissenschaft-und-technik/computertreff-suhr-7442489575316926781.html
LOCATION:Nachbarschaftshaus
GEO:47.382188;8.066726
URL:https://eventfrog.at/de/p/wissenschaft-und-technik/computertreff-suhr-7442489575316926781.html
END:VEVENT
BEGIN:VEVENT
UID:20260422T033950Z-7442489575375647039@eventfrog.at
DTSTAMP:20260422T033950Z
DTSTART:20260604T130000Z
DTEND:20260604T150000Z
SUMMARY:Computertreff Suhr
DESCRIPTION:Der Computertreff bietet kostenlose und unkomplizierte Hilfe bei Fragen zum Umgang mit dem PC oder dem Mobiltelefon.\nZeit: Donnerstag 15-17 Uhr ausser während den Schulferien \n\nhttps://eventfrog.at/de/p/wissenschaft-und-technik/computertreff-suhr-7442489575375647039.html
LOCATION:Nachbarschaftshaus
GEO:47.382188;8.066726
URL:https://eventfrog.at/de/p/wissenschaft-und-technik/computertreff-suhr-7442489575375647039.html
END:VEVENT
BEGIN:VEVENT
UID:20260422T033950Z-7442489575434367297@eventfrog.at
DTSTAMP:20260422T033950Z
DTSTART:20260611T130000Z
DTEND:20260611T150000Z
SUMMARY:Computertreff Suhr
DESCRIPTION:Der Computertreff bietet kostenlose und unkomplizierte Hilfe bei Fragen zum Umgang mit dem PC oder dem Mobiltelefon.\nZeit: Donnerstag 15-17 Uhr ausser während den Schulferien \n\nhttps://eventfrog.at/de/p/wissenschaft-und-technik/computertreff-suhr-7442489575434367297.html
LOCATION:Nachbarschaftshaus
GEO:47.382188;8.066726
URL:https://eventfrog.at/de/p/wissenschaft-und-technik/computertreff-suhr-7442489575434367297.html
END:VEVENT
BEGIN:VEVENT
UID:20260422T033950Z-7442489575493087555@eventfrog.at
DTSTAMP:20260422T033950Z
DTSTART:20260618T130000Z
DTEND:20260618T150000Z
SUMMARY:Computertreff Suhr
DESCRIPTION:Der Computertreff bietet kostenlose und unkomplizierte Hilfe bei Fragen zum Umgang mit dem PC oder dem Mobiltelefon.\nZeit: Donnerstag 15-17 Uhr ausser während den Schulferien \n\nhttps://eventfrog.at/de/p/wissenschaft-und-technik/computertreff-suhr-7442489575493087555.html
LOCATION:Nachbarschaftshaus
GEO:47.382188;8.066726
URL:https://eventfrog.at/de/p/wissenschaft-und-technik/computertreff-suhr-7442489575493087555.html
END:VEVENT
BEGIN:VEVENT
UID:20260422T033950Z-7442489575551807813@eventfrog.at
DTSTAMP:20260422T033950Z
DTSTART:20260625T130000Z
DTEND:20260625T150000Z
SUMMARY:Computertreff Suhr
DESCRIPTION:Der Computertreff bietet kostenlose und unkomplizierte Hilfe bei Fragen zum Umgang mit dem PC oder dem Mobiltelefon.\nZeit: Donnerstag 15-17 Uhr ausser während den Schulferien \n\nhttps://eventfrog.at/de/p/wissenschaft-und-technik/computertreff-suhr-7442489575551807813.html
LOCATION:Nachbarschaftshaus
GEO:47.382188;8.066726
URL:https://eventfrog.at/de/p/wissenschaft-und-technik/computertreff-suhr-7442489575551807813.html
END:VEVENT
BEGIN:VEVENT
UID:20260422T033950Z-7442489575614722375@eventfrog.at
DTSTAMP:20260422T033950Z
DTSTART:20260702T130000Z
DTEND:20260702T150000Z
SUMMARY:Computertreff Suhr
DESCRIPTION:Der Computertreff bietet kostenlose und unkomplizierte Hilfe bei Fragen zum Umgang mit dem PC oder dem Mobiltelefon.\nZeit: Donnerstag 15-17 Uhr ausser während den Schulferien \n\nhttps://eventfrog.at/de/p/wissenschaft-und-technik/computertreff-suhr-7442489575614722375.html
LOCATION:Nachbarschaftshaus
GEO:47.382188;8.066726
URL:https://eventfrog.at/de/p/wissenschaft-und-technik/computertreff-suhr-7442489575614722375.html
END:VEVENT
END:VCALENDAR