BEGIN:VCALENDAR
VERSION:2.0
PRODID:EVENTFROG//EVENTGROUP//ICAL
BEGIN:VEVENT
UID:20260419T130319Z-7442341182737221485@eventfrog.at
DTSTAMP:20260419T130319Z
DTSTART:20260418T090000Z
DTEND:20260418T130000Z
SUMMARY:13. Eymattschiessen 2026
DESCRIPTION:Eymattschiessen 2026 in Lüsslingen-Nennigkofen am 18., 25. und 26. April. Sport, Festwirtschaft und regionale Kombination mit Gruppenpreisen. \n\nhttps://eventfrog.at/de/p/volksfeste/schuetzenfest/13-eymattschiessen-2026-7442341182737221485.html
LOCATION:MZH Lüsslingen
GEO:47.187601;7.498533
URL:https://eventfrog.at/de/p/volksfeste/schuetzenfest/13-eymattschiessen-2026-7442341182737221485.html
END:VEVENT
BEGIN:VEVENT
UID:20260419T130319Z-7442341628868568838@eventfrog.at
DTSTAMP:20260419T130319Z
DTSTART:20260425T050000Z
DTEND:20260425T215900Z
SUMMARY:13. Eymattschiessen 2026
DESCRIPTION:Eymattschiessen 2026 in Lüsslingen-Nennigkofen am 18., 25. und 26. April. Sport, Festwirtschaft und regionale Kombination mit Gruppenpreisen. \n\nhttps://eventfrog.at/de/p/volksfeste/schuetzenfest/13-eymattschiessen-2026-7442341628868568838.html
LOCATION:MZH Lüsslingen
GEO:47.187601;7.498533
URL:https://eventfrog.at/de/p/volksfeste/schuetzenfest/13-eymattschiessen-2026-7442341628868568838.html
END:VEVENT
BEGIN:VEVENT
UID:20260419T130319Z-7442341628977620744@eventfrog.at
DTSTAMP:20260419T130319Z
DTSTART:20260426T050000Z
DTEND:20260426T120000Z
SUMMARY:13. Eymattschiessen 2026
DESCRIPTION:Eymattschiessen 2026 in Lüsslingen-Nennigkofen am 18., 25. und 26. April. Sport, Festwirtschaft und regionale Kombination mit Gruppenpreisen. \n\nhttps://eventfrog.at/de/p/volksfeste/schuetzenfest/13-eymattschiessen-2026-7442341628977620744.html
LOCATION:MZH Lüsslingen
GEO:47.187601;7.498533
URL:https://eventfrog.at/de/p/volksfeste/schuetzenfest/13-eymattschiessen-2026-7442341628977620744.html
END:VEVENT
END:VCALENDAR