BEGIN:VCALENDAR
VERSION:2.0
PRODID:EVENTFROG//EVENTGROUP//ICAL
BEGIN:VEVENT
UID:20260422T033953Z-7442195592846015616@eventfrog.at
DTSTAMP:20260422T033953Z
DTSTART:20260423T180000Z
SUMMARY:LE PETIT MONDE
DESCRIPTION:On ne peut pas affronter la nuit avant d'avoir compris ce qui se cache dans ses ténèbres (Charles de Lint). Une comédie sur l'incertitude largement inspirée de faits irréels...\n\nhttps://eventfrog.at/fr/p/theatre-scene/theatre/le-petit-monde-7442195592846015616.html
LOCATION:Théâtre Silo du Lac
GEO:46.528545;6.590170
URL:https://eventfrog.at/fr/p/theatre-scene/theatre/le-petit-monde-7442195592846015616.html
END:VEVENT
BEGIN:VEVENT
UID:20260422T033953Z-7442195853798820194@eventfrog.at
DTSTAMP:20260422T033953Z
DTSTART:20260424T180000Z
SUMMARY:LE PETIT MONDE
DESCRIPTION:On ne peut pas affronter la nuit avant d'avoir compris ce qui se cache dans ses ténèbres (Charles de Lint). Une comédie sur l'incertitude largement inspirée de faits irréels...\n\nhttps://eventfrog.at/fr/p/theatre-scene/theatre/le-petit-monde-7442195853798820194.html
LOCATION:Théâtre Silo du Lac
GEO:46.528545;6.590170
URL:https://eventfrog.at/fr/p/theatre-scene/theatre/le-petit-monde-7442195853798820194.html
END:VEVENT
BEGIN:VEVENT
UID:20260422T033953Z-7442195853920455012@eventfrog.at
DTSTAMP:20260422T033953Z
DTSTART:20260425T170000Z
SUMMARY:LE PETIT MONDE
DESCRIPTION:On ne peut pas affronter la nuit avant d'avoir compris ce qui se cache dans ses ténèbres (Charles de Lint). Une comédie sur l'incertitude largement inspirée de faits irréels...\n\nhttps://eventfrog.at/fr/p/theatre-scene/theatre/le-petit-monde-7442195853920455012.html
LOCATION:Théâtre Silo du Lac
GEO:46.528545;6.590170
URL:https://eventfrog.at/fr/p/theatre-scene/theatre/le-petit-monde-7442195853920455012.html
END:VEVENT
BEGIN:VEVENT
UID:20260422T033953Z-7442195854042089830@eventfrog.at
DTSTAMP:20260422T033953Z
DTSTART:20260426T150000Z
SUMMARY:LE PETIT MONDE
DESCRIPTION:On ne peut pas affronter la nuit avant d'avoir compris ce qui se cache dans ses ténèbres (Charles de Lint). Une comédie sur l'incertitude largement inspirée de faits irréels...\n\nhttps://eventfrog.at/fr/p/theatre-scene/theatre/le-petit-monde-7442195854042089830.html
LOCATION:Théâtre Silo du Lac
GEO:46.528545;6.590170
URL:https://eventfrog.at/fr/p/theatre-scene/theatre/le-petit-monde-7442195854042089830.html
END:VEVENT
BEGIN:VEVENT
UID:20260422T033953Z-7442195854159530860@eventfrog.at
DTSTAMP:20260422T033953Z
DTSTART:20260430T180000Z
SUMMARY:LE PETIT MONDE
DESCRIPTION:On ne peut pas affronter la nuit avant d'avoir compris ce qui se cache dans ses ténèbres (Charles de Lint). Une comédie sur l'incertitude largement inspirée de faits irréels...\n\nhttps://eventfrog.at/fr/p/theatre-scene/theatre/le-petit-monde-7442195854159530860.html
LOCATION:Théâtre Silo du Lac
GEO:46.528545;6.590170
URL:https://eventfrog.at/fr/p/theatre-scene/theatre/le-petit-monde-7442195854159530860.html
END:VEVENT
BEGIN:VEVENT
UID:20260422T033953Z-7442195854310525920@eventfrog.at
DTSTAMP:20260422T033953Z
DTSTART:20260501T180000Z
SUMMARY:LE PETIT MONDE
DESCRIPTION:On ne peut pas affronter la nuit avant d'avoir compris ce qui se cache dans ses ténèbres (Charles de Lint). Une comédie sur l'incertitude largement inspirée de faits irréels...\n\nhttps://eventfrog.at/fr/p/theatre-scene/theatre/le-petit-monde-7442195854310525920.html
LOCATION:Théâtre Silo du Lac
GEO:46.528545;6.590170
URL:https://eventfrog.at/fr/p/theatre-scene/theatre/le-petit-monde-7442195854310525920.html
END:VEVENT
BEGIN:VEVENT
UID:20260422T033953Z-7442195854436355084@eventfrog.at
DTSTAMP:20260422T033953Z
DTSTART:20260502T170000Z
SUMMARY:LE PETIT MONDE
DESCRIPTION:On ne peut pas affronter la nuit avant d'avoir compris ce qui se cache dans ses ténèbres (Charles de Lint). Une comédie sur l'incertitude largement inspirée de faits irréels...\n\nhttps://eventfrog.at/fr/p/theatre-scene/theatre/le-petit-monde-7442195854436355084.html
LOCATION:Théâtre Silo du Lac
GEO:46.528545;6.590170
URL:https://eventfrog.at/fr/p/theatre-scene/theatre/le-petit-monde-7442195854436355084.html
END:VEVENT
BEGIN:VEVENT
UID:20260422T033953Z-7442195854566378549@eventfrog.at
DTSTAMP:20260422T033953Z
DTSTART:20260503T150000Z
SUMMARY:LE PETIT MONDE
DESCRIPTION:On ne peut pas affronter la nuit avant d'avoir compris ce qui se cache dans ses ténèbres (Charles de Lint). Une comédie sur l'incertitude largement inspirée de faits irréels...\n\nhttps://eventfrog.at/fr/p/theatre-scene/theatre/le-petit-monde-7442195854566378549.html
LOCATION:Théâtre Silo du Lac
GEO:46.528545;6.590170
URL:https://eventfrog.at/fr/p/theatre-scene/theatre/le-petit-monde-7442195854566378549.html
END:VEVENT
BEGIN:VEVENT
UID:20260422T033953Z-7442195854696401983@eventfrog.at
DTSTAMP:20260422T033953Z
DTSTART:20260507T180000Z
SUMMARY:LE PETIT MONDE
DESCRIPTION:On ne peut pas affronter la nuit avant d'avoir compris ce qui se cache dans ses ténèbres (Charles de Lint). Une comédie sur l'incertitude largement inspirée de faits irréels...\n\nhttps://eventfrog.at/fr/p/theatre-scene/theatre/le-petit-monde-7442195854696401983.html
LOCATION:Théâtre Silo du Lac
GEO:46.528545;6.590170
URL:https://eventfrog.at/fr/p/theatre-scene/theatre/le-petit-monde-7442195854696401983.html
END:VEVENT
BEGIN:VEVENT
UID:20260422T033953Z-7442195854822231105@eventfrog.at
DTSTAMP:20260422T033953Z
DTSTART:20260508T180000Z
SUMMARY:LE PETIT MONDE
DESCRIPTION:On ne peut pas affronter la nuit avant d'avoir compris ce qui se cache dans ses ténèbres (Charles de Lint). Une comédie sur l'incertitude largement inspirée de faits irréels...\n\nhttps://eventfrog.at/fr/p/theatre-scene/theatre/le-petit-monde-7442195854822231105.html
LOCATION:Théâtre Silo du Lac
GEO:46.528545;6.590170
URL:https://eventfrog.at/fr/p/theatre-scene/theatre/le-petit-monde-7442195854822231105.html
END:VEVENT
END:VCALENDAR