BEGIN:VCALENDAR
VERSION:2.0
PRODID:EVENTFROG//EVENTGROUP//ICAL
BEGIN:VEVENT
UID:20260422T045230Z-7442194670128517342@eventfrog.at
DTSTAMP:20260422T045230Z
DTSTART:20260421T180000Z
SUMMARY:Pères
DESCRIPTION:Texte  : D’après plusieurs autrices, mise en scène : Lefki Papachrysostomou, jeu : Dimitri Anzules, Angelo Dell’Aquila, Serge Martin et Jef Saintmartin.\n\nhttps://eventfrog.at/fr/p/theatre-scene/theatre/peres-7442194670128517342.html
LOCATION:Théâtricul
GEO:46.193788;6.196439
URL:https://eventfrog.at/fr/p/theatre-scene/theatre/peres-7442194670128517342.html
END:VEVENT
BEGIN:VEVENT
UID:20260422T045230Z-7442194670216597736@eventfrog.at
DTSTAMP:20260422T045230Z
DTSTART:20260422T180000Z
SUMMARY:Pères
DESCRIPTION:Texte  : D’après plusieurs autrices, mise en scène : Lefki Papachrysostomou, jeu : Dimitri Anzules, Angelo Dell’Aquila, Serge Martin et Jef Saintmartin.\n\nhttps://eventfrog.at/fr/p/theatre-scene/theatre/peres-7442194670216597736.html
LOCATION:Théâtricul
GEO:46.193788;6.196439
URL:https://eventfrog.at/fr/p/theatre-scene/theatre/peres-7442194670216597736.html
END:VEVENT
BEGIN:VEVENT
UID:20260422T045230Z-7442194670342427382@eventfrog.at
DTSTAMP:20260422T045230Z
DTSTART:20260423T180000Z
SUMMARY:Pères
DESCRIPTION:Texte  : D’après plusieurs autrices, mise en scène : Lefki Papachrysostomou, jeu : Dimitri Anzules, Angelo Dell’Aquila, Serge Martin et Jef Saintmartin.\n\nhttps://eventfrog.at/fr/p/theatre-scene/theatre/peres-7442194670342427382.html
LOCATION:Théâtricul
GEO:46.193788;6.196439
URL:https://eventfrog.at/fr/p/theatre-scene/theatre/peres-7442194670342427382.html
END:VEVENT
BEGIN:VEVENT
UID:20260422T045230Z-7442194670455673692@eventfrog.at
DTSTAMP:20260422T045230Z
DTSTART:20260424T180000Z
SUMMARY:Pères
DESCRIPTION:Texte  : D’après plusieurs autrices, mise en scène : Lefki Papachrysostomou, jeu : Dimitri Anzules, Angelo Dell’Aquila, Serge Martin et Jef Saintmartin.\n\nhttps://eventfrog.at/fr/p/theatre-scene/theatre/peres-7442194670455673692.html
LOCATION:Théâtricul
GEO:46.193788;6.196439
URL:https://eventfrog.at/fr/p/theatre-scene/theatre/peres-7442194670455673692.html
END:VEVENT
BEGIN:VEVENT
UID:20260422T045230Z-7442194670573114248@eventfrog.at
DTSTAMP:20260422T045230Z
DTSTART:20260425T180000Z
SUMMARY:Pères
DESCRIPTION:Texte  : D’après plusieurs autrices, mise en scène : Lefki Papachrysostomou, jeu : Dimitri Anzules, Angelo Dell’Aquila, Serge Martin et Jef Saintmartin.\n\nhttps://eventfrog.at/fr/p/theatre-scene/theatre/peres-7442194670573114248.html
LOCATION:Théâtricul
GEO:46.193788;6.196439
URL:https://eventfrog.at/fr/p/theatre-scene/theatre/peres-7442194670573114248.html
END:VEVENT
BEGIN:VEVENT
UID:20260422T045230Z-7442194670694749101@eventfrog.at
DTSTAMP:20260422T045230Z
DTSTART:20260426T160000Z
SUMMARY:Pères
DESCRIPTION:Texte  : D’après plusieurs autrices, mise en scène : Lefki Papachrysostomou, jeu : Dimitri Anzules, Angelo Dell’Aquila, Serge Martin et Jef Saintmartin.\n\nhttps://eventfrog.at/fr/p/theatre-scene/theatre/peres-7442194670694749101.html
LOCATION:Théâtricul
GEO:46.193788;6.196439
URL:https://eventfrog.at/fr/p/theatre-scene/theatre/peres-7442194670694749101.html
END:VEVENT
BEGIN:VEVENT
UID:20260422T045230Z-7442194670925435996@eventfrog.at
DTSTAMP:20260422T045230Z
DTSTART:20260428T180000Z
SUMMARY:Pères
DESCRIPTION:Texte  : D’après plusieurs autrices, mise en scène : Lefki Papachrysostomou, jeu : Dimitri Anzules, Angelo Dell’Aquila, Serge Martin et Jef Saintmartin.\n\nhttps://eventfrog.at/fr/p/theatre-scene/theatre/peres-7442194670925435996.html
LOCATION:Théâtricul
GEO:46.193788;6.196439
URL:https://eventfrog.at/fr/p/theatre-scene/theatre/peres-7442194670925435996.html
END:VEVENT
BEGIN:VEVENT
UID:20260422T045230Z-7442194671047070814@eventfrog.at
DTSTAMP:20260422T045230Z
DTSTART:20260429T180000Z
SUMMARY:Pères
DESCRIPTION:Texte  : D’après plusieurs autrices, mise en scène : Lefki Papachrysostomou, jeu : Dimitri Anzules, Angelo Dell’Aquila, Serge Martin et Jef Saintmartin.\n\nhttps://eventfrog.at/fr/p/theatre-scene/theatre/peres-7442194671047070814.html
LOCATION:Théâtricul
GEO:46.193788;6.196439
URL:https://eventfrog.at/fr/p/theatre-scene/theatre/peres-7442194671047070814.html
END:VEVENT
BEGIN:VEVENT
UID:20260422T045230Z-7442194671168705632@eventfrog.at
DTSTAMP:20260422T045230Z
DTSTART:20260430T180000Z
SUMMARY:Pères
DESCRIPTION:Texte  : D’après plusieurs autrices, mise en scène : Lefki Papachrysostomou, jeu : Dimitri Anzules, Angelo Dell’Aquila, Serge Martin et Jef Saintmartin.\n\nhttps://eventfrog.at/fr/p/theatre-scene/theatre/peres-7442194671168705632.html
LOCATION:Théâtricul
GEO:46.193788;6.196439
URL:https://eventfrog.at/fr/p/theatre-scene/theatre/peres-7442194671168705632.html
END:VEVENT
BEGIN:VEVENT
UID:20260422T045230Z-7442194671290340531@eventfrog.at
DTSTAMP:20260422T045230Z
DTSTART:20260501T180000Z
SUMMARY:Pères
DESCRIPTION:Texte  : D’après plusieurs autrices, mise en scène : Lefki Papachrysostomou, jeu : Dimitri Anzules, Angelo Dell’Aquila, Serge Martin et Jef Saintmartin.\n\nhttps://eventfrog.at/fr/p/theatre-scene/theatre/peres-7442194671290340531.html
LOCATION:Théâtricul
GEO:46.193788;6.196439
URL:https://eventfrog.at/fr/p/theatre-scene/theatre/peres-7442194671290340531.html
END:VEVENT
BEGIN:VEVENT
UID:20260422T045230Z-7442194671403586741@eventfrog.at
DTSTAMP:20260422T045230Z
DTSTART:20260502T180000Z
SUMMARY:Pères
DESCRIPTION:Texte  : D’après plusieurs autrices, mise en scène : Lefki Papachrysostomou, jeu : Dimitri Anzules, Angelo Dell’Aquila, Serge Martin et Jef Saintmartin.\n\nhttps://eventfrog.at/fr/p/theatre-scene/theatre/peres-7442194671403586741.html
LOCATION:Théâtricul
GEO:46.193788;6.196439
URL:https://eventfrog.at/fr/p/theatre-scene/theatre/peres-7442194671403586741.html
END:VEVENT
BEGIN:VEVENT
UID:20260422T045230Z-7442194671525221559@eventfrog.at
DTSTAMP:20260422T045230Z
DTSTART:20260503T160000Z
SUMMARY:Pères
DESCRIPTION:Texte  : D’après plusieurs autrices, mise en scène : Lefki Papachrysostomou, jeu : Dimitri Anzules, Angelo Dell’Aquila, Serge Martin et Jef Saintmartin.\n\nhttps://eventfrog.at/fr/p/theatre-scene/theatre/peres-7442194671525221559.html
LOCATION:Théâtricul
GEO:46.193788;6.196439
URL:https://eventfrog.at/fr/p/theatre-scene/theatre/peres-7442194671525221559.html
END:VEVENT
END:VCALENDAR