BEGIN:VCALENDAR
VERSION:2.0
PRODID:EVENTFROG//EVENTGROUP//ICAL
BEGIN:VEVENT
UID:20260422T115440Z-7442190266579091405@eventfrog.at
DTSTAMP:20260422T115440Z
DTSTART:20261205T073000Z
DTEND:20261205T120000Z
SUMMARY:NATURENA: Papierfiguren auf Baumrinde
DESCRIPTION:Papier und Draht formen vier bis sechs handgearbeitete Engelfiguren, die auf Rinde montiert dekorativ oder als Geschenk dienen.\n\nhttps://eventfrog.at/de/p/kurse-seminare/freizeit-hobby/naturena-papierfiguren-auf-baumrinde-7442190266579091405.html
LOCATION:Volg Erlebnishof Zugerland
GEO:47.207505;8.538940
URL:https://eventfrog.at/de/p/kurse-seminare/freizeit-hobby/naturena-papierfiguren-auf-baumrinde-7442190266579091405.html
END:VEVENT
BEGIN:VEVENT
UID:20260422T115440Z-7442190332513492438@eventfrog.at
DTSTAMP:20260422T115440Z
DTSTART:20261205T130000Z
DTEND:20261205T173000Z
SUMMARY:NATURENA: Papierfiguren auf Baumrinde
DESCRIPTION:Papier und Draht formen vier bis sechs handgearbeitete Engelfiguren, die auf Rinde montiert dekorativ oder als Geschenk dienen.\n\nhttps://eventfrog.at/de/p/kurse-seminare/freizeit-hobby/naturena-papierfiguren-auf-baumrinde-7442190332513492438.html
LOCATION:Volg Erlebnishof Zugerland
GEO:47.207505;8.538940
URL:https://eventfrog.at/de/p/kurse-seminare/freizeit-hobby/naturena-papierfiguren-auf-baumrinde-7442190332513492438.html
END:VEVENT
END:VCALENDAR