BEGIN:VCALENDAR
VERSION:2.0
PRODID:EVENTFROG//EVENTGROUP//ICAL
BEGIN:VEVENT
UID:20260422T115440Z-7442187748432154562@eventfrog.at
DTSTAMP:20260422T115440Z
DTSTART:20261114T070000Z
DTEND:20261114T120000Z
SUMMARY:NATURENA: Kreatives Schreiben
DESCRIPTION:Kreatives Schreiben auf dem Bauernhof mit Geschichten über lebhafte Gemüse und Tiere, geleitet von einem professionellen Autor.\n\nhttps://eventfrog.at/de/p/kurse-seminare/freizeit-hobby/naturena-kreatives-schreiben-7442187748432154562.html
LOCATION:Volg Erlebnishof Zugerland
GEO:47.207505;8.538940
URL:https://eventfrog.at/de/p/kurse-seminare/freizeit-hobby/naturena-kreatives-schreiben-7442187748432154562.html
END:VEVENT
BEGIN:VEVENT
UID:20260422T115440Z-7442187900253387177@eventfrog.at
DTSTAMP:20260422T115440Z
DTSTART:20261114T123000Z
DTEND:20261114T173000Z
SUMMARY:NATURENA: Kreatives Schreiben
DESCRIPTION:Kreatives Schreiben auf dem Bauernhof mit Geschichten über lebhafte Gemüse und Tiere, geleitet von einem professionellen Autor.\n\nhttps://eventfrog.at/de/p/kurse-seminare/freizeit-hobby/naturena-kreatives-schreiben-7442187900253387177.html
LOCATION:Volg Erlebnishof Zugerland
GEO:47.207505;8.538940
URL:https://eventfrog.at/de/p/kurse-seminare/freizeit-hobby/naturena-kreatives-schreiben-7442187900253387177.html
END:VEVENT
END:VCALENDAR