BEGIN:VCALENDAR
VERSION:2.0
PRODID:EVENTFROG//EVENTGROUP//ICAL
BEGIN:VEVENT
UID:20260422T115440Z-7442185388280524732@eventfrog.at
DTSTAMP:20260422T115440Z
DTSTART:20261010T073000Z
DTEND:20261010T110000Z
SUMMARY:NATURENA: Mikro-Garten im Glas
DESCRIPTION:Workshop zur Gestaltung eines 19 x 27 cm grossen Tropen-Terrariums mit Pflanzen, Geschichte und Pflegetipps, inkl. Mahlzeit.\n\nhttps://eventfrog.at/de/p/kurse-seminare/freizeit-hobby/naturena-mikro-garten-im-glas-7442185388280524732.html
LOCATION:Volg Erlebnishof Zugerland
GEO:47.207505;8.538940
URL:https://eventfrog.at/de/p/kurse-seminare/freizeit-hobby/naturena-mikro-garten-im-glas-7442185388280524732.html
END:VEVENT
BEGIN:VEVENT
UID:20260422T115440Z-7442185461349503688@eventfrog.at
DTSTAMP:20260422T115440Z
DTSTART:20261010T120000Z
DTEND:20261010T153000Z
SUMMARY:NATURENA: Mikro-Garten im Glas
DESCRIPTION:Workshop zur Gestaltung eines 19 x 27 cm grossen Tropen-Terrariums mit Pflanzen, Geschichte und Pflegetipps, inkl. Mahlzeit.\n\nhttps://eventfrog.at/de/p/kurse-seminare/freizeit-hobby/naturena-mikro-garten-im-glas-7442185461349503688.html
LOCATION:Volg Erlebnishof Zugerland
GEO:47.207505;8.538940
URL:https://eventfrog.at/de/p/kurse-seminare/freizeit-hobby/naturena-mikro-garten-im-glas-7442185461349503688.html
END:VEVENT
END:VCALENDAR