BEGIN:VCALENDAR
VERSION:2.0
PRODID:EVENTFROG//EVENTGROUP//ICAL
BEGIN:VEVENT
UID:20260422T112527Z-7442179742973855169@eventfrog.at
DTSTAMP:20260422T112527Z
DTSTART:20260807T070000Z
DTEND:20260807T140000Z
SUMMARY:NATURENA: Skulpturen aus Rebholz
DESCRIPTION:In diesem Kurs schnitzen Teilnehmende aus Rebholz Skulpturen, veredeln sie mit Leinöl und präsentieren sie auf einem Holzsockel.\n\nhttps://eventfrog.at/de/p/kurse-seminare/freizeit-hobby/naturena-skulpturen-aus-rebholz-7442179742973855169.html
LOCATION:Volg Erlebnishof Zugerland
GEO:47.207505;8.538940
URL:https://eventfrog.at/de/p/kurse-seminare/freizeit-hobby/naturena-skulpturen-aus-rebholz-7442179742973855169.html
END:VEVENT
BEGIN:VEVENT
UID:20260422T112527Z-7442179817485669792@eventfrog.at
DTSTAMP:20260422T112527Z
DTSTART:20260808T070000Z
DTEND:20260808T140000Z
SUMMARY:NATURENA: Skulpturen aus Rebholz
DESCRIPTION:In diesem Kurs schnitzen Teilnehmende aus Rebholz Skulpturen, veredeln sie mit Leinöl und präsentieren sie auf einem Holzsockel.\n\nhttps://eventfrog.at/de/p/kurse-seminare/freizeit-hobby/naturena-skulpturen-aus-rebholz-7442179817485669792.html
LOCATION:Volg Erlebnishof Zugerland
GEO:47.207505;8.538940
URL:https://eventfrog.at/de/p/kurse-seminare/freizeit-hobby/naturena-skulpturen-aus-rebholz-7442179817485669792.html
END:VEVENT
END:VCALENDAR