BEGIN:VCALENDAR
VERSION:2.0
PRODID:EVENTFROG//EVENTGROUP//ICAL
BEGIN:VEVENT
UID:20260422T112631Z-7442164814816789335@eventfrog.at
DTSTAMP:20260422T112631Z
DTSTART:20260612T070000Z
DTEND:20260612T140000Z
SUMMARY:NATURENA: Spinnerring aus Art Clay Silver
DESCRIPTION:Im Kurs lernen Teilnehmende, einen silbernen Spinnerring mit drehbaren Ringen und optionalem Zirkonia oder Perle herzustellen.\n\nhttps://eventfrog.at/de/p/kurse-seminare/freizeit-hobby/naturena-spinnerring-aus-art-clay-silver-7442164814816789335.html
LOCATION:Volg Erlebnishof Zugerland
GEO:47.207505;8.538940
URL:https://eventfrog.at/de/p/kurse-seminare/freizeit-hobby/naturena-spinnerring-aus-art-clay-silver-7442164814816789335.html
END:VEVENT
BEGIN:VEVENT
UID:20260422T112631Z-7442164898522522909@eventfrog.at
DTSTAMP:20260422T112631Z
DTSTART:20260613T070000Z
DTEND:20260613T140000Z
SUMMARY:NATURENA: Spinnerring aus Art Clay Silver
DESCRIPTION:Im Kurs lernen Teilnehmende, einen silbernen Spinnerring mit drehbaren Ringen und optionalem Zirkonia oder Perle herzustellen.\n\nhttps://eventfrog.at/de/p/kurse-seminare/freizeit-hobby/naturena-spinnerring-aus-art-clay-silver-7442164898522522909.html
LOCATION:Volg Erlebnishof Zugerland
GEO:47.207505;8.538940
URL:https://eventfrog.at/de/p/kurse-seminare/freizeit-hobby/naturena-spinnerring-aus-art-clay-silver-7442164898522522909.html
END:VEVENT
END:VCALENDAR