BEGIN:VCALENDAR
VERSION:2.0
PRODID:EVENTFROG//EVENTGROUP//ICAL
BEGIN:VEVENT
UID:20260422T112549Z-7442161628731192808@eventfrog.at
DTSTAMP:20260422T112549Z
DTSTART:20260509T063000Z
DTEND:20260509T110000Z
SUMMARY:NATURENA: Dekokränzchen aus Naturmaterialien
DESCRIPTION:Kränzchen aus Efeu, Ranken, Flechten und Trockenblüten gestalten, ideal als Dekoration oder Geschenkverzierung.\n\nhttps://eventfrog.at/de/p/kurse-seminare/freizeit-hobby/naturena-dekokraenzchen-aus-naturmaterialien-7442161628731192808.html
LOCATION:Volg Erlebnishof Zugerland
GEO:47.207505;8.538940
URL:https://eventfrog.at/de/p/kurse-seminare/freizeit-hobby/naturena-dekokraenzchen-aus-naturmaterialien-7442161628731192808.html
END:VEVENT
BEGIN:VEVENT
UID:20260422T112549Z-7442161752614160392@eventfrog.at
DTSTAMP:20260422T112549Z
DTSTART:20260509T113000Z
DTEND:20260509T160000Z
SUMMARY:NATURENA: Dekokränzchen aus Naturmaterialien
DESCRIPTION:Kränzchen aus Efeu, Ranken, Flechten und Trockenblüten gestalten, ideal als Dekoration oder Geschenkverzierung.\n\nhttps://eventfrog.at/de/p/kurse-seminare/freizeit-hobby/naturena-dekokraenzchen-aus-naturmaterialien-7442161752614160392.html
LOCATION:Volg Erlebnishof Zugerland
GEO:47.207505;8.538940
URL:https://eventfrog.at/de/p/kurse-seminare/freizeit-hobby/naturena-dekokraenzchen-aus-naturmaterialien-7442161752614160392.html
END:VEVENT
END:VCALENDAR