BEGIN:VCALENDAR
VERSION:2.0
PRODID:EVENTFROG//EVENTGROUP//ICAL
BEGIN:VEVENT
UID:20260422T112526Z-7441831667910624198@eventfrog.at
DTSTAMP:20260422T112526Z
DTSTART:20260510T090000Z
DTEND:20260510T100000Z
SUMMARY:Führung durch die Kunstausstellung "Mehr"
DESCRIPTION:"Mehr". Gruppenausstellung von Sam Heller, Tirza Matter, David Herren, Fabienne Lengweiler. Multimediale Installationen.\n\nhttps://eventfrog.at/de/p/kunst-ausstellungen/finissage/fuehrung-durch-die-kunstausstellung-mehr-7441831667910624198.html
LOCATION:KunstCluster Zug
GEO:47.179904;8.522729
URL:https://eventfrog.at/de/p/kunst-ausstellungen/finissage/fuehrung-durch-die-kunstausstellung-mehr-7441831667910624198.html
END:VEVENT
BEGIN:VEVENT
UID:20260422T112526Z-7441831706699550959@eventfrog.at
DTSTAMP:20260422T112526Z
DTSTART:20260510T120000Z
DTEND:20260510T130000Z
SUMMARY:Führung durch die Kunstausstellung "Mehr"
DESCRIPTION:"Mehr". Gruppenausstellung von Sam Heller, Tirza Matter, David Herren, Fabienne Lengweiler. Multimediale Installationen.\n\nhttps://eventfrog.at/de/p/kunst-ausstellungen/finissage/fuehrung-durch-die-kunstausstellung-mehr-7441831706699550959.html
LOCATION:KunstCluster Zug
GEO:47.179904;8.522729
URL:https://eventfrog.at/de/p/kunst-ausstellungen/finissage/fuehrung-durch-die-kunstausstellung-mehr-7441831706699550959.html
END:VEVENT
END:VCALENDAR