BEGIN:VCALENDAR
VERSION:2.0
PRODID:EVENTFROG//EVENTGROUP//ICAL
BEGIN:VEVENT
UID:20260422T113305Z-7441819762496141320@eventfrog.at
DTSTAMP:20260422T113305Z
DTSTART:20260501T120000Z
DTEND:20260501T170000Z
SUMMARY:ZugSPORTS Festival
DESCRIPTION:Die Metalli wird zum Sport-Hotspot: mitreissende Shows und packende Aktivitäten, durchgeführt von lokalen Vereinen, laden zum Mitmachen ein.\n\nhttps://eventfrog.at/de/p/sport-fitness/freizeitsport/zugsports-festival-7441819762496141320.html
LOCATION:Metalli Zug
GEO:47.172545;8.517250
URL:https://eventfrog.at/de/p/sport-fitness/freizeitsport/zugsports-festival-7441819762496141320.html
END:VEVENT
BEGIN:VEVENT
UID:20260422T113305Z-7441820010132051603@eventfrog.at
DTSTAMP:20260422T113305Z
DTSTART:20260502T080000Z
DTEND:20260502T150000Z
SUMMARY:ZugSPORTS Festival
DESCRIPTION:Die Metalli wird zum Sport-Hotspot: mitreissende Shows und packende Aktivitäten, durchgeführt von lokalen Vereinen, laden zum Mitmachen ein.\n\nhttps://eventfrog.at/de/p/sport-fitness/freizeitsport/zugsports-festival-7441820010132051603.html
LOCATION:Metalli Zug
GEO:47.172545;8.517250
URL:https://eventfrog.at/de/p/sport-fitness/freizeitsport/zugsports-festival-7441820010132051603.html
END:VEVENT
BEGIN:VEVENT
UID:20260422T113305Z-7441820010199160469@eventfrog.at
DTSTAMP:20260422T113305Z
DTSTART:20260508T120000Z
DTEND:20260508T170000Z
SUMMARY:ZugSPORTS Festival
DESCRIPTION:Die Metalli wird zum Sport-Hotspot: mitreissende Shows und packende Aktivitäten, durchgeführt von lokalen Vereinen, laden zum Mitmachen ein.\n\nhttps://eventfrog.at/de/p/sport-fitness/freizeitsport/zugsports-festival-7441820010199160469.html
LOCATION:Metalli Zug
GEO:47.172545;8.517250
URL:https://eventfrog.at/de/p/sport-fitness/freizeitsport/zugsports-festival-7441820010199160469.html
END:VEVENT
BEGIN:VEVENT
UID:20260422T113305Z-7441820010262075030@eventfrog.at
DTSTAMP:20260422T113305Z
DTSTART:20260509T080000Z
DTEND:20260509T150000Z
SUMMARY:ZugSPORTS Festival
DESCRIPTION:Die Metalli wird zum Sport-Hotspot: mitreissende Shows und packende Aktivitäten, durchgeführt von lokalen Vereinen, laden zum Mitmachen ein.\n\nhttps://eventfrog.at/de/p/sport-fitness/freizeitsport/zugsports-festival-7441820010262075030.html
LOCATION:Metalli Zug
GEO:47.172545;8.517250
URL:https://eventfrog.at/de/p/sport-fitness/freizeitsport/zugsports-festival-7441820010262075030.html
END:VEVENT
END:VCALENDAR