BEGIN:VCALENDAR
VERSION:2.0
PRODID:EVENTFROG//EVENTGROUP//ICAL
BEGIN:VEVENT
UID:20260422T061051Z-7441571547385440462@eventfrog.at
DTSTAMP:20260422T061051Z
DTSTART:20260422T171500Z
DTEND:20260422T181500Z
SUMMARY:Lachyoga Aarau
DESCRIPTION:Lachyoga Aarau – gemeinsam lachen, entspannen und neue Energie tanken\n\nhttps://eventfrog.at/de/p/gesundheit-spiritualitaet/gesundheit-wohlbefinden/lachyoga-aarau-7441571547385440462.html
LOCATION:Gemeinschaftszentrum Telli (GZ Telli)
GEO:47.398840;8.057790
URL:https://eventfrog.at/de/p/gesundheit-spiritualitaet/gesundheit-wohlbefinden/lachyoga-aarau-7441571547385440462.html
END:VEVENT
BEGIN:VEVENT
UID:20260422T061051Z-7441571547528047425@eventfrog.at
DTSTAMP:20260422T061051Z
DTSTART:20260506T171500Z
DTEND:20260506T181500Z
SUMMARY:Lachyoga Aarau
DESCRIPTION:Lachyoga Aarau – gemeinsam lachen, entspannen und neue Energie tanken\n\nhttps://eventfrog.at/de/p/gesundheit-spiritualitaet/gesundheit-wohlbefinden/lachyoga-aarau-7441571547528047425.html
LOCATION:Gemeinschaftszentrum Telli (GZ Telli)
GEO:47.398840;8.057790
URL:https://eventfrog.at/de/p/gesundheit-spiritualitaet/gesundheit-wohlbefinden/lachyoga-aarau-7441571547528047425.html
END:VEVENT
BEGIN:VEVENT
UID:20260422T061051Z-7441571547649682255@eventfrog.at
DTSTAMP:20260422T061051Z
DTSTART:20260520T171500Z
DTEND:20260520T181500Z
SUMMARY:Lachyoga Aarau
DESCRIPTION:Lachyoga Aarau – gemeinsam lachen, entspannen und neue Energie tanken\n\nhttps://eventfrog.at/de/p/gesundheit-spiritualitaet/gesundheit-wohlbefinden/lachyoga-aarau-7441571547649682255.html
LOCATION:Gemeinschaftszentrum Telli (GZ Telli)
GEO:47.398840;8.057790
URL:https://eventfrog.at/de/p/gesundheit-spiritualitaet/gesundheit-wohlbefinden/lachyoga-aarau-7441571547649682255.html
END:VEVENT
BEGIN:VEVENT
UID:20260422T061051Z-7441571547775511442@eventfrog.at
DTSTAMP:20260422T061051Z
DTSTART:20260610T171500Z
DTEND:20260610T181500Z
SUMMARY:Lachyoga Aarau
DESCRIPTION:Lachyoga Aarau – gemeinsam lachen, entspannen und neue Energie tanken\n\nhttps://eventfrog.at/de/p/gesundheit-spiritualitaet/gesundheit-wohlbefinden/lachyoga-aarau-7441571547775511442.html
LOCATION:Gemeinschaftszentrum Telli (GZ Telli)
GEO:47.398840;8.057790
URL:https://eventfrog.at/de/p/gesundheit-spiritualitaet/gesundheit-wohlbefinden/lachyoga-aarau-7441571547775511442.html
END:VEVENT
BEGIN:VEVENT
UID:20260422T061051Z-7447727955512440422@eventfrog.at
DTSTAMP:20260422T061051Z
DTSTART:20260624T171500Z
DTEND:20260624T181500Z
SUMMARY:Lachyoga Aarau
DESCRIPTION:Lachyoga Aarau – gemeinsam lachen, entspannen und neue Energie tanken\n\nhttps://eventfrog.at/de/p/gesundheit-spiritualitaet/gesundheit-wohlbefinden/lachyoga-aarau-7447727955512440422.html
LOCATION:Gemeinschaftszentrum Telli (GZ Telli)
GEO:47.398840;8.057790
URL:https://eventfrog.at/de/p/gesundheit-spiritualitaet/gesundheit-wohlbefinden/lachyoga-aarau-7447727955512440422.html
END:VEVENT
END:VCALENDAR