BEGIN:VCALENDAR
VERSION:2.0
PRODID:EVENTFROG//EVENTGROUP//ICAL
BEGIN:VEVENT
UID:20260422T061725Z-7438721141399674389@eventfrog.at
DTSTAMP:20260422T061725Z
DTSTART:20260423T120000Z
SUMMARY:Elephants & Squirrels
DESCRIPTION:Die schwierige Restitution des kolonialen Erbes der Schweiz.\n\nhttps://eventfrog.at/de/p/freizeit-ausfluege/elephants-squirrels-7438721141399674389.html
LOCATION:Kinok – Cinema in der Lokremise
GEO:47.421287;9.366104
URL:https://eventfrog.at/de/p/freizeit-ausfluege/elephants-squirrels-7438721141399674389.html
END:VEVENT
END:VCALENDAR