BEGIN:VCALENDAR
VERSION:2.0
PRODID:EVENTFROG//EVENTGROUP//ICAL
BEGIN:VEVENT
UID:20260419T130246Z-7441125736050620660@eventfrog.at
DTSTAMP:20260419T130246Z
DTSTART:20260523T193000Z
DTEND:20260523T213000Z
SUMMARY:Nacht des offenen Daches – Jura-Sternwarte Grenchen
DESCRIPTION:Die Jura-Sternwarte Grenchen öffnet ihre Türen für die Öffentlichkeit und ermöglicht faszinierende Einblicke in den Nachthimmel. Beobachten Sie Sterne und Planeten – kostenlos und ohne Anmeldung.\n\nhttps://eventfrog.at/de/p/wissenschaft-und-technik/nacht-des-offenen-daches-jura-sternwarte-grenchen-7441125736050620660.html
LOCATION:Jurasternwarte Grenchen
GEO:47.221411;7.380610
URL:https://eventfrog.at/de/p/wissenschaft-und-technik/nacht-des-offenen-daches-jura-sternwarte-grenchen-7441125736050620660.html
END:VEVENT
BEGIN:VEVENT
UID:20260419T130246Z-7451589028757921264@eventfrog.at
DTSTAMP:20260419T130246Z
DTSTART:20260607T120000Z
DTEND:20260607T150000Z
SUMMARY:Sonnenbeobachtung – Jura-Sternwarte Grenchen
DESCRIPTION:Die Jura-Sternwarte Grenchen lädt zu freien Nachmittagsbesuchen ein, um die Sonne durch Sonnenteleskope zu beobachten.\n\nhttps://eventfrog.at/de/p/wissenschaft-und-technik/sonnenbeobachtung-jura-sternwarte-grenchen-7451589028757921264.html
LOCATION:Jurasternwarte Grenchen
GEO:47.221411;7.380610
URL:https://eventfrog.at/de/p/wissenschaft-und-technik/sonnenbeobachtung-jura-sternwarte-grenchen-7451589028757921264.html
END:VEVENT
BEGIN:VEVENT
UID:20260419T130246Z-7441126190868396036@eventfrog.at
DTSTAMP:20260419T130246Z
DTSTART:20260613T200000Z
DTEND:20260613T213000Z
SUMMARY:Nacht des offenen Daches – Jura-Sternwarte Grenchen
DESCRIPTION:Die Jura-Sternwarte Grenchen öffnet ihre Türen für die Öffentlichkeit und ermöglicht faszinierende Einblicke in den Nachthimmel. Beobachten Sie Sterne und Planeten – kostenlos und ohne Anmeldung.\n\nhttps://eventfrog.at/de/p/wissenschaft-und-technik/nacht-des-offenen-daches-jura-sternwarte-grenchen-7441126190868396036.html
LOCATION:Jurasternwarte Grenchen
GEO:47.221411;7.380610
URL:https://eventfrog.at/de/p/wissenschaft-und-technik/nacht-des-offenen-daches-jura-sternwarte-grenchen-7441126190868396036.html
END:VEVENT
BEGIN:VEVENT
UID:20260419T130246Z-7451591583806288846@eventfrog.at
DTSTAMP:20260419T130246Z
DTSTART:20260718T120000Z
DTEND:20260718T150000Z
SUMMARY:Sonnenbeobachtung – Jura-Sternwarte Grenchen
DESCRIPTION:Die Jura-Sternwarte Grenchen lädt zu freien Nachmittagsbesuchen ein, um die Sonne durch Sonnenteleskope zu beobachten.\n\nhttps://eventfrog.at/de/p/wissenschaft-und-technik/sonnenbeobachtung-jura-sternwarte-grenchen-7451591583806288846.html
LOCATION:Jurasternwarte Grenchen
GEO:47.221411;7.380610
URL:https://eventfrog.at/de/p/wissenschaft-und-technik/sonnenbeobachtung-jura-sternwarte-grenchen-7451591583806288846.html
END:VEVENT
BEGIN:VEVENT
UID:20260419T130246Z-7451592127379680321@eventfrog.at
DTSTAMP:20260419T130246Z
DTSTART:20260812T170000Z
DTEND:20260812T190000Z
SUMMARY:Sonnenfinsternis Spezial – Jura-Sternwarte Grenchen
DESCRIPTION:Die Jura-Sternwarte Grenchen lädt am 12. August 2026 zur Beobachtung der partiellen Sonnenfinsternis mit fachkundiger Begleitung ein.\n\nhttps://eventfrog.at/de/p/wissenschaft-und-technik/sonnenfinsternis-spezial-jura-sternwarte-grenchen-7451592127379680321.html
LOCATION:Jurasternwarte Grenchen
GEO:47.221411;7.380610
URL:https://eventfrog.at/de/p/wissenschaft-und-technik/sonnenfinsternis-spezial-jura-sternwarte-grenchen-7451592127379680321.html
END:VEVENT
BEGIN:VEVENT
UID:20260419T130246Z-7441126190994225682@eventfrog.at
DTSTAMP:20260419T130246Z
DTSTART:20260821T193000Z
DTEND:20260821T213000Z
SUMMARY:Nacht des offenen Daches – Jura-Sternwarte Grenchen
DESCRIPTION:Die Jura-Sternwarte Grenchen öffnet ihre Türen für die Öffentlichkeit und ermöglicht faszinierende Einblicke in den Nachthimmel. Beobachten Sie Sterne und Planeten – kostenlos und ohne Anmeldung.\n\nhttps://eventfrog.at/de/p/wissenschaft-und-technik/nacht-des-offenen-daches-jura-sternwarte-grenchen-7441126190994225682.html
LOCATION:Jurasternwarte Grenchen
GEO:47.221411;7.380610
URL:https://eventfrog.at/de/p/wissenschaft-und-technik/nacht-des-offenen-daches-jura-sternwarte-grenchen-7441126190994225682.html
END:VEVENT
BEGIN:VEVENT
UID:20260419T130246Z-7451591750982871946@eventfrog.at
DTSTAMP:20260419T130246Z
DTSTART:20260906T120000Z
DTEND:20260906T150000Z
SUMMARY:Sonnenbeobachtung – Jura-Sternwarte Grenchen
DESCRIPTION:Die Jura-Sternwarte Grenchen lädt zu freien Nachmittagsbesuchen ein, um die Sonne durch Sonnenteleskope zu beobachten.\n\nhttps://eventfrog.at/de/p/wissenschaft-und-technik/sonnenbeobachtung-jura-sternwarte-grenchen-7451591750982871946.html
LOCATION:Jurasternwarte Grenchen
GEO:47.221411;7.380610
URL:https://eventfrog.at/de/p/wissenschaft-und-technik/sonnenbeobachtung-jura-sternwarte-grenchen-7451591750982871946.html
END:VEVENT
BEGIN:VEVENT
UID:20260419T130246Z-7451588627497225912@eventfrog.at
DTSTAMP:20260419T130246Z
DTSTART:20261017T180000Z
DTEND:20261017T200000Z
SUMMARY:Nacht des offenen Daches – Jura-Sternwarte Grenchen
DESCRIPTION:Die Jura-Sternwarte Grenchen öffnet ihre Türen für die Öffentlichkeit und ermöglicht faszinierende Einblicke in den Nachthimmel. Beobachten Sie Sterne und Planeten – kostenlos und ohne Anmeldung.\n\nhttps://eventfrog.at/de/p/wissenschaft-und-technik/nacht-des-offenen-daches-jura-sternwarte-grenchen-7451588627497225912.html
LOCATION:Jurasternwarte Grenchen
GEO:47.221411;7.380610
URL:https://eventfrog.at/de/p/wissenschaft-und-technik/nacht-des-offenen-daches-jura-sternwarte-grenchen-7451588627497225912.html
END:VEVENT
END:VCALENDAR