BEGIN:VCALENDAR
VERSION:2.0
PRODID:EVENTFROG//EVENTGROUP//ICAL
BEGIN:VEVENT
UID:20260422T033951Z-7440309853564735248@eventfrog.at
DTSTAMP:20260422T033951Z
DTSTART:20260423T070000Z
DTEND:20260423T163000Z
SUMMARY:Gesundheitsschuhtage 2026
DESCRIPTION:Gesundheitsschuh-Event mit Ganganalyse und Beratung zu Anova und Xelero am 23., 24. und 25. April bei Berger Schuhe.\n\nhttps://eventfrog.at/de/p/sport-fitness/wandern/gesundheitsschuhtage-2026-7440309853564735248.html
LOCATION:Berger Schuhe & Sport
GEO:46.879320;7.614830
URL:https://eventfrog.at/de/p/sport-fitness/wandern/gesundheitsschuhtage-2026-7440309853564735248.html
END:VEVENT
BEGIN:VEVENT
UID:20260422T033951Z-7440309988424200089@eventfrog.at
DTSTAMP:20260422T033951Z
DTSTART:20260424T070000Z
DTEND:20260424T163000Z
SUMMARY:Gesundheitsschuhtage 2026
DESCRIPTION:Gesundheitsschuh-Event mit Ganganalyse und Beratung zu Anova und Xelero am 23., 24. und 25. April bei Berger Schuhe.\n\nhttps://eventfrog.at/de/p/sport-fitness/wandern/gesundheitsschuhtage-2026-7440309988424200089.html
LOCATION:Berger Schuhe & Sport
GEO:46.879320;7.614830
URL:https://eventfrog.at/de/p/sport-fitness/wandern/gesundheitsschuhtage-2026-7440309988424200089.html
END:VEVENT
BEGIN:VEVENT
UID:20260422T033951Z-7440309988537446299@eventfrog.at
DTSTAMP:20260422T033951Z
DTSTART:20260425T060000Z
DTEND:20260425T140000Z
SUMMARY:Gesundheitsschuhtage 2026
DESCRIPTION:Gesundheitsschuh-Event mit Ganganalyse und Beratung zu Anova und Xelero am 23., 24. und 25. April bei Berger Schuhe.\n\nhttps://eventfrog.at/de/p/sport-fitness/wandern/gesundheitsschuhtage-2026-7440309988537446299.html
LOCATION:Berger Schuhe & Sport
GEO:46.879320;7.614830
URL:https://eventfrog.at/de/p/sport-fitness/wandern/gesundheitsschuhtage-2026-7440309988537446299.html
END:VEVENT
END:VCALENDAR