BEGIN:VCALENDAR
VERSION:2.0
PRODID:EVENTFROG//EVENTGROUP//ICAL
BEGIN:VEVENT
UID:20260422T061051Z-7440078943565157445@eventfrog.at
DTSTAMP:20260422T061051Z
DTSTART:20260401T140000Z
DTEND:20260401T145000Z
SUMMARY:Bewegung und Gymnastik 66plus
DESCRIPTION:Ganzheitliches Turnen mit Sigrid H. Bachofner mittwochs 16-16.50 Uhr im Kirchgemeindehaus Bülach, CHF 10.-, ohne Anmeldung.\n\nhttps://eventfrog.at/de/p/sport-fitness/fitness/bewegung-und-gymnastik-66plus-7440078943565157445.html
LOCATION:Ref. Kirchgemeindehaus
GEO:47.516746;8.538084
URL:https://eventfrog.at/de/p/sport-fitness/fitness/bewegung-und-gymnastik-66plus-7440078943565157445.html
END:VEVENT
BEGIN:VEVENT
UID:20260422T061051Z-7440079054852636353@eventfrog.at
DTSTAMP:20260422T061051Z
DTSTART:20260401T140000Z
DTEND:20260401T145000Z
SUMMARY:Bewegung und Gymnastik 66plus
DESCRIPTION:Ganzheitliches Turnen mit Sigrid H. Bachofner mittwochs 16-16.50 Uhr im Kirchgemeindehaus Bülach, CHF 10.-, ohne Anmeldung.\n\nhttps://eventfrog.at/de/p/sport-fitness/fitness/bewegung-und-gymnastik-66plus-7440079054852636353.html
LOCATION:Ref. Kirchgemeindehaus
GEO:47.516746;8.538084
URL:https://eventfrog.at/de/p/sport-fitness/fitness/bewegung-und-gymnastik-66plus-7440079054852636353.html
END:VEVENT
BEGIN:VEVENT
UID:20260422T061051Z-7440079054978465479@eventfrog.at
DTSTAMP:20260422T061051Z
DTSTART:20260408T140000Z
DTEND:20260408T145000Z
SUMMARY:Bewegung und Gymnastik 66plus
DESCRIPTION:Ganzheitliches Turnen mit Sigrid H. Bachofner mittwochs 16-16.50 Uhr im Kirchgemeindehaus Bülach, CHF 10.-, ohne Anmeldung.\n\nhttps://eventfrog.at/de/p/sport-fitness/fitness/bewegung-und-gymnastik-66plus-7440079054978465479.html
LOCATION:Ref. Kirchgemeindehaus
GEO:47.516746;8.538084
URL:https://eventfrog.at/de/p/sport-fitness/fitness/bewegung-und-gymnastik-66plus-7440079054978465479.html
END:VEVENT
BEGIN:VEVENT
UID:20260422T061051Z-7440079055100100298@eventfrog.at
DTSTAMP:20260422T061051Z
DTSTART:20260415T140000Z
DTEND:20260415T145000Z
SUMMARY:Bewegung und Gymnastik 66plus
DESCRIPTION:Ganzheitliches Turnen mit Sigrid H. Bachofner mittwochs 16-16.50 Uhr im Kirchgemeindehaus Bülach, CHF 10.-, ohne Anmeldung.\n\nhttps://eventfrog.at/de/p/sport-fitness/fitness/bewegung-und-gymnastik-66plus-7440079055100100298.html
LOCATION:Ref. Kirchgemeindehaus
GEO:47.516746;8.538084
URL:https://eventfrog.at/de/p/sport-fitness/fitness/bewegung-und-gymnastik-66plus-7440079055100100298.html
END:VEVENT
BEGIN:VEVENT
UID:20260422T061051Z-7440079055255289548@eventfrog.at
DTSTAMP:20260422T061051Z
DTSTART:20260422T140000Z
DTEND:20260422T145000Z
SUMMARY:Bewegung und Gymnastik 66plus
DESCRIPTION:Ganzheitliches Turnen mit Sigrid H. Bachofner mittwochs 16-16.50 Uhr im Kirchgemeindehaus Bülach, CHF 10.-, ohne Anmeldung.\n\nhttps://eventfrog.at/de/p/sport-fitness/fitness/bewegung-und-gymnastik-66plus-7440079055255289548.html
LOCATION:Ref. Kirchgemeindehaus
GEO:47.516746;8.538084
URL:https://eventfrog.at/de/p/sport-fitness/fitness/bewegung-und-gymnastik-66plus-7440079055255289548.html
END:VEVENT
BEGIN:VEVENT
UID:20260422T061051Z-7440079055376924367@eventfrog.at
DTSTAMP:20260422T061051Z
DTSTART:20260429T140000Z
DTEND:20260429T145000Z
SUMMARY:Bewegung und Gymnastik 66plus
DESCRIPTION:Ganzheitliches Turnen mit Sigrid H. Bachofner mittwochs 16-16.50 Uhr im Kirchgemeindehaus Bülach, CHF 10.-, ohne Anmeldung.\n\nhttps://eventfrog.at/de/p/sport-fitness/fitness/bewegung-und-gymnastik-66plus-7440079055376924367.html
LOCATION:Ref. Kirchgemeindehaus
GEO:47.516746;8.538084
URL:https://eventfrog.at/de/p/sport-fitness/fitness/bewegung-und-gymnastik-66plus-7440079055376924367.html
END:VEVENT
BEGIN:VEVENT
UID:20260422T061051Z-7440079055523725623@eventfrog.at
DTSTAMP:20260422T061051Z
DTSTART:20260506T140000Z
DTEND:20260506T145000Z
SUMMARY:Bewegung und Gymnastik 66plus
DESCRIPTION:Ganzheitliches Turnen mit Sigrid H. Bachofner mittwochs 16-16.50 Uhr im Kirchgemeindehaus Bülach, CHF 10.-, ohne Anmeldung.\n\nhttps://eventfrog.at/de/p/sport-fitness/fitness/bewegung-und-gymnastik-66plus-7440079055523725623.html
LOCATION:Ref. Kirchgemeindehaus
GEO:47.516746;8.538084
URL:https://eventfrog.at/de/p/sport-fitness/fitness/bewegung-und-gymnastik-66plus-7440079055523725623.html
END:VEVENT
BEGIN:VEVENT
UID:20260422T061051Z-7440079055657943380@eventfrog.at
DTSTAMP:20260422T061051Z
DTSTART:20260513T140000Z
DTEND:20260513T145000Z
SUMMARY:Bewegung und Gymnastik 66plus
DESCRIPTION:Ganzheitliches Turnen mit Sigrid H. Bachofner mittwochs 16-16.50 Uhr im Kirchgemeindehaus Bülach, CHF 10.-, ohne Anmeldung.\n\nhttps://eventfrog.at/de/p/sport-fitness/fitness/bewegung-und-gymnastik-66plus-7440079055657943380.html
LOCATION:Ref. Kirchgemeindehaus
GEO:47.516746;8.538084
URL:https://eventfrog.at/de/p/sport-fitness/fitness/bewegung-und-gymnastik-66plus-7440079055657943380.html
END:VEVENT
BEGIN:VEVENT
UID:20260422T061051Z-7440079055787966851@eventfrog.at
DTSTAMP:20260422T061051Z
DTSTART:20260520T140000Z
DTEND:20260520T145000Z
SUMMARY:Bewegung und Gymnastik 66plus
DESCRIPTION:Ganzheitliches Turnen mit Sigrid H. Bachofner mittwochs 16-16.50 Uhr im Kirchgemeindehaus Bülach, CHF 10.-, ohne Anmeldung.\n\nhttps://eventfrog.at/de/p/sport-fitness/fitness/bewegung-und-gymnastik-66plus-7440079055787966851.html
LOCATION:Ref. Kirchgemeindehaus
GEO:47.516746;8.538084
URL:https://eventfrog.at/de/p/sport-fitness/fitness/bewegung-und-gymnastik-66plus-7440079055787966851.html
END:VEVENT
BEGIN:VEVENT
UID:20260422T061051Z-7440079055943156121@eventfrog.at
DTSTAMP:20260422T061051Z
DTSTART:20260527T140000Z
DTEND:20260527T145000Z
SUMMARY:Bewegung und Gymnastik 66plus
DESCRIPTION:Ganzheitliches Turnen mit Sigrid H. Bachofner mittwochs 16-16.50 Uhr im Kirchgemeindehaus Bülach, CHF 10.-, ohne Anmeldung.\n\nhttps://eventfrog.at/de/p/sport-fitness/fitness/bewegung-und-gymnastik-66plus-7440079055943156121.html
LOCATION:Ref. Kirchgemeindehaus
GEO:47.516746;8.538084
URL:https://eventfrog.at/de/p/sport-fitness/fitness/bewegung-und-gymnastik-66plus-7440079055943156121.html
END:VEVENT
BEGIN:VEVENT
UID:20260422T061051Z-7440079056106733979@eventfrog.at
DTSTAMP:20260422T061051Z
DTSTART:20260603T140000Z
DTEND:20260603T145000Z
SUMMARY:Bewegung und Gymnastik 66plus
DESCRIPTION:Ganzheitliches Turnen mit Sigrid H. Bachofner mittwochs 16-16.50 Uhr im Kirchgemeindehaus Bülach, CHF 10.-, ohne Anmeldung.\n\nhttps://eventfrog.at/de/p/sport-fitness/fitness/bewegung-und-gymnastik-66plus-7440079056106733979.html
LOCATION:Ref. Kirchgemeindehaus
GEO:47.516746;8.538084
URL:https://eventfrog.at/de/p/sport-fitness/fitness/bewegung-und-gymnastik-66plus-7440079056106733979.html
END:VEVENT
BEGIN:VEVENT
UID:20260422T061051Z-7440079056232563101@eventfrog.at
DTSTAMP:20260422T061051Z
DTSTART:20260610T140000Z
DTEND:20260610T145000Z
SUMMARY:Bewegung und Gymnastik 66plus
DESCRIPTION:Ganzheitliches Turnen mit Sigrid H. Bachofner mittwochs 16-16.50 Uhr im Kirchgemeindehaus Bülach, CHF 10.-, ohne Anmeldung.\n\nhttps://eventfrog.at/de/p/sport-fitness/fitness/bewegung-und-gymnastik-66plus-7440079056232563101.html
LOCATION:Ref. Kirchgemeindehaus
GEO:47.516746;8.538084
URL:https://eventfrog.at/de/p/sport-fitness/fitness/bewegung-und-gymnastik-66plus-7440079056232563101.html
END:VEVENT
BEGIN:VEVENT
UID:20260422T061051Z-7440079056358392296@eventfrog.at
DTSTAMP:20260422T061051Z
DTSTART:20260617T140000Z
DTEND:20260617T145000Z
SUMMARY:Bewegung und Gymnastik 66plus
DESCRIPTION:Ganzheitliches Turnen mit Sigrid H. Bachofner mittwochs 16-16.50 Uhr im Kirchgemeindehaus Bülach, CHF 10.-, ohne Anmeldung.\n\nhttps://eventfrog.at/de/p/sport-fitness/fitness/bewegung-und-gymnastik-66plus-7440079056358392296.html
LOCATION:Ref. Kirchgemeindehaus
GEO:47.516746;8.538084
URL:https://eventfrog.at/de/p/sport-fitness/fitness/bewegung-und-gymnastik-66plus-7440079056358392296.html
END:VEVENT
BEGIN:VEVENT
UID:20260422T061051Z-7440079056480027121@eventfrog.at
DTSTAMP:20260422T061051Z
DTSTART:20260624T140000Z
DTEND:20260624T145000Z
SUMMARY:Bewegung und Gymnastik 66plus
DESCRIPTION:Ganzheitliches Turnen mit Sigrid H. Bachofner mittwochs 16-16.50 Uhr im Kirchgemeindehaus Bülach, CHF 10.-, ohne Anmeldung.\n\nhttps://eventfrog.at/de/p/sport-fitness/fitness/bewegung-und-gymnastik-66plus-7440079056480027121.html
LOCATION:Ref. Kirchgemeindehaus
GEO:47.516746;8.538084
URL:https://eventfrog.at/de/p/sport-fitness/fitness/bewegung-und-gymnastik-66plus-7440079056480027121.html
END:VEVENT
BEGIN:VEVENT
UID:20260422T061051Z-7440079056601661939@eventfrog.at
DTSTAMP:20260422T061051Z
DTSTART:20260701T140000Z
DTEND:20260701T145000Z
SUMMARY:Bewegung und Gymnastik 66plus
DESCRIPTION:Ganzheitliches Turnen mit Sigrid H. Bachofner mittwochs 16-16.50 Uhr im Kirchgemeindehaus Bülach, CHF 10.-, ohne Anmeldung.\n\nhttps://eventfrog.at/de/p/sport-fitness/fitness/bewegung-und-gymnastik-66plus-7440079056601661939.html
LOCATION:Ref. Kirchgemeindehaus
GEO:47.516746;8.538084
URL:https://eventfrog.at/de/p/sport-fitness/fitness/bewegung-und-gymnastik-66plus-7440079056601661939.html
END:VEVENT
BEGIN:VEVENT
UID:20260422T061051Z-7440079056723296774@eventfrog.at
DTSTAMP:20260422T061051Z
DTSTART:20260708T140000Z
DTEND:20260708T145000Z
SUMMARY:Bewegung und Gymnastik 66plus
DESCRIPTION:Ganzheitliches Turnen mit Sigrid H. Bachofner mittwochs 16-16.50 Uhr im Kirchgemeindehaus Bülach, CHF 10.-, ohne Anmeldung.\n\nhttps://eventfrog.at/de/p/sport-fitness/fitness/bewegung-und-gymnastik-66plus-7440079056723296774.html
LOCATION:Ref. Kirchgemeindehaus
GEO:47.516746;8.538084
URL:https://eventfrog.at/de/p/sport-fitness/fitness/bewegung-und-gymnastik-66plus-7440079056723296774.html
END:VEVENT
BEGIN:VEVENT
UID:20260422T061051Z-7440079056840737288@eventfrog.at
DTSTAMP:20260422T061051Z
DTSTART:20260715T140000Z
DTEND:20260715T145000Z
SUMMARY:Bewegung und Gymnastik 66plus
DESCRIPTION:Ganzheitliches Turnen mit Sigrid H. Bachofner mittwochs 16-16.50 Uhr im Kirchgemeindehaus Bülach, CHF 10.-, ohne Anmeldung.\n\nhttps://eventfrog.at/de/p/sport-fitness/fitness/bewegung-und-gymnastik-66plus-7440079056840737288.html
LOCATION:Ref. Kirchgemeindehaus
GEO:47.516746;8.538084
URL:https://eventfrog.at/de/p/sport-fitness/fitness/bewegung-und-gymnastik-66plus-7440079056840737288.html
END:VEVENT
BEGIN:VEVENT
UID:20260422T061051Z-7440079056958177802@eventfrog.at
DTSTAMP:20260422T061051Z
DTSTART:20260722T140000Z
DTEND:20260722T145000Z
SUMMARY:Bewegung und Gymnastik 66plus
DESCRIPTION:Ganzheitliches Turnen mit Sigrid H. Bachofner mittwochs 16-16.50 Uhr im Kirchgemeindehaus Bülach, CHF 10.-, ohne Anmeldung.\n\nhttps://eventfrog.at/de/p/sport-fitness/fitness/bewegung-und-gymnastik-66plus-7440079056958177802.html
LOCATION:Ref. Kirchgemeindehaus
GEO:47.516746;8.538084
URL:https://eventfrog.at/de/p/sport-fitness/fitness/bewegung-und-gymnastik-66plus-7440079056958177802.html
END:VEVENT
BEGIN:VEVENT
UID:20260422T061051Z-7440079057079812620@eventfrog.at
DTSTAMP:20260422T061051Z
DTSTART:20260729T140000Z
DTEND:20260729T145000Z
SUMMARY:Bewegung und Gymnastik 66plus
DESCRIPTION:Ganzheitliches Turnen mit Sigrid H. Bachofner mittwochs 16-16.50 Uhr im Kirchgemeindehaus Bülach, CHF 10.-, ohne Anmeldung.\n\nhttps://eventfrog.at/de/p/sport-fitness/fitness/bewegung-und-gymnastik-66plus-7440079057079812620.html
LOCATION:Ref. Kirchgemeindehaus
GEO:47.516746;8.538084
URL:https://eventfrog.at/de/p/sport-fitness/fitness/bewegung-und-gymnastik-66plus-7440079057079812620.html
END:VEVENT
BEGIN:VEVENT
UID:20260422T061051Z-7440079057193058831@eventfrog.at
DTSTAMP:20260422T061051Z
DTSTART:20260805T140000Z
DTEND:20260805T145000Z
SUMMARY:Bewegung und Gymnastik 66plus
DESCRIPTION:Ganzheitliches Turnen mit Sigrid H. Bachofner mittwochs 16-16.50 Uhr im Kirchgemeindehaus Bülach, CHF 10.-, ohne Anmeldung.\n\nhttps://eventfrog.at/de/p/sport-fitness/fitness/bewegung-und-gymnastik-66plus-7440079057193058831.html
LOCATION:Ref. Kirchgemeindehaus
GEO:47.516746;8.538084
URL:https://eventfrog.at/de/p/sport-fitness/fitness/bewegung-und-gymnastik-66plus-7440079057193058831.html
END:VEVENT
BEGIN:VEVENT
UID:20260422T061051Z-7440079057310499347@eventfrog.at
DTSTAMP:20260422T061051Z
DTSTART:20260812T140000Z
DTEND:20260812T145000Z
SUMMARY:Bewegung und Gymnastik 66plus
DESCRIPTION:Ganzheitliches Turnen mit Sigrid H. Bachofner mittwochs 16-16.50 Uhr im Kirchgemeindehaus Bülach, CHF 10.-, ohne Anmeldung.\n\nhttps://eventfrog.at/de/p/sport-fitness/fitness/bewegung-und-gymnastik-66plus-7440079057310499347.html
LOCATION:Ref. Kirchgemeindehaus
GEO:47.516746;8.538084
URL:https://eventfrog.at/de/p/sport-fitness/fitness/bewegung-und-gymnastik-66plus-7440079057310499347.html
END:VEVENT
BEGIN:VEVENT
UID:20260422T061051Z-7440079057432134165@eventfrog.at
DTSTAMP:20260422T061051Z
DTSTART:20260819T140000Z
DTEND:20260819T145000Z
SUMMARY:Bewegung und Gymnastik 66plus
DESCRIPTION:Ganzheitliches Turnen mit Sigrid H. Bachofner mittwochs 16-16.50 Uhr im Kirchgemeindehaus Bülach, CHF 10.-, ohne Anmeldung.\n\nhttps://eventfrog.at/de/p/sport-fitness/fitness/bewegung-und-gymnastik-66plus-7440079057432134165.html
LOCATION:Ref. Kirchgemeindehaus
GEO:47.516746;8.538084
URL:https://eventfrog.at/de/p/sport-fitness/fitness/bewegung-und-gymnastik-66plus-7440079057432134165.html
END:VEVENT
BEGIN:VEVENT
UID:20260422T061051Z-7440079057557963292@eventfrog.at
DTSTAMP:20260422T061051Z
DTSTART:20260826T140000Z
DTEND:20260826T145000Z
SUMMARY:Bewegung und Gymnastik 66plus
DESCRIPTION:Ganzheitliches Turnen mit Sigrid H. Bachofner mittwochs 16-16.50 Uhr im Kirchgemeindehaus Bülach, CHF 10.-, ohne Anmeldung.\n\nhttps://eventfrog.at/de/p/sport-fitness/fitness/bewegung-und-gymnastik-66plus-7440079057557963292.html
LOCATION:Ref. Kirchgemeindehaus
GEO:47.516746;8.538084
URL:https://eventfrog.at/de/p/sport-fitness/fitness/bewegung-und-gymnastik-66plus-7440079057557963292.html
END:VEVENT
BEGIN:VEVENT
UID:20260422T061051Z-7440079057675403816@eventfrog.at
DTSTAMP:20260422T061051Z
DTSTART:20260902T140000Z
DTEND:20260902T145000Z
SUMMARY:Bewegung und Gymnastik 66plus
DESCRIPTION:Ganzheitliches Turnen mit Sigrid H. Bachofner mittwochs 16-16.50 Uhr im Kirchgemeindehaus Bülach, CHF 10.-, ohne Anmeldung.\n\nhttps://eventfrog.at/de/p/sport-fitness/fitness/bewegung-und-gymnastik-66plus-7440079057675403816.html
LOCATION:Ref. Kirchgemeindehaus
GEO:47.516746;8.538084
URL:https://eventfrog.at/de/p/sport-fitness/fitness/bewegung-und-gymnastik-66plus-7440079057675403816.html
END:VEVENT
BEGIN:VEVENT
UID:20260422T061051Z-7440079057809621565@eventfrog.at
DTSTAMP:20260422T061051Z
DTSTART:20260909T140000Z
DTEND:20260909T145000Z
SUMMARY:Bewegung und Gymnastik 66plus
DESCRIPTION:Ganzheitliches Turnen mit Sigrid H. Bachofner mittwochs 16-16.50 Uhr im Kirchgemeindehaus Bülach, CHF 10.-, ohne Anmeldung.\n\nhttps://eventfrog.at/de/p/sport-fitness/fitness/bewegung-und-gymnastik-66plus-7440079057809621565.html
LOCATION:Ref. Kirchgemeindehaus
GEO:47.516746;8.538084
URL:https://eventfrog.at/de/p/sport-fitness/fitness/bewegung-und-gymnastik-66plus-7440079057809621565.html
END:VEVENT
BEGIN:VEVENT
UID:20260422T061051Z-7440079057943839311@eventfrog.at
DTSTAMP:20260422T061051Z
DTSTART:20260916T140000Z
DTEND:20260916T145000Z
SUMMARY:Bewegung und Gymnastik 66plus
DESCRIPTION:Ganzheitliches Turnen mit Sigrid H. Bachofner mittwochs 16-16.50 Uhr im Kirchgemeindehaus Bülach, CHF 10.-, ohne Anmeldung.\n\nhttps://eventfrog.at/de/p/sport-fitness/fitness/bewegung-und-gymnastik-66plus-7440079057943839311.html
LOCATION:Ref. Kirchgemeindehaus
GEO:47.516746;8.538084
URL:https://eventfrog.at/de/p/sport-fitness/fitness/bewegung-und-gymnastik-66plus-7440079057943839311.html
END:VEVENT
BEGIN:VEVENT
UID:20260422T061051Z-7440079058082251346@eventfrog.at
DTSTAMP:20260422T061051Z
DTSTART:20260923T140000Z
DTEND:20260923T145000Z
SUMMARY:Bewegung und Gymnastik 66plus
DESCRIPTION:Ganzheitliches Turnen mit Sigrid H. Bachofner mittwochs 16-16.50 Uhr im Kirchgemeindehaus Bülach, CHF 10.-, ohne Anmeldung.\n\nhttps://eventfrog.at/de/p/sport-fitness/fitness/bewegung-und-gymnastik-66plus-7440079058082251346.html
LOCATION:Ref. Kirchgemeindehaus
GEO:47.516746;8.538084
URL:https://eventfrog.at/de/p/sport-fitness/fitness/bewegung-und-gymnastik-66plus-7440079058082251346.html
END:VEVENT
BEGIN:VEVENT
UID:20260422T061051Z-7440079058250023508@eventfrog.at
DTSTAMP:20260422T061051Z
DTSTART:20260930T140000Z
DTEND:20260930T145000Z
SUMMARY:Bewegung und Gymnastik 66plus
DESCRIPTION:Ganzheitliches Turnen mit Sigrid H. Bachofner mittwochs 16-16.50 Uhr im Kirchgemeindehaus Bülach, CHF 10.-, ohne Anmeldung.\n\nhttps://eventfrog.at/de/p/sport-fitness/fitness/bewegung-und-gymnastik-66plus-7440079058250023508.html
LOCATION:Ref. Kirchgemeindehaus
GEO:47.516746;8.538084
URL:https://eventfrog.at/de/p/sport-fitness/fitness/bewegung-und-gymnastik-66plus-7440079058250023508.html
END:VEVENT
BEGIN:VEVENT
UID:20260422T061051Z-7440079058392629846@eventfrog.at
DTSTAMP:20260422T061051Z
DTSTART:20261007T140000Z
DTEND:20261007T145000Z
SUMMARY:Bewegung und Gymnastik 66plus
DESCRIPTION:Ganzheitliches Turnen mit Sigrid H. Bachofner mittwochs 16-16.50 Uhr im Kirchgemeindehaus Bülach, CHF 10.-, ohne Anmeldung.\n\nhttps://eventfrog.at/de/p/sport-fitness/fitness/bewegung-und-gymnastik-66plus-7440079058392629846.html
LOCATION:Ref. Kirchgemeindehaus
GEO:47.516746;8.538084
URL:https://eventfrog.at/de/p/sport-fitness/fitness/bewegung-und-gymnastik-66plus-7440079058392629846.html
END:VEVENT
BEGIN:VEVENT
UID:20260422T061051Z-7440079058526847591@eventfrog.at
DTSTAMP:20260422T061051Z
DTSTART:20261014T140000Z
DTEND:20261014T145000Z
SUMMARY:Bewegung und Gymnastik 66plus
DESCRIPTION:Ganzheitliches Turnen mit Sigrid H. Bachofner mittwochs 16-16.50 Uhr im Kirchgemeindehaus Bülach, CHF 10.-, ohne Anmeldung.\n\nhttps://eventfrog.at/de/p/sport-fitness/fitness/bewegung-und-gymnastik-66plus-7440079058526847591.html
LOCATION:Ref. Kirchgemeindehaus
GEO:47.516746;8.538084
URL:https://eventfrog.at/de/p/sport-fitness/fitness/bewegung-und-gymnastik-66plus-7440079058526847591.html
END:VEVENT
BEGIN:VEVENT
UID:20260422T061051Z-7440079058665259707@eventfrog.at
DTSTAMP:20260422T061051Z
DTSTART:20261021T140000Z
DTEND:20261021T145000Z
SUMMARY:Bewegung und Gymnastik 66plus
DESCRIPTION:Ganzheitliches Turnen mit Sigrid H. Bachofner mittwochs 16-16.50 Uhr im Kirchgemeindehaus Bülach, CHF 10.-, ohne Anmeldung.\n\nhttps://eventfrog.at/de/p/sport-fitness/fitness/bewegung-und-gymnastik-66plus-7440079058665259707.html
LOCATION:Ref. Kirchgemeindehaus
GEO:47.516746;8.538084
URL:https://eventfrog.at/de/p/sport-fitness/fitness/bewegung-und-gymnastik-66plus-7440079058665259707.html
END:VEVENT
BEGIN:VEVENT
UID:20260422T061051Z-7440079058828837614@eventfrog.at
DTSTAMP:20260422T061051Z
DTSTART:20261028T150000Z
DTEND:20261028T155000Z
SUMMARY:Bewegung und Gymnastik 66plus
DESCRIPTION:Ganzheitliches Turnen mit Sigrid H. Bachofner mittwochs 16-16.50 Uhr im Kirchgemeindehaus Bülach, CHF 10.-, ohne Anmeldung.\n\nhttps://eventfrog.at/de/p/sport-fitness/fitness/bewegung-und-gymnastik-66plus-7440079058828837614.html
LOCATION:Ref. Kirchgemeindehaus
GEO:47.516746;8.538084
URL:https://eventfrog.at/de/p/sport-fitness/fitness/bewegung-und-gymnastik-66plus-7440079058828837614.html
END:VEVENT
BEGIN:VEVENT
UID:20260422T061051Z-7440079058946278130@eventfrog.at
DTSTAMP:20260422T061051Z
DTSTART:20261104T150000Z
DTEND:20261104T155000Z
SUMMARY:Bewegung und Gymnastik 66plus
DESCRIPTION:Ganzheitliches Turnen mit Sigrid H. Bachofner mittwochs 16-16.50 Uhr im Kirchgemeindehaus Bülach, CHF 10.-, ohne Anmeldung.\n\nhttps://eventfrog.at/de/p/sport-fitness/fitness/bewegung-und-gymnastik-66plus-7440079058946278130.html
LOCATION:Ref. Kirchgemeindehaus
GEO:47.516746;8.538084
URL:https://eventfrog.at/de/p/sport-fitness/fitness/bewegung-und-gymnastik-66plus-7440079058946278130.html
END:VEVENT
BEGIN:VEVENT
UID:20260422T061051Z-7440079059063718647@eventfrog.at
DTSTAMP:20260422T061051Z
DTSTART:20261111T150000Z
DTEND:20261111T155000Z
SUMMARY:Bewegung und Gymnastik 66plus
DESCRIPTION:Ganzheitliches Turnen mit Sigrid H. Bachofner mittwochs 16-16.50 Uhr im Kirchgemeindehaus Bülach, CHF 10.-, ohne Anmeldung.\n\nhttps://eventfrog.at/de/p/sport-fitness/fitness/bewegung-und-gymnastik-66plus-7440079059063718647.html
LOCATION:Ref. Kirchgemeindehaus
GEO:47.516746;8.538084
URL:https://eventfrog.at/de/p/sport-fitness/fitness/bewegung-und-gymnastik-66plus-7440079059063718647.html
END:VEVENT
BEGIN:VEVENT
UID:20260422T061051Z-7440079059181159161@eventfrog.at
DTSTAMP:20260422T061051Z
DTSTART:20261118T150000Z
DTEND:20261118T155000Z
SUMMARY:Bewegung und Gymnastik 66plus
DESCRIPTION:Ganzheitliches Turnen mit Sigrid H. Bachofner mittwochs 16-16.50 Uhr im Kirchgemeindehaus Bülach, CHF 10.-, ohne Anmeldung.\n\nhttps://eventfrog.at/de/p/sport-fitness/fitness/bewegung-und-gymnastik-66plus-7440079059181159161.html
LOCATION:Ref. Kirchgemeindehaus
GEO:47.516746;8.538084
URL:https://eventfrog.at/de/p/sport-fitness/fitness/bewegung-und-gymnastik-66plus-7440079059181159161.html
END:VEVENT
BEGIN:VEVENT
UID:20260422T061051Z-7440079059302793979@eventfrog.at
DTSTAMP:20260422T061051Z
DTSTART:20261125T150000Z
DTEND:20261125T155000Z
SUMMARY:Bewegung und Gymnastik 66plus
DESCRIPTION:Ganzheitliches Turnen mit Sigrid H. Bachofner mittwochs 16-16.50 Uhr im Kirchgemeindehaus Bülach, CHF 10.-, ohne Anmeldung.\n\nhttps://eventfrog.at/de/p/sport-fitness/fitness/bewegung-und-gymnastik-66plus-7440079059302793979.html
LOCATION:Ref. Kirchgemeindehaus
GEO:47.516746;8.538084
URL:https://eventfrog.at/de/p/sport-fitness/fitness/bewegung-und-gymnastik-66plus-7440079059302793979.html
END:VEVENT
BEGIN:VEVENT
UID:20260422T061051Z-7440079059424428798@eventfrog.at
DTSTAMP:20260422T061051Z
DTSTART:20261202T150000Z
DTEND:20261202T155000Z
SUMMARY:Bewegung und Gymnastik 66plus
DESCRIPTION:Ganzheitliches Turnen mit Sigrid H. Bachofner mittwochs 16-16.50 Uhr im Kirchgemeindehaus Bülach, CHF 10.-, ohne Anmeldung.\n\nhttps://eventfrog.at/de/p/sport-fitness/fitness/bewegung-und-gymnastik-66plus-7440079059424428798.html
LOCATION:Ref. Kirchgemeindehaus
GEO:47.516746;8.538084
URL:https://eventfrog.at/de/p/sport-fitness/fitness/bewegung-und-gymnastik-66plus-7440079059424428798.html
END:VEVENT
BEGIN:VEVENT
UID:20260422T061051Z-7440079059541869312@eventfrog.at
DTSTAMP:20260422T061051Z
DTSTART:20261209T150000Z
DTEND:20261209T155000Z
SUMMARY:Bewegung und Gymnastik 66plus
DESCRIPTION:Ganzheitliches Turnen mit Sigrid H. Bachofner mittwochs 16-16.50 Uhr im Kirchgemeindehaus Bülach, CHF 10.-, ohne Anmeldung.\n\nhttps://eventfrog.at/de/p/sport-fitness/fitness/bewegung-und-gymnastik-66plus-7440079059541869312.html
LOCATION:Ref. Kirchgemeindehaus
GEO:47.516746;8.538084
URL:https://eventfrog.at/de/p/sport-fitness/fitness/bewegung-und-gymnastik-66plus-7440079059541869312.html
END:VEVENT
BEGIN:VEVENT
UID:20260422T061051Z-7440079059667698434@eventfrog.at
DTSTAMP:20260422T061051Z
DTSTART:20261216T150000Z
DTEND:20261216T155000Z
SUMMARY:Bewegung und Gymnastik 66plus
DESCRIPTION:Ganzheitliches Turnen mit Sigrid H. Bachofner mittwochs 16-16.50 Uhr im Kirchgemeindehaus Bülach, CHF 10.-, ohne Anmeldung.\n\nhttps://eventfrog.at/de/p/sport-fitness/fitness/bewegung-und-gymnastik-66plus-7440079059667698434.html
LOCATION:Ref. Kirchgemeindehaus
GEO:47.516746;8.538084
URL:https://eventfrog.at/de/p/sport-fitness/fitness/bewegung-und-gymnastik-66plus-7440079059667698434.html
END:VEVENT
BEGIN:VEVENT
UID:20260422T061051Z-7440079059793527556@eventfrog.at
DTSTAMP:20260422T061051Z
DTSTART:20261223T150000Z
DTEND:20261223T155000Z
SUMMARY:Bewegung und Gymnastik 66plus
DESCRIPTION:Ganzheitliches Turnen mit Sigrid H. Bachofner mittwochs 16-16.50 Uhr im Kirchgemeindehaus Bülach, CHF 10.-, ohne Anmeldung.\n\nhttps://eventfrog.at/de/p/sport-fitness/fitness/bewegung-und-gymnastik-66plus-7440079059793527556.html
LOCATION:Ref. Kirchgemeindehaus
GEO:47.516746;8.538084
URL:https://eventfrog.at/de/p/sport-fitness/fitness/bewegung-und-gymnastik-66plus-7440079059793527556.html
END:VEVENT
END:VCALENDAR