BEGIN:VCALENDAR
VERSION:2.0
PRODID:EVENTFROG//EVENTGROUP//ICAL
BEGIN:VEVENT
UID:20260423T083116Z-7439952695186740219@eventfrog.at
DTSTAMP:20260423T083116Z
DTSTART:20260501T173000Z
DTEND:20260501T200000Z
SUMMARY:Musical «Die fürchterlichen Elf»
DESCRIPTION:Das Musical «Die fürchterlichen Elf» zeigt mit Musik und Humor, wie Toleranz und die Kraft der Gemeinschaft Vorurteile überwinden können.\n\nhttps://eventfrog.at/de/p/musicals-shows/musical/musical-die-fuerchterlichen-elf-7439952695186740219.html
LOCATION:Pädagogische Hochschule St.Gallen (PHSG), Hochschulgebäude Mariaberg
GEO:47.472170;9.494980
URL:https://eventfrog.at/de/p/musicals-shows/musical/musical-die-fuerchterlichen-elf-7439952695186740219.html
END:VEVENT
BEGIN:VEVENT
UID:20260423T083116Z-7439956181471214455@eventfrog.at
DTSTAMP:20260423T083116Z
DTSTART:20260502T173000Z
DTEND:20260502T200000Z
SUMMARY:Musical «Die fürchterlichen Elf»
DESCRIPTION:Das Musical «Die fürchterlichen Elf» zeigt mit Musik und Humor, wie Toleranz und die Kraft der Gemeinschaft Vorurteile überwinden können.\n\nhttps://eventfrog.at/de/p/musicals-shows/musical/musical-die-fuerchterlichen-elf-7439956181471214455.html
LOCATION:Pädagogische Hochschule St.Gallen (PHSG), Hochschulgebäude Mariaberg
GEO:47.472170;9.494980
URL:https://eventfrog.at/de/p/musicals-shows/musical/musical-die-fuerchterlichen-elf-7439956181471214455.html
END:VEVENT
BEGIN:VEVENT
UID:20260423T083116Z-7439956181634792921@eventfrog.at
DTSTAMP:20260423T083116Z
DTSTART:20260504T173000Z
DTEND:20260504T200000Z
SUMMARY:Musical «Die fürchterlichen Elf»
DESCRIPTION:Das Musical «Die fürchterlichen Elf» zeigt mit Musik und Humor, wie Toleranz und die Kraft der Gemeinschaft Vorurteile überwinden können.\n\nhttps://eventfrog.at/de/p/musicals-shows/musical/musical-die-fuerchterlichen-elf-7439956181634792921.html
LOCATION:Pädagogische Hochschule St.Gallen (PHSG), Hochschulgebäude Mariaberg
GEO:47.472170;9.494980
URL:https://eventfrog.at/de/p/musicals-shows/musical/musical-die-fuerchterlichen-elf-7439956181634792921.html
END:VEVENT
BEGIN:VEVENT
UID:20260423T083116Z-7439956181752233435@eventfrog.at
DTSTAMP:20260423T083116Z
DTSTART:20260505T173000Z
DTEND:20260505T200000Z
SUMMARY:Musical «Die fürchterlichen Elf»
DESCRIPTION:Das Musical «Die fürchterlichen Elf» zeigt mit Musik und Humor, wie Toleranz und die Kraft der Gemeinschaft Vorurteile überwinden können.\n\nhttps://eventfrog.at/de/p/musicals-shows/musical/musical-die-fuerchterlichen-elf-7439956181752233435.html
LOCATION:Pädagogische Hochschule St.Gallen (PHSG), Hochschulgebäude Mariaberg
GEO:47.472170;9.494980
URL:https://eventfrog.at/de/p/musicals-shows/musical/musical-die-fuerchterlichen-elf-7439956181752233435.html
END:VEVENT
END:VCALENDAR