BEGIN:VCALENDAR
VERSION:2.0
PRODID:EVENTFROG//EVENTGROUP//ICAL
BEGIN:VEVENT
UID:20260422T033951Z-7437418396432513967@eventfrog.at
DTSTAMP:20260422T033951Z
DTSTART:20260319T180000Z
DTEND:20260319T200000Z
SUMMARY:Kreativität triff Glauben
DESCRIPTION:Das Bibel- (Kunst-) Tagebuch lädt ein, biblische Texte kreativ zu erkunden und persönliche Gedanken künstlerisch auszudrücken.\n\nhttps://eventfrog.at/de/p/religion-feiertage/sonstige-veranstaltungen/kreativitaet-triff-glauben-7437418396432513967.html
LOCATION:Römisch-Katholisch - Pfarramt in Suhr
GEO:47.377348;8.078140
URL:https://eventfrog.at/de/p/religion-feiertage/sonstige-veranstaltungen/kreativitaet-triff-glauben-7437418396432513967.html
END:VEVENT
BEGIN:VEVENT
UID:20260422T033951Z-7437418474203302007@eventfrog.at
DTSTAMP:20260422T033951Z
DTSTART:20260423T170000Z
DTEND:20260423T190000Z
SUMMARY:Kreativität triff Glauben
DESCRIPTION:Das Bibel- (Kunst-) Tagebuch lädt ein, biblische Texte kreativ zu erkunden und persönliche Gedanken künstlerisch auszudrücken.\n\nhttps://eventfrog.at/de/p/religion-feiertage/sonstige-veranstaltungen/kreativitaet-triff-glauben-7437418474203302007.html
LOCATION:Römisch-Katholisch - Pfarramt in Suhr
GEO:47.377348;8.078140
URL:https://eventfrog.at/de/p/religion-feiertage/sonstige-veranstaltungen/kreativitaet-triff-glauben-7437418474203302007.html
END:VEVENT
BEGIN:VEVENT
UID:20260422T033951Z-7437418474324936825@eventfrog.at
DTSTAMP:20260422T033951Z
DTSTART:20260521T170000Z
DTEND:20260521T190000Z
SUMMARY:Kreativität triff Glauben
DESCRIPTION:Das Bibel- (Kunst-) Tagebuch lädt ein, biblische Texte kreativ zu erkunden und persönliche Gedanken künstlerisch auszudrücken.\n\nhttps://eventfrog.at/de/p/religion-feiertage/sonstige-veranstaltungen/kreativitaet-triff-glauben-7437418474324936825.html
LOCATION:Römisch-Katholisch - Pfarramt in Suhr
GEO:47.377348;8.078140
URL:https://eventfrog.at/de/p/religion-feiertage/sonstige-veranstaltungen/kreativitaet-triff-glauben-7437418474324936825.html
END:VEVENT
END:VCALENDAR