BEGIN:VCALENDAR
VERSION:2.0
PRODID:EVENTFROG//EVENTGROUP//ICAL
BEGIN:VEVENT
UID:20260422T045229Z-7432087701975785610@eventfrog.at
DTSTAMP:20260422T045229Z
DTSTART:20260421T173000Z
SUMMARY:Ivanov
DESCRIPTION:D’Anton Tchekhov, mise en scène : Jean-François Sivadier. Avec Nicolas Bouchaud, Yanis Bouferrache, Christian Esnay et d'autres.\n\nhttps://eventfrog.at/fr/p/theatre-scene/theatre/ivanov-7432087701975785610.html
LOCATION:Théâtre de Carouge
GEO:46.181354;6.135742
URL:https://eventfrog.at/fr/p/theatre-scene/theatre/ivanov-7432087701975785610.html
END:VEVENT
BEGIN:VEVENT
UID:20260422T045229Z-7432087702076448916@eventfrog.at
DTSTAMP:20260422T045229Z
DTSTART:20260422T173000Z
SUMMARY:Ivanov
DESCRIPTION:D’Anton Tchekhov, mise en scène : Jean-François Sivadier. Avec Nicolas Bouchaud, Yanis Bouferrache, Christian Esnay et d'autres.\n\nhttps://eventfrog.at/fr/p/theatre-scene/theatre/ivanov-7432087702076448916.html
LOCATION:Théâtre de Carouge
GEO:46.181354;6.135742
URL:https://eventfrog.at/fr/p/theatre-scene/theatre/ivanov-7432087702076448916.html
END:VEVENT
BEGIN:VEVENT
UID:20260422T045229Z-7432087702227444486@eventfrog.at
DTSTAMP:20260422T045229Z
DTSTART:20260423T173000Z
SUMMARY:Ivanov
DESCRIPTION:D’Anton Tchekhov, mise en scène : Jean-François Sivadier. Avec Nicolas Bouchaud, Yanis Bouferrache, Christian Esnay et d'autres.\n\nhttps://eventfrog.at/fr/p/theatre-scene/theatre/ivanov-7432087702227444486.html
LOCATION:Théâtre de Carouge
GEO:46.181354;6.135742
URL:https://eventfrog.at/fr/p/theatre-scene/theatre/ivanov-7432087702227444486.html
END:VEVENT
BEGIN:VEVENT
UID:20260422T045229Z-7432087702357467925@eventfrog.at
DTSTAMP:20260422T045229Z
DTSTART:20260424T173000Z
SUMMARY:Ivanov
DESCRIPTION:D’Anton Tchekhov, mise en scène : Jean-François Sivadier. Avec Nicolas Bouchaud, Yanis Bouferrache, Christian Esnay et d'autres.\n\nhttps://eventfrog.at/fr/p/theatre-scene/theatre/ivanov-7432087702357467925.html
LOCATION:Théâtre de Carouge
GEO:46.181354;6.135742
URL:https://eventfrog.at/fr/p/theatre-scene/theatre/ivanov-7432087702357467925.html
END:VEVENT
BEGIN:VEVENT
UID:20260422T045229Z-7432088014036153472@eventfrog.at
DTSTAMP:20260422T045229Z
DTSTART:20260425T150000Z
SUMMARY:Ivanov
DESCRIPTION:D’Anton Tchekhov, mise en scène : Jean-François Sivadier. Avec Nicolas Bouchaud, Yanis Bouferrache, Christian Esnay et d'autres.\n\nhttps://eventfrog.at/fr/p/theatre-scene/theatre/ivanov-7432088014036153472.html
LOCATION:Théâtre de Carouge
GEO:46.181354;6.135742
URL:https://eventfrog.at/fr/p/theatre-scene/theatre/ivanov-7432088014036153472.html
END:VEVENT
BEGIN:VEVENT
UID:20260422T045229Z-7432088014195537026@eventfrog.at
DTSTAMP:20260422T045229Z
DTSTART:20260426T150000Z
SUMMARY:Ivanov
DESCRIPTION:D’Anton Tchekhov, mise en scène : Jean-François Sivadier. Avec Nicolas Bouchaud, Yanis Bouferrache, Christian Esnay et d'autres.\n\nhttps://eventfrog.at/fr/p/theatre-scene/theatre/ivanov-7432088014195537026.html
LOCATION:Théâtre de Carouge
GEO:46.181354;6.135742
URL:https://eventfrog.at/fr/p/theatre-scene/theatre/ivanov-7432088014195537026.html
END:VEVENT
BEGIN:VEVENT
UID:20260422T045229Z-7432087702487491448@eventfrog.at
DTSTAMP:20260422T045229Z
DTSTART:20260428T173000Z
SUMMARY:Ivanov
DESCRIPTION:D’Anton Tchekhov, mise en scène : Jean-François Sivadier. Avec Nicolas Bouchaud, Yanis Bouferrache, Christian Esnay et d'autres.\n\nhttps://eventfrog.at/fr/p/theatre-scene/theatre/ivanov-7432087702487491448.html
LOCATION:Théâtre de Carouge
GEO:46.181354;6.135742
URL:https://eventfrog.at/fr/p/theatre-scene/theatre/ivanov-7432087702487491448.html
END:VEVENT
BEGIN:VEVENT
UID:20260422T045229Z-7432087702625903499@eventfrog.at
DTSTAMP:20260422T045229Z
DTSTART:20260429T173000Z
SUMMARY:Ivanov
DESCRIPTION:D’Anton Tchekhov, mise en scène : Jean-François Sivadier. Avec Nicolas Bouchaud, Yanis Bouferrache, Christian Esnay et d'autres.\n\nhttps://eventfrog.at/fr/p/theatre-scene/theatre/ivanov-7432087702625903499.html
LOCATION:Théâtre de Carouge
GEO:46.181354;6.135742
URL:https://eventfrog.at/fr/p/theatre-scene/theatre/ivanov-7432087702625903499.html
END:VEVENT
BEGIN:VEVENT
UID:20260422T045229Z-7432087702760121229@eventfrog.at
DTSTAMP:20260422T045229Z
DTSTART:20260430T173000Z
SUMMARY:Ivanov
DESCRIPTION:D’Anton Tchekhov, mise en scène : Jean-François Sivadier. Avec Nicolas Bouchaud, Yanis Bouferrache, Christian Esnay et d'autres.\n\nhttps://eventfrog.at/fr/p/theatre-scene/theatre/ivanov-7432087702760121229.html
LOCATION:Théâtre de Carouge
GEO:46.181354;6.135742
URL:https://eventfrog.at/fr/p/theatre-scene/theatre/ivanov-7432087702760121229.html
END:VEVENT
BEGIN:VEVENT
UID:20260422T045229Z-7432087702890144655@eventfrog.at
DTSTAMP:20260422T045229Z
DTSTART:20260501T173000Z
SUMMARY:Ivanov
DESCRIPTION:D’Anton Tchekhov, mise en scène : Jean-François Sivadier. Avec Nicolas Bouchaud, Yanis Bouferrache, Christian Esnay et d'autres.\n\nhttps://eventfrog.at/fr/p/theatre-scene/theatre/ivanov-7432087702890144655.html
LOCATION:Théâtre de Carouge
GEO:46.181354;6.135742
URL:https://eventfrog.at/fr/p/theatre-scene/theatre/ivanov-7432087702890144655.html
END:VEVENT
BEGIN:VEVENT
UID:20260422T045229Z-7432088014308783236@eventfrog.at
DTSTAMP:20260422T045229Z
DTSTART:20260502T150000Z
SUMMARY:Ivanov
DESCRIPTION:D’Anton Tchekhov, mise en scène : Jean-François Sivadier. Avec Nicolas Bouchaud, Yanis Bouferrache, Christian Esnay et d'autres.\n\nhttps://eventfrog.at/fr/p/theatre-scene/theatre/ivanov-7432088014308783236.html
LOCATION:Théâtre de Carouge
GEO:46.181354;6.135742
URL:https://eventfrog.at/fr/p/theatre-scene/theatre/ivanov-7432088014308783236.html
END:VEVENT
BEGIN:VEVENT
UID:20260422T045229Z-7432088014422029446@eventfrog.at
DTSTAMP:20260422T045229Z
DTSTART:20260503T150000Z
SUMMARY:Ivanov
DESCRIPTION:D’Anton Tchekhov, mise en scène : Jean-François Sivadier. Avec Nicolas Bouchaud, Yanis Bouferrache, Christian Esnay et d'autres.\n\nhttps://eventfrog.at/fr/p/theatre-scene/theatre/ivanov-7432088014422029446.html
LOCATION:Théâtre de Carouge
GEO:46.181354;6.135742
URL:https://eventfrog.at/fr/p/theatre-scene/theatre/ivanov-7432088014422029446.html
END:VEVENT
BEGIN:VEVENT
UID:20260422T045229Z-7432087703015973778@eventfrog.at
DTSTAMP:20260422T045229Z
DTSTART:20260505T173000Z
SUMMARY:Ivanov
DESCRIPTION:D’Anton Tchekhov, mise en scène : Jean-François Sivadier. Avec Nicolas Bouchaud, Yanis Bouferrache, Christian Esnay et d'autres.\n\nhttps://eventfrog.at/fr/p/theatre-scene/theatre/ivanov-7432087703015973778.html
LOCATION:Théâtre de Carouge
GEO:46.181354;6.135742
URL:https://eventfrog.at/fr/p/theatre-scene/theatre/ivanov-7432087703015973778.html
END:VEVENT
BEGIN:VEVENT
UID:20260422T045229Z-7432087703137608677@eventfrog.at
DTSTAMP:20260422T045229Z
DTSTART:20260506T173000Z
SUMMARY:Ivanov
DESCRIPTION:D’Anton Tchekhov, mise en scène : Jean-François Sivadier. Avec Nicolas Bouchaud, Yanis Bouferrache, Christian Esnay et d'autres.\n\nhttps://eventfrog.at/fr/p/theatre-scene/theatre/ivanov-7432087703137608677.html
LOCATION:Théâtre de Carouge
GEO:46.181354;6.135742
URL:https://eventfrog.at/fr/p/theatre-scene/theatre/ivanov-7432087703137608677.html
END:VEVENT
BEGIN:VEVENT
UID:20260422T045229Z-7432087703263437799@eventfrog.at
DTSTAMP:20260422T045229Z
DTSTART:20260507T173000Z
SUMMARY:Ivanov
DESCRIPTION:D’Anton Tchekhov, mise en scène : Jean-François Sivadier. Avec Nicolas Bouchaud, Yanis Bouferrache, Christian Esnay et d'autres.\n\nhttps://eventfrog.at/fr/p/theatre-scene/theatre/ivanov-7432087703263437799.html
LOCATION:Théâtre de Carouge
GEO:46.181354;6.135742
URL:https://eventfrog.at/fr/p/theatre-scene/theatre/ivanov-7432087703263437799.html
END:VEVENT
BEGIN:VEVENT
UID:20260422T045229Z-7432087703389266921@eventfrog.at
DTSTAMP:20260422T045229Z
DTSTART:20260508T173000Z
SUMMARY:Ivanov
DESCRIPTION:D’Anton Tchekhov, mise en scène : Jean-François Sivadier. Avec Nicolas Bouchaud, Yanis Bouferrache, Christian Esnay et d'autres.\n\nhttps://eventfrog.at/fr/p/theatre-scene/theatre/ivanov-7432087703389266921.html
LOCATION:Théâtre de Carouge
GEO:46.181354;6.135742
URL:https://eventfrog.at/fr/p/theatre-scene/theatre/ivanov-7432087703389266921.html
END:VEVENT
BEGIN:VEVENT
UID:20260422T045229Z-7432088014539469960@eventfrog.at
DTSTAMP:20260422T045229Z
DTSTART:20260509T150000Z
SUMMARY:Ivanov
DESCRIPTION:D’Anton Tchekhov, mise en scène : Jean-François Sivadier. Avec Nicolas Bouchaud, Yanis Bouferrache, Christian Esnay et d'autres.\n\nhttps://eventfrog.at/fr/p/theatre-scene/theatre/ivanov-7432088014539469960.html
LOCATION:Théâtre de Carouge
GEO:46.181354;6.135742
URL:https://eventfrog.at/fr/p/theatre-scene/theatre/ivanov-7432088014539469960.html
END:VEVENT
BEGIN:VEVENT
UID:20260422T045229Z-7432088014665299082@eventfrog.at
DTSTAMP:20260422T045229Z
DTSTART:20260510T150000Z
SUMMARY:Ivanov
DESCRIPTION:D’Anton Tchekhov, mise en scène : Jean-François Sivadier. Avec Nicolas Bouchaud, Yanis Bouferrache, Christian Esnay et d'autres.\n\nhttps://eventfrog.at/fr/p/theatre-scene/theatre/ivanov-7432088014665299082.html
LOCATION:Théâtre de Carouge
GEO:46.181354;6.135742
URL:https://eventfrog.at/fr/p/theatre-scene/theatre/ivanov-7432088014665299082.html
END:VEVENT
END:VCALENDAR