BEGIN:VCALENDAR
VERSION:2.0
PRODID:EVENTFROG//EVENTGROUP//ICAL
BEGIN:VEVENT
UID:20260422T033951Z-7425230232880210680@eventfrog.at
DTSTAMP:20260422T033951Z
DTSTART:20260326T080000Z
DTEND:20260326T100000Z
SUMMARY:Kultur(en)café
DESCRIPTION:Im Kultur(en)café treffen dich Neuzuzüger:innen und Kulturinteressierte zum gegenseitigen Kennenlernen und Austauschen.\n\nhttps://eventfrog.at/de/p/diverses/kultur-en-cafe-7425230232880210680.html
LOCATION:Katholisches Pfarreizentrum
GEO:47.243879;7.972085
URL:https://eventfrog.at/de/p/diverses/kultur-en-cafe-7425230232880210680.html
END:VEVENT
BEGIN:VEVENT
UID:20260422T033951Z-7425230475025731418@eventfrog.at
DTSTAMP:20260422T033951Z
DTSTART:20260423T070000Z
DTEND:20260423T090000Z
SUMMARY:Kultur(en)café
DESCRIPTION:Im Kultur(en)café treffen dich Neuzuzüger:innen und Kulturinteressierte zum gegenseitigen Kennenlernen und Austauschen.\n\nhttps://eventfrog.at/de/p/diverses/kultur-en-cafe-7425230475025731418.html
LOCATION:Katholisches Pfarreizentrum
GEO:47.243879;7.972085
URL:https://eventfrog.at/de/p/diverses/kultur-en-cafe-7425230475025731418.html
END:VEVENT
BEGIN:VEVENT
UID:20260422T033951Z-7425230475088645979@eventfrog.at
DTSTAMP:20260422T033951Z
DTSTART:20260521T070000Z
DTEND:20260521T090000Z
SUMMARY:Kultur(en)café
DESCRIPTION:Im Kultur(en)café treffen dich Neuzuzüger:innen und Kulturinteressierte zum gegenseitigen Kennenlernen und Austauschen.\n\nhttps://eventfrog.at/de/p/diverses/kultur-en-cafe-7425230475088645979.html
LOCATION:Katholisches Pfarreizentrum
GEO:47.243879;7.972085
URL:https://eventfrog.at/de/p/diverses/kultur-en-cafe-7425230475088645979.html
END:VEVENT
BEGIN:VEVENT
UID:20260422T033951Z-7425230475151560540@eventfrog.at
DTSTAMP:20260422T033951Z
DTSTART:20260618T070000Z
DTEND:20260618T090000Z
SUMMARY:Kultur(en)café
DESCRIPTION:Im Kultur(en)café treffen dich Neuzuzüger:innen und Kulturinteressierte zum gegenseitigen Kennenlernen und Austauschen.\n\nhttps://eventfrog.at/de/p/diverses/kultur-en-cafe-7425230475151560540.html
LOCATION:Katholisches Pfarreizentrum
GEO:47.243879;7.972085
URL:https://eventfrog.at/de/p/diverses/kultur-en-cafe-7425230475151560540.html
END:VEVENT
END:VCALENDAR