BEGIN:VCALENDAR
VERSION:2.0
PRODID:EVENTFROG//EVENTGROUP//ICAL
BEGIN:VEVENT
UID:20260422T061051Z-7422753663154680618@eventfrog.at
DTSTAMP:20260422T061051Z
DTSTART:20260218T180000Z
DTEND:20260218T190000Z
SUMMARY:Stille-Oase
DESCRIPTION:Silvia Spycher leitet eine Stunde stille Meditation für alle, um innere Ruhe,  Freude und Vertrauen zu stärken.\n\nhttps://eventfrog.at/de/p/gesundheit-spiritualitaet/spiritualitaet/stille-oase-7422753663154680618.html
LOCATION:Kirchstrasse 3
GEO:47.442424;9.139453
URL:https://eventfrog.at/de/p/gesundheit-spiritualitaet/spiritualitaet/stille-oase-7422753663154680618.html
END:VEVENT
BEGIN:VEVENT
UID:20260422T061051Z-7422753785456398836@eventfrog.at
DTSTAMP:20260422T061051Z
DTSTART:20260304T180000Z
DTEND:20260304T190000Z
SUMMARY:Stille-Oase
DESCRIPTION:Silvia Spycher leitet eine Stunde stille Meditation für alle, um innere Ruhe,  Freude und Vertrauen zu stärken.\n\nhttps://eventfrog.at/de/p/gesundheit-spiritualitaet/spiritualitaet/stille-oase-7422753785456398836.html
LOCATION:Kirchstrasse 3
GEO:47.442424;9.139453
URL:https://eventfrog.at/de/p/gesundheit-spiritualitaet/spiritualitaet/stille-oase-7422753785456398836.html
END:VEVENT
BEGIN:VEVENT
UID:20260422T061051Z-7422753785607394406@eventfrog.at
DTSTAMP:20260422T061051Z
DTSTART:20260318T180000Z
DTEND:20260318T190000Z
SUMMARY:Stille-Oase
DESCRIPTION:Silvia Spycher leitet eine Stunde stille Meditation für alle, um innere Ruhe,  Freude und Vertrauen zu stärken.\n\nhttps://eventfrog.at/de/p/gesundheit-spiritualitaet/spiritualitaet/stille-oase-7422753785607394406.html
LOCATION:Kirchstrasse 3
GEO:47.442424;9.139453
URL:https://eventfrog.at/de/p/gesundheit-spiritualitaet/spiritualitaet/stille-oase-7422753785607394406.html
END:VEVENT
BEGIN:VEVENT
UID:20260422T061051Z-7422753785724834932@eventfrog.at
DTSTAMP:20260422T061051Z
DTSTART:20260325T180000Z
DTEND:20260325T190000Z
SUMMARY:Stille-Oase
DESCRIPTION:Silvia Spycher leitet eine Stunde stille Meditation für alle, um innere Ruhe,  Freude und Vertrauen zu stärken.\n\nhttps://eventfrog.at/de/p/gesundheit-spiritualitaet/spiritualitaet/stille-oase-7422753785724834932.html
LOCATION:Kirchstrasse 3
GEO:47.442424;9.139453
URL:https://eventfrog.at/de/p/gesundheit-spiritualitaet/spiritualitaet/stille-oase-7422753785724834932.html
END:VEVENT
BEGIN:VEVENT
UID:20260422T061051Z-7422753785867441335@eventfrog.at
DTSTAMP:20260422T061051Z
DTSTART:20260422T170000Z
DTEND:20260422T180000Z
SUMMARY:Stille-Oase
DESCRIPTION:Silvia Spycher leitet eine Stunde stille Meditation für alle, um innere Ruhe,  Freude und Vertrauen zu stärken.\n\nhttps://eventfrog.at/de/p/gesundheit-spiritualitaet/spiritualitaet/stille-oase-7422753785867441335.html
LOCATION:Kirchstrasse 3
GEO:47.442424;9.139453
URL:https://eventfrog.at/de/p/gesundheit-spiritualitaet/spiritualitaet/stille-oase-7422753785867441335.html
END:VEVENT
BEGIN:VEVENT
UID:20260422T061051Z-7422753785997464773@eventfrog.at
DTSTAMP:20260422T061051Z
DTSTART:20260429T170000Z
DTEND:20260429T180000Z
SUMMARY:Stille-Oase
DESCRIPTION:Silvia Spycher leitet eine Stunde stille Meditation für alle, um innere Ruhe,  Freude und Vertrauen zu stärken.\n\nhttps://eventfrog.at/de/p/gesundheit-spiritualitaet/spiritualitaet/stille-oase-7422753785997464773.html
LOCATION:Kirchstrasse 3
GEO:47.442424;9.139453
URL:https://eventfrog.at/de/p/gesundheit-spiritualitaet/spiritualitaet/stille-oase-7422753785997464773.html
END:VEVENT
BEGIN:VEVENT
UID:20260422T061051Z-7422753786123293895@eventfrog.at
DTSTAMP:20260422T061051Z
DTSTART:20260506T170000Z
DTEND:20260506T180000Z
SUMMARY:Stille-Oase
DESCRIPTION:Silvia Spycher leitet eine Stunde stille Meditation für alle, um innere Ruhe,  Freude und Vertrauen zu stärken.\n\nhttps://eventfrog.at/de/p/gesundheit-spiritualitaet/spiritualitaet/stille-oase-7422753786123293895.html
LOCATION:Kirchstrasse 3
GEO:47.442424;9.139453
URL:https://eventfrog.at/de/p/gesundheit-spiritualitaet/spiritualitaet/stille-oase-7422753786123293895.html
END:VEVENT
BEGIN:VEVENT
UID:20260422T061051Z-7422753786257511699@eventfrog.at
DTSTAMP:20260422T061051Z
DTSTART:20260520T170000Z
DTEND:20260520T180000Z
SUMMARY:Stille-Oase
DESCRIPTION:Silvia Spycher leitet eine Stunde stille Meditation für alle, um innere Ruhe,  Freude und Vertrauen zu stärken.\n\nhttps://eventfrog.at/de/p/gesundheit-spiritualitaet/spiritualitaet/stille-oase-7422753786257511699.html
LOCATION:Kirchstrasse 3
GEO:47.442424;9.139453
URL:https://eventfrog.at/de/p/gesundheit-spiritualitaet/spiritualitaet/stille-oase-7422753786257511699.html
END:VEVENT
END:VCALENDAR