BEGIN:VCALENDAR
VERSION:2.0
PRODID:EVENTFROG//EVENTGROUP//ICAL
BEGIN:VEVENT
UID:20260422T045228Z-7421904666257040117@eventfrog.at
DTSTAMP:20260422T045228Z
DTSTART:20260421T180000Z
SUMMARY:46 rue de Berne
DESCRIPTION:D’après les lettres de Grisélidis Réal à Jean-Luc Hennig, adaptation et mise en scène : Françoise Courvoisier. Avec Martine Schambacher et Françoise Courvoisier.\n\nhttps://eventfrog.at/fr/p/theatre-scene/theatre/46-rue-de-berne-7421904666257040117.html
LOCATION:Les Amis musiquethéâtre
GEO:46.185198;6.139926
URL:https://eventfrog.at/fr/p/theatre-scene/theatre/46-rue-de-berne-7421904666257040117.html
END:VEVENT
BEGIN:VEVENT
UID:20260422T045228Z-7421905226892837688@eventfrog.at
DTSTAMP:20260422T045228Z
DTSTART:20260422T170000Z
SUMMARY:46 rue de Berne
DESCRIPTION:D’après les lettres de Grisélidis Réal à Jean-Luc Hennig, adaptation et mise en scène : Françoise Courvoisier. Avec Martine Schambacher et Françoise Courvoisier.\n\nhttps://eventfrog.at/fr/p/theatre-scene/theatre/46-rue-de-berne-7421905226892837688.html
LOCATION:Les Amis musiquethéâtre
GEO:46.185198;6.139926
URL:https://eventfrog.at/fr/p/theatre-scene/theatre/46-rue-de-berne-7421905226892837688.html
END:VEVENT
BEGIN:VEVENT
UID:20260422T045228Z-7421905227001889594@eventfrog.at
DTSTAMP:20260422T045228Z
DTSTART:20260423T170000Z
SUMMARY:46 rue de Berne
DESCRIPTION:D’après les lettres de Grisélidis Réal à Jean-Luc Hennig, adaptation et mise en scène : Françoise Courvoisier. Avec Martine Schambacher et Françoise Courvoisier.\n\nhttps://eventfrog.at/fr/p/theatre-scene/theatre/46-rue-de-berne-7421905227001889594.html
LOCATION:Les Amis musiquethéâtre
GEO:46.185198;6.139926
URL:https://eventfrog.at/fr/p/theatre-scene/theatre/46-rue-de-berne-7421905227001889594.html
END:VEVENT
BEGIN:VEVENT
UID:20260422T045228Z-7421904964488844621@eventfrog.at
DTSTAMP:20260422T045228Z
DTSTART:20260424T180000Z
SUMMARY:46 rue de Berne
DESCRIPTION:D’après les lettres de Grisélidis Réal à Jean-Luc Hennig, adaptation et mise en scène : Françoise Courvoisier. Avec Martine Schambacher et Françoise Courvoisier.\n\nhttps://eventfrog.at/fr/p/theatre-scene/theatre/46-rue-de-berne-7421904964488844621.html
LOCATION:Les Amis musiquethéâtre
GEO:46.185198;6.139926
URL:https://eventfrog.at/fr/p/theatre-scene/theatre/46-rue-de-berne-7421904964488844621.html
END:VEVENT
BEGIN:VEVENT
UID:20260422T045228Z-7421905227115135804@eventfrog.at
DTSTAMP:20260422T045228Z
DTSTART:20260425T170000Z
SUMMARY:46 rue de Berne
DESCRIPTION:D’après les lettres de Grisélidis Réal à Jean-Luc Hennig, adaptation et mise en scène : Françoise Courvoisier. Avec Martine Schambacher et Françoise Courvoisier.\n\nhttps://eventfrog.at/fr/p/theatre-scene/theatre/46-rue-de-berne-7421905227115135804.html
LOCATION:Les Amis musiquethéâtre
GEO:46.185198;6.139926
URL:https://eventfrog.at/fr/p/theatre-scene/theatre/46-rue-de-berne-7421905227115135804.html
END:VEVENT
BEGIN:VEVENT
UID:20260422T045228Z-7421905486943887945@eventfrog.at
DTSTAMP:20260422T045228Z
DTSTART:20260426T150000Z
SUMMARY:46 rue de Berne
DESCRIPTION:D’après les lettres de Grisélidis Réal à Jean-Luc Hennig, adaptation et mise en scène : Françoise Courvoisier. Avec Martine Schambacher et Françoise Courvoisier.\n\nhttps://eventfrog.at/fr/p/theatre-scene/theatre/46-rue-de-berne-7421905486943887945.html
LOCATION:Les Amis musiquethéâtre
GEO:46.185198;6.139926
URL:https://eventfrog.at/fr/p/theatre-scene/theatre/46-rue-de-berne-7421905486943887945.html
END:VEVENT
BEGIN:VEVENT
UID:20260422T045228Z-7421904964644034495@eventfrog.at
DTSTAMP:20260422T045228Z
DTSTART:20260428T180000Z
SUMMARY:46 rue de Berne
DESCRIPTION:D’après les lettres de Grisélidis Réal à Jean-Luc Hennig, adaptation et mise en scène : Françoise Courvoisier. Avec Martine Schambacher et Françoise Courvoisier.\n\nhttps://eventfrog.at/fr/p/theatre-scene/theatre/46-rue-de-berne-7421904964644034495.html
LOCATION:Les Amis musiquethéâtre
GEO:46.185198;6.139926
URL:https://eventfrog.at/fr/p/theatre-scene/theatre/46-rue-de-berne-7421904964644034495.html
END:VEVENT
BEGIN:VEVENT
UID:20260422T045228Z-7421905227253547838@eventfrog.at
DTSTAMP:20260422T045228Z
DTSTART:20260429T170000Z
SUMMARY:46 rue de Berne
DESCRIPTION:D’après les lettres de Grisélidis Réal à Jean-Luc Hennig, adaptation et mise en scène : Françoise Courvoisier. Avec Martine Schambacher et Françoise Courvoisier.\n\nhttps://eventfrog.at/fr/p/theatre-scene/theatre/46-rue-de-berne-7421905227253547838.html
LOCATION:Les Amis musiquethéâtre
GEO:46.185198;6.139926
URL:https://eventfrog.at/fr/p/theatre-scene/theatre/46-rue-de-berne-7421905227253547838.html
END:VEVENT
BEGIN:VEVENT
UID:20260422T045228Z-7421905227362599744@eventfrog.at
DTSTAMP:20260422T045228Z
DTSTART:20260430T170000Z
SUMMARY:46 rue de Berne
DESCRIPTION:D’après les lettres de Grisélidis Réal à Jean-Luc Hennig, adaptation et mise en scène : Françoise Courvoisier. Avec Martine Schambacher et Françoise Courvoisier.\n\nhttps://eventfrog.at/fr/p/theatre-scene/theatre/46-rue-de-berne-7421905227362599744.html
LOCATION:Les Amis musiquethéâtre
GEO:46.185198;6.139926
URL:https://eventfrog.at/fr/p/theatre-scene/theatre/46-rue-de-berne-7421905227362599744.html
END:VEVENT
BEGIN:VEVENT
UID:20260422T045228Z-7421904964757280719@eventfrog.at
DTSTAMP:20260422T045228Z
DTSTART:20260501T180000Z
SUMMARY:46 rue de Berne
DESCRIPTION:D’après les lettres de Grisélidis Réal à Jean-Luc Hennig, adaptation et mise en scène : Françoise Courvoisier. Avec Martine Schambacher et Françoise Courvoisier.\n\nhttps://eventfrog.at/fr/p/theatre-scene/theatre/46-rue-de-berne-7421904964757280719.html
LOCATION:Les Amis musiquethéâtre
GEO:46.185198;6.139926
URL:https://eventfrog.at/fr/p/theatre-scene/theatre/46-rue-de-berne-7421904964757280719.html
END:VEVENT
BEGIN:VEVENT
UID:20260422T045228Z-7421905227471651697@eventfrog.at
DTSTAMP:20260422T045228Z
DTSTART:20260502T170000Z
SUMMARY:46 rue de Berne
DESCRIPTION:D’après les lettres de Grisélidis Réal à Jean-Luc Hennig, adaptation et mise en scène : Françoise Courvoisier. Avec Martine Schambacher et Françoise Courvoisier.\n\nhttps://eventfrog.at/fr/p/theatre-scene/theatre/46-rue-de-berne-7421905227471651697.html
LOCATION:Les Amis musiquethéâtre
GEO:46.185198;6.139926
URL:https://eventfrog.at/fr/p/theatre-scene/theatre/46-rue-de-berne-7421905227471651697.html
END:VEVENT
END:VCALENDAR