BEGIN:VCALENDAR
VERSION:2.0
PRODID:EVENTFROG//EVENTGROUP//ICAL
BEGIN:VEVENT
UID:20260422T060547Z-7416546173517844547@eventfrog.at
DTSTAMP:20260422T060547Z
DTSTART:20260417T180000Z
SUMMARY:Gillä, Mischt und Scheenheitswahn
DESCRIPTION:Schwank in 3 Akten von Lukas Bühler / Theaterverlag Breuninger\nEintritt frei; Türkollekte\n\nhttps://eventfrog.at/de/p/theater-buehne/theater/gillae-mischt-und-scheenheitswahn-7416546173517844547.html
LOCATION:Mehrzweckgebäude Winkel
GEO:46.882315;8.645201
URL:https://eventfrog.at/de/p/theater-buehne/theater/gillae-mischt-und-scheenheitswahn-7416546173517844547.html
END:VEVENT
BEGIN:VEVENT
UID:20260422T060547Z-7416546470990486777@eventfrog.at
DTSTAMP:20260422T060547Z
DTSTART:20260418T180000Z
SUMMARY:Gillä, Mischt und Scheenheitswahn
DESCRIPTION:Schwank in 3 Akten von Lukas Bühler / Theaterverlag Breuninger\nEintritt frei; Türkollekte\n\nhttps://eventfrog.at/de/p/theater-buehne/theater/gillae-mischt-und-scheenheitswahn-7416546470990486777.html
LOCATION:Mehrzweckgebäude Winkel
GEO:46.882315;8.645201
URL:https://eventfrog.at/de/p/theater-buehne/theater/gillae-mischt-und-scheenheitswahn-7416546470990486777.html
END:VEVENT
BEGIN:VEVENT
UID:20260422T060547Z-7416546471112122219@eventfrog.at
DTSTAMP:20260422T060547Z
DTSTART:20260422T180000Z
SUMMARY:Gillä, Mischt und Scheenheitswahn
DESCRIPTION:Schwank in 3 Akten von Lukas Bühler / Theaterverlag Breuninger\nEintritt frei; Türkollekte\n\nhttps://eventfrog.at/de/p/theater-buehne/theater/gillae-mischt-und-scheenheitswahn-7416546471112122219.html
LOCATION:Mehrzweckgebäude Winkel
GEO:46.882315;8.645201
URL:https://eventfrog.at/de/p/theater-buehne/theater/gillae-mischt-und-scheenheitswahn-7416546471112122219.html
END:VEVENT
BEGIN:VEVENT
UID:20260422T060547Z-7416546471225368429@eventfrog.at
DTSTAMP:20260422T060547Z
DTSTART:20260423T180000Z
SUMMARY:Gillä, Mischt und Scheenheitswahn
DESCRIPTION:Schwank in 3 Akten von Lukas Bühler / Theaterverlag Breuninger\nEintritt frei; Türkollekte\n\nhttps://eventfrog.at/de/p/theater-buehne/theater/gillae-mischt-und-scheenheitswahn-7416546471225368429.html
LOCATION:Mehrzweckgebäude Winkel
GEO:46.882315;8.645201
URL:https://eventfrog.at/de/p/theater-buehne/theater/gillae-mischt-und-scheenheitswahn-7416546471225368429.html
END:VEVENT
BEGIN:VEVENT
UID:20260422T060547Z-7416546471342809013@eventfrog.at
DTSTAMP:20260422T060547Z
DTSTART:20260424T180000Z
SUMMARY:Gillä, Mischt und Scheenheitswahn
DESCRIPTION:Schwank in 3 Akten von Lukas Bühler / Theaterverlag Breuninger\nEintritt frei; Türkollekte\n\nhttps://eventfrog.at/de/p/theater-buehne/theater/gillae-mischt-und-scheenheitswahn-7416546471342809013.html
LOCATION:Mehrzweckgebäude Winkel
GEO:46.882315;8.645201
URL:https://eventfrog.at/de/p/theater-buehne/theater/gillae-mischt-und-scheenheitswahn-7416546471342809013.html
END:VEVENT
END:VCALENDAR