BEGIN:VCALENDAR
VERSION:2.0
PRODID:EVENTFROG//EVENTGROUP//ICAL
BEGIN:VEVENT
UID:20260424T111429Z-7394662026226724357@eventfrog.at
DTSTAMP:20260424T111429Z
DTSTART:20260512T180000Z
SUMMARY:Helga Schneider - Ich weiss
DESCRIPTION:Comedy ganz in Weiss – mit schwarzem Humor und altklugen Weisheiten.\n\n\nhttps://eventfrog.at/de/p/theater-buehne/comedy-kabarett/helga-schneider-ich-weiss-7394662026226724357.html
LOCATION:Theater Fauteuil - Tabourettli
GEO:47.557349;7.586407
URL:https://eventfrog.at/de/p/theater-buehne/comedy-kabarett/helga-schneider-ich-weiss-7394662026226724357.html
END:VEVENT
BEGIN:VEVENT
UID:20260424T111429Z-7394662108623831203@eventfrog.at
DTSTAMP:20260424T111429Z
DTSTART:20260513T180000Z
SUMMARY:Helga Schneider - Ich weiss
DESCRIPTION:Comedy ganz in Weiss – mit schwarzem Humor und altklugen Weisheiten.\n\n\nhttps://eventfrog.at/de/p/theater-buehne/comedy-kabarett/helga-schneider-ich-weiss-7394662108623831203.html
LOCATION:Theater Fauteuil - Tabourettli
GEO:47.557349;7.586407
URL:https://eventfrog.at/de/p/theater-buehne/comedy-kabarett/helga-schneider-ich-weiss-7394662108623831203.html
END:VEVENT
BEGIN:VEVENT
UID:20260424T111429Z-7394662108753855165@eventfrog.at
DTSTAMP:20260424T111429Z
DTSTART:20260514T180000Z
SUMMARY:Helga Schneider - Ich weiss
DESCRIPTION:Comedy ganz in Weiss – mit schwarzem Humor und altklugen Weisheiten.\n\n\nhttps://eventfrog.at/de/p/theater-buehne/comedy-kabarett/helga-schneider-ich-weiss-7394662108753855165.html
LOCATION:Theater Fauteuil - Tabourettli
GEO:47.557349;7.586407
URL:https://eventfrog.at/de/p/theater-buehne/comedy-kabarett/helga-schneider-ich-weiss-7394662108753855165.html
END:VEVENT
BEGIN:VEVENT
UID:20260424T111429Z-7394662108871295783@eventfrog.at
DTSTAMP:20260424T111429Z
DTSTART:20260515T180000Z
SUMMARY:Helga Schneider - Ich weiss
DESCRIPTION:Comedy ganz in Weiss – mit schwarzem Humor und altklugen Weisheiten.\n\n\nhttps://eventfrog.at/de/p/theater-buehne/comedy-kabarett/helga-schneider-ich-weiss-7394662108871295783.html
LOCATION:Theater Fauteuil - Tabourettli
GEO:47.557349;7.586407
URL:https://eventfrog.at/de/p/theater-buehne/comedy-kabarett/helga-schneider-ich-weiss-7394662108871295783.html
END:VEVENT
BEGIN:VEVENT
UID:20260424T111429Z-7394662108988736366@eventfrog.at
DTSTAMP:20260424T111429Z
DTSTART:20260516T180000Z
SUMMARY:Helga Schneider - Ich weiss
DESCRIPTION:Comedy ganz in Weiss – mit schwarzem Humor und altklugen Weisheiten.\n\n\nhttps://eventfrog.at/de/p/theater-buehne/comedy-kabarett/helga-schneider-ich-weiss-7394662108988736366.html
LOCATION:Theater Fauteuil - Tabourettli
GEO:47.557349;7.586407
URL:https://eventfrog.at/de/p/theater-buehne/comedy-kabarett/helga-schneider-ich-weiss-7394662108988736366.html
END:VEVENT
END:VCALENDAR