BEGIN:VCALENDAR
VERSION:2.0
PRODID:EVENTFROG//EVENTGROUP//ICAL
BEGIN:VEVENT
UID:20260424T111455Z-7348424226225785269@eventfrog.at
DTSTAMP:20260424T111455Z
DTSTART:20260511T180000Z
SUMMARY:Claudio Zuccolini - Der Aufreger
DESCRIPTION:Sein mittlerweile 7. Programm!\n\nhttps://eventfrog.at/de/p/theater-buehne/comedy-kabarett/claudio-zuccolini-der-aufreger-7348424226225785269.html
LOCATION:Theater Fauteuil
GEO:47.557349;7.586407
URL:https://eventfrog.at/de/p/theater-buehne/comedy-kabarett/claudio-zuccolini-der-aufreger-7348424226225785269.html
END:VEVENT
BEGIN:VEVENT
UID:20260424T111455Z-7348424303354844023@eventfrog.at
DTSTAMP:20260424T111455Z
DTSTART:20260512T180000Z
SUMMARY:Claudio Zuccolini - Der Aufreger
DESCRIPTION:Sein mittlerweile 7. Programm!\n\nhttps://eventfrog.at/de/p/theater-buehne/comedy-kabarett/claudio-zuccolini-der-aufreger-7348424303354844023.html
LOCATION:Theater Fauteuil
GEO:47.557349;7.586407
URL:https://eventfrog.at/de/p/theater-buehne/comedy-kabarett/claudio-zuccolini-der-aufreger-7348424303354844023.html
END:VEVENT
END:VCALENDAR