BEGIN:VCALENDAR
VERSION:2.0
PRODID:EVENTFROG//EVENT//ICAL
BEGIN:VEVENT
UID:20260424T140656Z-7453372681473238866@eventfrog.at
DTSTAMP:20260424T140656Z
DTSTART:20260627T120000Z
DTEND:20260627T170000Z
SUMMARY:Summer-Kunschti
DESCRIPTION:Die Summer-Kunschti Margarethen geht in die nächste Runde! Entdecke eine bunte Welt aus Sport, Spiel und Spass. Spielmaterial kann vor Ort gegen ein Pfand ausgeliehen oder selber mitgebracht werden.\n\nhttps://eventfrog.at/de/p/kinderveranstaltungen/familienveranstaltungen/summer-kunschti-7453372681473238866.html
LOCATION:Kunsteisbahn Margarethen
GEO:47.540713;7.586089
URL:https://eventfrog.at/de/p/kinderveranstaltungen/familienveranstaltungen/summer-kunschti-7453372681473238866.html
END:VEVENT
END:VCALENDAR